BEGIN:VCALENDAR
VERSION:2.0
PRODID:-//Welcome To Ely - ECPv6.15.20//NONSGML v1.0//EN
CALSCALE:GREGORIAN
METHOD:PUBLISH
X-WR-CALNAME:Welcome To Ely
X-ORIGINAL-URL:https://elynevada.net
X-WR-CALDESC:Events for Welcome To Ely
REFRESH-INTERVAL;VALUE=DURATION:PT1H
X-Robots-Tag:noindex
X-PUBLISHED-TTL:PT1H
BEGIN:VTIMEZONE
TZID:UTC
BEGIN:STANDARD
TZOFFSETFROM:+0000
TZOFFSETTO:+0000
TZNAME:UTC
DTSTART:20190101T000000
END:STANDARD
END:VTIMEZONE
BEGIN:VEVENT
DTSTART;TZID=UTC:20200912T080000
DTEND;TZID=UTC:20200912T130000
DTSTAMP:20260425T200022
CREATED:20200228T095129Z
LAST-MODIFIED:20200904T010512Z
UID:10000343-1599897600-1599915600@elynevada.net
SUMMARY:Race the Rails - 2020 #RideElyNV
DESCRIPTION:Race the Rails – 2020\nThis event is committed to taking any and all necessary steps to maintain the\nhealth and safety of both our Guests and Team Members.\nFor Our Operating Plan and Safety Measures For Covid-19 Click HERE\nThe steam locomotive and the bicycle were invented nearly 10 years apart. Both changed the way we travel\, but which will prevail on September 12 at the Race The Rails – 2020? \nAt the sound of the train whistle\, mountain and road bikers race to see who can get back to the depot before the train. \nMountain bikers test their speed and agility on a challenging 10 mile course through the beautiful mountains surrounding Ely\, while road bikers prove their speed and endurance on a 25 mile course along roads and highways in the area. Everyone who finishes the course will receive a finisher’s medal. \nThis is not a regular race against time\, or your fellow riders. It’s a race against one of histories most powerful inventions! It’s Race the Rails – 2020! \nTickets and additional info can be found here! \nSee what Ely offers in lodging by clicking here! \nWe are a remote mountain town of 4\,000 where history\, art\, and outdoor adventure run deep. In the nearby Great Basin National Park\, travelers have the chance to descend into the depths of the Lehman Cave system to explore a series of limestone and marble caverns full of huge stalagmites and other wild rock formations. The park is also home to the snow-capped Wheeler Peak which\, at 13\,000 feet\, is the second-tallest mountain in Nevada.
URL:https://elynevada.net/event/race-the-rails-2020-rideelynv/
LOCATION:Ely\, NV\, 89301\, United States
CATEGORIES:Community,History,Races,Sports
ATTACH;FMTTYPE=image/jpeg:https://elynevada.net/wp-content/uploads/2018/11/train-bikes.jpg
END:VEVENT
END:VCALENDAR