BEGIN:VCALENDAR
VERSION:2.0
PRODID:-//Welcome To Ely - ECPv6.15.20//NONSGML v1.0//EN
CALSCALE:GREGORIAN
METHOD:PUBLISH
X-WR-CALNAME:Welcome To Ely
X-ORIGINAL-URL:https://elynevada.net
X-WR-CALDESC:Events for Welcome To Ely
REFRESH-INTERVAL;VALUE=DURATION:PT1H
X-Robots-Tag:noindex
X-PUBLISHED-TTL:PT1H
BEGIN:VTIMEZONE
TZID:UTC
BEGIN:STANDARD
TZOFFSETFROM:+0000
TZOFFSETTO:+0000
TZNAME:UTC
DTSTART:20200101T000000
END:STANDARD
END:VTIMEZONE
BEGIN:VEVENT
DTSTART;VALUE=DATE:20210612
DTEND;VALUE=DATE:20210613
DTSTAMP:20260424T210410
CREATED:20210312T032452Z
LAST-MODIFIED:20210325T014226Z
UID:10000386-1623456000-1623542399@elynevada.net
SUMMARY:Fears\, Tears\, and Beers 2021
DESCRIPTION:Fears\, Tears\, and Beers 2021\n*Fears\, Tears\, and Beers 2021 is committed to taking any and all necessary steps to maintain the health and safety of both our Guests and Team Members* \nFor Our Operating Plan and Safety Measures for Covid-19 Click HERE\nFears\, Tears\, and Beers 2021 is the enduro format mountain bike event of the season! Pedal your bike to the top of the mountain and then you are timed at specific sections of the course. There will be 2-6 timed sections\, mostly twisty downhills and sprint sections. The sum of the times on these special tests will determine the winner.\n\nThe event takes place on BLM and USFS administered lands under special use permits.\n\nMen’s and women’s events for all classes.\n\nFun Run: Shorter in length and less climbing than the beginner class\, 2 timed sections\nBeginner Class: 17.5 miles\, 2\,300′ elevation gain\, 3 timed sections\nSport Class: 26.6 miles\, 3\,500′ elevation gain\, 4 timed sections\nExpert/Pro Class: 33.3 miles\, 5\,400′ elevation gain\, 6 timed sections\nBe prepared for the weather. We have had everything from hot and sunny to very wet and snowing. \nAfter-party/awards ceremony at Bristlecone Convention Center\nRacers eat free\, others will need purchase wristband for $10.\n\nThe event is also great for visitors. Music and celebrating all day at Broadbent Park. Bring your binoculars and lawn chairs to watch the Expert and Pro classes take on the final downhill timed section.\n\nJune 12th – Check in begins at 8:00 a.m. Races start 9 a.m.\nFun Ride\, Beginners\, Sport\, Expert and Pro\n1st 2nd and 3rd awarded in each class\nContact Kent Robertson-(775-289-6042) or Kelly Ernest-(775-296-0910) for more information. \nStay updated by following us on Facebook HERE!\nLearn more and register for the event HERE!
URL:https://elynevada.net/event/fears-tears-and-beers-2021/
LOCATION:Ely\, NV\, 89301\, United States
CATEGORIES:History,Races,Sports
ATTACH;FMTTYPE=image/jpeg:https://elynevada.net/wp-content/uploads/2021/03/sagag.jpg
ORGANIZER;CN="Great Basin Trails Stewardship":MAILTO:krobeg@mwpower.net
END:VEVENT
BEGIN:VEVENT
DTSTART;VALUE=DATE:20210612
DTEND;VALUE=DATE:20210613
DTSTAMP:20260424T210410
CREATED:20210611T024635Z
LAST-MODIFIED:20210611T043746Z
UID:10000409-1623456000-1623542399@elynevada.net
SUMMARY:2021 White Pine Gymkhana Series
DESCRIPTION:2021 White Pine Gymkhana Series\nThe White Pine Corral Association is proud to announce their Gymkhana Series for 2021! This 2021 White Pine Gymkhana Series event dates are June 12th\, July 17th\, and September 5th. \nSign-ups are at 8:00 a.m. and the event begins at 9:00 a.m. Payout are at each series event. Look forward to Buckle and bronc Halter Prizes for the Average 1st and 2nd place Prize Winners who attend at least two gymkhanas! \nEntry Fees are $5.00 per event for a leadline age group\, and $10.00 for all other ages 8 and up. \nFor more Information Contact:\nBillie Sue – (775) 296-1249\nKent – (775) 293-5076\nTJ – (775) 293-9020 \n \nGymkhana includes timed speed events such as barrel racing\, pole bending\, keyhole race\, keg race (also known as “down and back”)\, flag racing\, and stake race. \nMost of these events are designed to display precise\, controlled actions and tight teamwork between horse and rider at speed\, and demonstrate many skills such as flying lead changes\, sliding stops and more. Most clubs offer a variety of classes for all ages and abilities of people\, allowing riders to compete at the speed level at which they are most capable and comfortable. \nLearn More About White Pine County HERE!\nMore Events Can Be Found HERE!
URL:https://elynevada.net/event/2021-white-pine-gymkhana-series/2021-06-12/
LOCATION:NV
CATEGORIES:History,Races,Sports
ATTACH;FMTTYPE=image/jpeg:https://elynevada.net/wp-content/uploads/2021/06/coral-cropped.jpg
END:VEVENT
END:VCALENDAR