BEGIN:VCALENDAR
VERSION:2.0
PRODID:-//Welcome To Ely - ECPv6.15.20//NONSGML v1.0//EN
CALSCALE:GREGORIAN
METHOD:PUBLISH
X-ORIGINAL-URL:https://elynevada.net
X-WR-CALDESC:Events for Welcome To Ely
REFRESH-INTERVAL;VALUE=DURATION:PT1H
X-Robots-Tag:noindex
X-PUBLISHED-TTL:PT1H
BEGIN:VTIMEZONE
TZID:UTC
BEGIN:STANDARD
TZOFFSETFROM:+0000
TZOFFSETTO:+0000
TZNAME:UTC
DTSTART:20200101T000000
END:STANDARD
END:VTIMEZONE
BEGIN:VEVENT
DTSTART;VALUE=DATE:20210717
DTEND;VALUE=DATE:20210718
DTSTAMP:20260424T193302
CREATED:20210611T024635Z
LAST-MODIFIED:20210611T043746Z
UID:10000410-1626480000-1626566399@elynevada.net
SUMMARY:2021 White Pine Gymkhana Series
DESCRIPTION:2021 White Pine Gymkhana Series\nThe White Pine Corral Association is proud to announce their Gymkhana Series for 2021! This 2021 White Pine Gymkhana Series event dates are June 12th\, July 17th\, and September 5th. \nSign-ups are at 8:00 a.m. and the event begins at 9:00 a.m. Payout are at each series event. Look forward to Buckle and bronc Halter Prizes for the Average 1st and 2nd place Prize Winners who attend at least two gymkhanas! \nEntry Fees are $5.00 per event for a leadline age group\, and $10.00 for all other ages 8 and up. \nFor more Information Contact:\nBillie Sue – (775) 296-1249\nKent – (775) 293-5076\nTJ – (775) 293-9020 \n \nGymkhana includes timed speed events such as barrel racing\, pole bending\, keyhole race\, keg race (also known as “down and back”)\, flag racing\, and stake race. \nMost of these events are designed to display precise\, controlled actions and tight teamwork between horse and rider at speed\, and demonstrate many skills such as flying lead changes\, sliding stops and more. Most clubs offer a variety of classes for all ages and abilities of people\, allowing riders to compete at the speed level at which they are most capable and comfortable. \nLearn More About White Pine County HERE!\nMore Events Can Be Found HERE!
URL:https://elynevada.net/event/2021-white-pine-gymkhana-series/2021-07-17/
LOCATION:NV
CATEGORIES:History,Races,Sports
ATTACH;FMTTYPE=image/jpeg:https://elynevada.net/wp-content/uploads/2021/06/coral-cropped.jpg
END:VEVENT
END:VCALENDAR