BEGIN:VCALENDAR
VERSION:2.0
PRODID:-//Welcome To Ely - ECPv6.15.20//NONSGML v1.0//EN
CALSCALE:GREGORIAN
METHOD:PUBLISH
X-ORIGINAL-URL:https://elynevada.net
X-WR-CALDESC:Events for Welcome To Ely
REFRESH-INTERVAL;VALUE=DURATION:PT1H
X-Robots-Tag:noindex
X-PUBLISHED-TTL:PT1H
BEGIN:VTIMEZONE
TZID:UTC
BEGIN:STANDARD
TZOFFSETFROM:+0000
TZOFFSETTO:+0000
TZNAME:UTC
DTSTART:20200101T000000
END:STANDARD
END:VTIMEZONE
BEGIN:VEVENT
DTSTART;VALUE=DATE:20210730
DTEND;VALUE=DATE:20210802
DTSTAMP:20260424T193302
CREATED:20210211T072555Z
LAST-MODIFIED:20210211T072556Z
UID:10000381-1627603200-1627862399@elynevada.net
SUMMARY:Shoshone Tribe Fandango & Pow Wow
DESCRIPTION:Shoshone Tribe Fandango & Pow Wow – 2021\nThe Shoshone Tribe Fandango & Pow Wow is committed to taking any and all necessary steps to maintain the health and safety of both Guests and Team Members. \nThe annual Fandango and Pow Wow\, hosted by the Ely Shoshone Tribe\, will be July 30th – August 1st\, 2021. ALL ARE WELCOME to experience this rich cultural and communal event located at 250 Heritage Drive in Ely. Expect a yearly parade theme with drummers and traditional costumes and dances. The event will also include traditional hand game tournament\, horseshoes\, archery\, Fun Run/Walk\, corn hole tournament\, vendors\, artisans\, kids activities\, BBQ and Raffles. To get more information please contact the admin offices at 775.289.3013. During the Pow Wow please remember this is a sacred event. Please be respectful and follow proper etiquette. \nFollow the Events and Info of the Ely Shoshone Indian Reservation HERE!\nLearn More About Ely and White Pine HERE!
URL:https://elynevada.net/event/shoshone-tribe-fandango-pow-wow/
LOCATION:Shoshone Education Center\, 250 Heritage Drive\, Ely\, NV\, 89301\, United States
CATEGORIES:Arts & Culture,Community,History
ATTACH;FMTTYPE=image/jpeg:https://elynevada.net/wp-content/uploads/2018/05/IMG_5016-e1534213367475.jpg
ORGANIZER;CN="Ely Shoshone Tribe":MAILTO:elyshoshonetribe@yahoo.com
END:VEVENT
BEGIN:VEVENT
DTSTART;TZID=UTC:20210730T090000
DTEND;TZID=UTC:20210730T170000
DTSTAMP:20260424T193302
CREATED:20210526T041041Z
LAST-MODIFIED:20210526T041042Z
UID:10000401-1627635600-1627664400@elynevada.net
SUMMARY:Rotary Annual Golf Tournament - 2021
DESCRIPTION:Rotary Annual Golf Tournament – 2021\nThe Ely Rotary Club is hosting their Rotary Annual Golf Tournament – 2021 on July 30th and 31st to raise money for scholarships and community projects. Registration is $125/ person and includes BBQ dinner and entry into exclusive raffle. There is a chance to win $15K for the first Hole in One on holes #4 & #13. \nRotary Annual Golf Tournament 2021 \nRegister by Mail (make checks payable to Ely Rotary Club): Ely Rotary Club\, P.O. Box 151827\, Ely\, Nevada 89315 \nQuestions? Call: (775)289-2939 Fax: (775)289-4022 Email: DLDeberidge@gmail.com \nThe Rotary Club’s website can be found by clicking here! \nGoing to be here for this annual event? Check out our lodging options HERE!
URL:https://elynevada.net/event/rotary-annual-golf-tournament-2021/2021-07-30/
LOCATION:White Pine Golf Course\, 151 N. Golf Course Drive\, Ely\, NV\, 89301\, United States
CATEGORIES:Community,History,Sports
ATTACH;FMTTYPE=image/jpeg:https://elynevada.net/wp-content/uploads/2018/06/golf2.jpg
ORGANIZER;CN="Ely Rotary Club":MAILTO:elyrotary@gmail.com
END:VEVENT
END:VCALENDAR