BEGIN:VCALENDAR
VERSION:2.0
PRODID:-//Welcome To Ely - ECPv6.15.20//NONSGML v1.0//EN
CALSCALE:GREGORIAN
METHOD:PUBLISH
X-WR-CALNAME:Welcome To Ely
X-ORIGINAL-URL:https://elynevada.net
X-WR-CALDESC:Events for Welcome To Ely
REFRESH-INTERVAL;VALUE=DURATION:PT1H
X-Robots-Tag:noindex
X-PUBLISHED-TTL:PT1H
BEGIN:VTIMEZONE
TZID:UTC
BEGIN:STANDARD
TZOFFSETFROM:+0000
TZOFFSETTO:+0000
TZNAME:UTC
DTSTART:20200101T000000
END:STANDARD
END:VTIMEZONE
BEGIN:VEVENT
DTSTART;VALUE=DATE:20210813
DTEND;VALUE=DATE:20210815
DTSTAMP:20260424T161757
CREATED:20210217T050407Z
LAST-MODIFIED:20210217T050408Z
UID:10000383-1628812800-1628985599@elynevada.net
SUMMARY:White Pine Rodders' Car Show 2021
DESCRIPTION:White Pine Rodders’ Car Show – 2021\nThe White Pine Rodders’ Car Show is committed to taking any and all necessary steps to maintain the health and safety of both our Guests and Team Members. \nAnnual\, completely open\, and FREE. Come on down and support a great\, long-standing Ely event. There’s sure to be plenty of fun for all. After all\, there will beautiful cars\, trucks and great people? What more could you want? \nThe White Pine Rodders Car club is a not-for-profit organization for the car enthusiast. They have a devoted passion for cars  and classics alike.  As a club\, they each year raise money for  scholarships available to White Pine High School seniors to further  their post-secondary education. \nThe car club is open  for all makes and models including motorcycles. Primarily composed of hotrods\, classics and muscle cars from the ’40  thru the ’80s.  Members go on cruises attending shows displaying their  cars\, showcasing rolling works of art and speaking with other cars  fans. \nThey may not have as many cars as Seinfeld or Leno\, but\, between all of their members\, they have a diverse exciting collection. Catch them at a few local “car nights” during the summer or at our monthly meetings. \nLearn More About This Event and White Pine Rodders HERE!\nDiscover More Things To Do In White Pine HERE!
URL:https://elynevada.net/event/white-pine-rodders-car-show-2021/
LOCATION:Ely\, NV\, 89301\, United States
CATEGORIES:Arts & Culture,Community,History
ATTACH;FMTTYPE=image/png:https://elynevada.net/wp-content/uploads/2020/05/Screenshot-2019-09-24-at-1.01.16-PM.png
ORGANIZER;CN="White Pine Rodders Car Club":MAILTO:whitepinerodders@gmail.com
END:VEVENT
END:VCALENDAR