BEGIN:VCALENDAR
VERSION:2.0
PRODID:-//Welcome To Ely - ECPv6.15.20//NONSGML v1.0//EN
CALSCALE:GREGORIAN
METHOD:PUBLISH
X-WR-CALNAME:Welcome To Ely
X-ORIGINAL-URL:https://elynevada.net
X-WR-CALDESC:Events for Welcome To Ely
REFRESH-INTERVAL;VALUE=DURATION:PT1H
X-Robots-Tag:noindex
X-PUBLISHED-TTL:PT1H
BEGIN:VTIMEZONE
TZID:UTC
BEGIN:STANDARD
TZOFFSETFROM:+0000
TZOFFSETTO:+0000
TZNAME:UTC
DTSTART:20200101T000000
END:STANDARD
END:VTIMEZONE
BEGIN:VEVENT
DTSTART;TZID=UTC:20210823T130000
DTEND;TZID=UTC:20210823T170000
DTSTAMP:20260424T161758
CREATED:20200612T025448Z
LAST-MODIFIED:20210818T052057Z
UID:10000121-1629723600-1629738000@elynevada.net
SUMMARY:T-Rex and Mascot Races
DESCRIPTION:T-Rex and Mascot Races\nJoin us at the White Pine County Horse Races on Saturday\, August 21st\, and Saturday\, August 22nd\, for the great entertainment of the T-Rex and Mascot Races!\n\nEvent will be in the evening of both days. Bring your own costume\, there is no fee or age limit! That’s right! It’s FREE  and ALL ARE WELCOME TO PARTICPATE! You can dash\, you can walk\, you can dance\, you can talk. Just make it down the track 50 yards! You’ll have to register with a name for your character- get creative!\n\nAll participants will receive a Thank You Gift!\n\nTo register contact us at the Bristlecone Convention either via email at nicole.collard@elynevada.net or call us at (775) 289-3720.\n\nSee you at the races!!!
URL:https://elynevada.net/event/t-rex-and-mascot-races/2021-08-23/
LOCATION:White Pine County Fairgrounds\, 78 n mcgill hwy\, Ely\, NV\, United States
CATEGORIES:Community,Races,Sports
ATTACH;FMTTYPE=image/png:https://elynevada.net/wp-content/uploads/2020/06/Capture.png
END:VEVENT
END:VCALENDAR