BEGIN:VCALENDAR
VERSION:2.0
PRODID:-//Welcome To Ely - ECPv6.15.20//NONSGML v1.0//EN
CALSCALE:GREGORIAN
METHOD:PUBLISH
X-WR-CALNAME:Welcome To Ely
X-ORIGINAL-URL:https://elynevada.net
X-WR-CALDESC:Events for Welcome To Ely
REFRESH-INTERVAL;VALUE=DURATION:PT1H
X-Robots-Tag:noindex
X-PUBLISHED-TTL:PT1H
BEGIN:VTIMEZONE
TZID:UTC
BEGIN:STANDARD
TZOFFSETFROM:+0000
TZOFFSETTO:+0000
TZNAME:UTC
DTSTART:20210101T000000
END:STANDARD
END:VTIMEZONE
BEGIN:VEVENT
DTSTART;TZID=UTC:20221022T170000
DTEND;TZID=UTC:20221022T200000
DTSTAMP:20260423T111941
CREATED:20221005T053410Z
LAST-MODIFIED:20221005T053412Z
UID:10000479-1666458000-1666468800@elynevada.net
SUMMARY:McGill Elementary Halloween Carnival
DESCRIPTION:McGill Elementary Halloween Carnival\nThe tradition continues! The McGill Elementary will be having their Halloween Carnival on October 22nd from 5:00 P.M. – 8:00 P.M. Haunted House\, hay maze\, games\, food and prizes! Fun for the family\, ghouls and ghosts welecome!
URL:https://elynevada.net/event/mcgill-elementary-halloween-carnival/
LOCATION:McGill Elementary School\, 25 Avenue F\, McGill\, McGill\, NV\, 89318\, United States
CATEGORIES:Community
END:VEVENT
END:VCALENDAR