BEGIN:VCALENDAR
VERSION:2.0
PRODID:-//Welcome To Ely - ECPv6.15.20//NONSGML v1.0//EN
CALSCALE:GREGORIAN
METHOD:PUBLISH
X-WR-CALNAME:Welcome To Ely
X-ORIGINAL-URL:https://elynevada.net
X-WR-CALDESC:Events for Welcome To Ely
REFRESH-INTERVAL;VALUE=DURATION:PT1H
X-Robots-Tag:noindex
X-PUBLISHED-TTL:PT1H
BEGIN:VTIMEZONE
TZID:UTC
BEGIN:STANDARD
TZOFFSETFROM:+0000
TZOFFSETTO:+0000
TZNAME:UTC
DTSTART:20210101T000000
END:STANDARD
END:VTIMEZONE
BEGIN:VEVENT
DTSTART;TZID=UTC:20221028T130000
DTEND;TZID=UTC:20221028T170000
DTSTAMP:20260423T111940
CREATED:20190924T065935Z
LAST-MODIFIED:20221005T055152Z
UID:10000142-1666962000-1666976400@elynevada.net
SUMMARY:Trick or Treat the Street
DESCRIPTION:Local Businesses who want to participate in Trick Or Treat the street call Wayne at the Chamber at 289-8877.
URL:https://elynevada.net/event/trick-or-treat-the-streets/
LOCATION:NV
CATEGORIES:Community
ORGANIZER;CN="White Pine Chamber of Commerce":MAILTO:wpcc@whitepinechamber.com
END:VEVENT
END:VCALENDAR