BEGIN:VCALENDAR
VERSION:2.0
PRODID:-//Welcome To Ely - ECPv6.15.20//NONSGML v1.0//EN
CALSCALE:GREGORIAN
METHOD:PUBLISH
X-ORIGINAL-URL:https://elynevada.net
X-WR-CALDESC:Events for Welcome To Ely
REFRESH-INTERVAL;VALUE=DURATION:PT1H
X-Robots-Tag:noindex
X-PUBLISHED-TTL:PT1H
BEGIN:VTIMEZONE
TZID:UTC
BEGIN:STANDARD
TZOFFSETFROM:+0000
TZOFFSETTO:+0000
TZNAME:UTC
DTSTART:20210101T000000
END:STANDARD
END:VTIMEZONE
BEGIN:VEVENT
DTSTART;TZID=UTC:20221124T190000
DTEND;TZID=UTC:20221124T194500
DTSTAMP:20260423T100034
CREATED:20221108T064953Z
LAST-MODIFIED:20221108T064955Z
UID:10000528-1669316400-1669319100@elynevada.net
SUMMARY:Yoga at The Space
DESCRIPTION:Salty Yoga\, an all-level yoga flow class offered in historic downtown Ely
URL:https://elynevada.net/event/yoga-at-the-space/2022-11-24/
LOCATION:The Space\, 311 East Aultman\, Ely\, NV\, 89301\, United States
CATEGORIES:Arts & Culture,Community,Sports
ORGANIZER;CN="Ely Taproot":MAILTO:elytaproot@gmail.com
END:VEVENT
END:VCALENDAR