BEGIN:VCALENDAR
VERSION:2.0
PRODID:-//Welcome To Ely - ECPv6.15.20//NONSGML v1.0//EN
CALSCALE:GREGORIAN
METHOD:PUBLISH
X-WR-CALNAME:Welcome To Ely
X-ORIGINAL-URL:https://elynevada.net
X-WR-CALDESC:Events for Welcome To Ely
REFRESH-INTERVAL;VALUE=DURATION:PT1H
X-Robots-Tag:noindex
X-PUBLISHED-TTL:PT1H
BEGIN:VTIMEZONE
TZID:UTC
BEGIN:STANDARD
TZOFFSETFROM:+0000
TZOFFSETTO:+0000
TZNAME:UTC
DTSTART:20220101T000000
END:STANDARD
END:VTIMEZONE
BEGIN:VEVENT
DTSTART;TZID=UTC:20230120T170000
DTEND;TZID=UTC:20230120T180000
DTSTAMP:20260423T073325
CREATED:20230119T073314Z
LAST-MODIFIED:20230119T073320Z
UID:10000328-1674234000-1674237600@elynevada.net
SUMMARY:McGill Theater Marquee Lighting Ceremony
DESCRIPTION:McGill Theater Marquee Lighting Ceremony\nWe’ll plan on seeing you in McGill at the historical theater for the McGill Theater Marquee Lighting Ceremony. \nThe new marquee that now is positioned on the front of the McGill Theater was officially put up back in August\, 2022. It has yet to have a proper celebratory lighting! That is\, until January 20\, 2023 at 5:00 p.m. \nIf anyone is interested (because we can be sure that it will be freezing but exciting) the owner of the building will be giving a tour of the theater afterwards. \nThis is for all those interested in seeing the theater and the current progress of the renovation. \nExciting times to be in McGill!
URL:https://elynevada.net/event/mcgill-theater-marquee-lighting-ceremony/
LOCATION:McGill Theater\, Main Street (Hwy 50)\, McGill\, NV\, 89318\, United States
CATEGORIES:Arts & Culture,Community
ATTACH;FMTTYPE=image/jpeg:https://elynevada.net/wp-content/uploads/2023/01/McGill-Theater-Marquee.jpg
ORGANIZER;CN="Middle of Everywhere":MAILTO:https://m.me/104506860953168?fbclid=IwAR2-YiQ62aa-wzko87QDaqqW1yfecknDwMUelIbYrBvWzrSSPHMpKrExlrE
END:VEVENT
END:VCALENDAR