BEGIN:VCALENDAR
VERSION:2.0
PRODID:-//Welcome To Ely - ECPv6.15.20//NONSGML v1.0//EN
CALSCALE:GREGORIAN
METHOD:PUBLISH
X-WR-CALNAME:Welcome To Ely
X-ORIGINAL-URL:https://elynevada.net
X-WR-CALDESC:Events for Welcome To Ely
REFRESH-INTERVAL;VALUE=DURATION:PT1H
X-Robots-Tag:noindex
X-PUBLISHED-TTL:PT1H
BEGIN:VTIMEZONE
TZID:UTC
BEGIN:STANDARD
TZOFFSETFROM:+0000
TZOFFSETTO:+0000
TZNAME:UTC
DTSTART:20220101T000000
END:STANDARD
END:VTIMEZONE
BEGIN:VEVENT
DTSTART;TZID=UTC:20230129T140000
DTEND;TZID=UTC:20230129T160000
DTSTAMP:20260423T073326
CREATED:20221108T064554Z
LAST-MODIFIED:20230119T075346Z
UID:10000519-1675000800-1675008000@elynevada.net
SUMMARY:GET FIT
DESCRIPTION:GET FIT: January at Bristlecone General Store in Baker\nMeet at the store and caravan to a trailhead yet to be determined…watching weather reports. Stay tuned. We’ll return to the store for refreshments\, and wine! \n(Hiking with friends boosts your mood and your immune system!)
URL:https://elynevada.net/event/get-fit/
LOCATION:Bristlecone General Store\, 115 S. Baker Ave.\, Baker\, NV\, 89311\, United States
CATEGORIES:Arts & Culture,Community
ORGANIZER;CN="Bristlecone General Store":MAILTO:stay@stargazernevada.com
END:VEVENT
END:VCALENDAR