BEGIN:VCALENDAR
VERSION:2.0
PRODID:-//Welcome To Ely - ECPv6.15.20//NONSGML v1.0//EN
CALSCALE:GREGORIAN
METHOD:PUBLISH
X-ORIGINAL-URL:https://elynevada.net
X-WR-CALDESC:Events for Welcome To Ely
REFRESH-INTERVAL;VALUE=DURATION:PT1H
X-Robots-Tag:noindex
X-PUBLISHED-TTL:PT1H
BEGIN:VTIMEZONE
TZID:UTC
BEGIN:STANDARD
TZOFFSETFROM:+0000
TZOFFSETTO:+0000
TZNAME:UTC
DTSTART:20220101T000000
END:STANDARD
END:VTIMEZONE
BEGIN:VEVENT
DTSTART;TZID=UTC:20230225T170000
DTEND;TZID=UTC:20230225T200000
DTSTAMP:20260423T085056
CREATED:20230119T083003Z
LAST-MODIFIED:20230119T083006Z
UID:10000333-1677344400-1677355200@elynevada.net
SUMMARY:Ducks Unlimited Banquet
DESCRIPTION:Ducks Unlimited Banquet\nJoin the Ducks Unlimited for their Ducks Unlimited Banquet. \nThis will be a great night for a greater cause. Your attendance will help to ensure the future of elk\, other wildlife\, their habitat and our hunting heritage here in our great state!
URL:https://elynevada.net/event/ducks-unlimited-banquet/
LOCATION:Bristlecone Convention Center\, 150 Sixth Street\, Ely\, NV\, 89301\, United States
CATEGORIES:Community
ATTACH;FMTTYPE=image/jpeg:https://elynevada.net/wp-content/uploads/2023/01/Ducks-Unlimited-Banquet.jpg
END:VEVENT
END:VCALENDAR