BEGIN:VCALENDAR
VERSION:2.0
PRODID:-//Welcome To Ely - ECPv6.15.20//NONSGML v1.0//EN
CALSCALE:GREGORIAN
METHOD:PUBLISH
X-ORIGINAL-URL:https://elynevada.net
X-WR-CALDESC:Events for Welcome To Ely
REFRESH-INTERVAL;VALUE=DURATION:PT1H
X-Robots-Tag:noindex
X-PUBLISHED-TTL:PT1H
BEGIN:VTIMEZONE
TZID:UTC
BEGIN:STANDARD
TZOFFSETFROM:+0000
TZOFFSETTO:+0000
TZNAME:UTC
DTSTART:20220101T000000
END:STANDARD
END:VTIMEZONE
BEGIN:VEVENT
DTSTART;TZID=UTC:20230226T140000
DTEND;TZID=UTC:20230226T160000
DTSTAMP:20260423T085056
CREATED:20230119T080049Z
LAST-MODIFIED:20230119T080052Z
UID:10000329-1677420000-1677427200@elynevada.net
SUMMARY:GET LIT
DESCRIPTION:GET LIT: February at Bristlecone General Store in Baker\nMark your calendar and start reading! Our next Bristlecone Book Club selection is Zen and the Art of Motorcycle Maintenance by Robert Pirsig. (It’s a classic that has inspired millions)
URL:https://elynevada.net/event/get-lit/
LOCATION:Bristlecone General Store\, 115 S. Baker Ave.\, Baker\, NV\, 89311\, United States
CATEGORIES:Arts & Culture,Community
ATTACH;FMTTYPE=image/jpeg:https://elynevada.net/wp-content/uploads/2023/01/GET-Series-for-beginning-2023.jpg
ORGANIZER;CN="Bristlecone General Store":MAILTO:stay@stargazernevada.com
END:VEVENT
END:VCALENDAR