BEGIN:VCALENDAR
VERSION:2.0
PRODID:-//Welcome To Ely - ECPv6.15.20//NONSGML v1.0//EN
CALSCALE:GREGORIAN
METHOD:PUBLISH
X-ORIGINAL-URL:https://elynevada.net
X-WR-CALDESC:Events for Welcome To Ely
REFRESH-INTERVAL;VALUE=DURATION:PT1H
X-Robots-Tag:noindex
X-PUBLISHED-TTL:PT1H
BEGIN:VTIMEZONE
TZID:UTC
BEGIN:STANDARD
TZOFFSETFROM:+0000
TZOFFSETTO:+0000
TZNAME:UTC
DTSTART:20220101T000000
END:STANDARD
END:VTIMEZONE
BEGIN:VEVENT
DTSTART;TZID=UTC:20230312T140000
DTEND;TZID=UTC:20230312T160000
DTSTAMP:20260423T100033
CREATED:20230302T052222Z
LAST-MODIFIED:20230302T052223Z
UID:10000549-1678629600-1678636800@elynevada.net
SUMMARY:GET KNIT at the Bristlecone General Store
DESCRIPTION:GET KNIT at the Bristlecone General Store\nGET KNIT: Wind your way into spring with a creative weaving project using a wide variety of materials. No experience necessary!
URL:https://elynevada.net/event/get-knit-at-the-bristlecone-general-store/
LOCATION:Bristlecone General Store\, 115 S. Baker Ave.\, Baker\, NV\, 89311\, United States
CATEGORIES:Arts & Culture,Community
ATTACH;FMTTYPE=image/jpeg:https://elynevada.net/wp-content/uploads/2023/03/Get-Knit-on-March-12.jpg
ORGANIZER;CN="Bristlecone General Store":MAILTO:stay@stargazernevada.com
END:VEVENT
END:VCALENDAR