BEGIN:VCALENDAR
VERSION:2.0
PRODID:-//Welcome To Ely - ECPv6.15.20//NONSGML v1.0//EN
CALSCALE:GREGORIAN
METHOD:PUBLISH
X-WR-CALNAME:Welcome To Ely
X-ORIGINAL-URL:https://elynevada.net
X-WR-CALDESC:Events for Welcome To Ely
REFRESH-INTERVAL;VALUE=DURATION:PT1H
X-Robots-Tag:noindex
X-PUBLISHED-TTL:PT1H
BEGIN:VTIMEZONE
TZID:UTC
BEGIN:STANDARD
TZOFFSETFROM:+0000
TZOFFSETTO:+0000
TZNAME:UTC
DTSTART:20220101T000000
END:STANDARD
END:VTIMEZONE
BEGIN:VEVENT
DTSTART;TZID=UTC:20230603T080000
DTEND;TZID=UTC:20230603T150000
DTSTAMP:20260423T122611
CREATED:20230124T071739Z
LAST-MODIFIED:20230124T071743Z
UID:10000538-1685779200-1685804400@elynevada.net
SUMMARY:White Pine Coyotes Desert Race
DESCRIPTION:White Pine Coyotes Desert Race\nA date to #RideElyNV! White Pine County is dirt bike friendly \nThe White Pine Coyotes will be having their Desert Race on June 3rd. \nSpecific location TBA but we’ll see you here in White Pine for Eastern Nevada’s Desert Race.
URL:https://elynevada.net/event/white-pine-coyotes-desert-race/
LOCATION:Ely\, NV\, 89301\, United States
CATEGORIES:Community,Races,Sports
ATTACH;FMTTYPE=image/png:https://elynevada.net/wp-content/uploads/2023/01/White-Pine-Coyotes-Desert-Race.png
END:VEVENT
BEGIN:VEVENT
DTSTART;TZID=UTC:20230603T090000
DTEND;TZID=UTC:20230603T120000
DTSTAMP:20260423T122611
CREATED:20230124T053958Z
LAST-MODIFIED:20230610T022724Z
UID:10000496-1685782800-1685793600@elynevada.net
SUMMARY:Snake Valley Farmers Market
DESCRIPTION:Snake Valley Farmers Market\nCome join us at the market located at the Baker Community Church Pavilion\, and discover what our local gardeners\, artisans\, bakers\, photographers\, coffee roasters have to offer.
URL:https://elynevada.net/event/snake-valley-farmers-market/2023-06-03/
LOCATION:Baker Community Church Pavilion\, 315 Saval Ave.\, Baker\, NV\, 89311\, United States
CATEGORIES:Community
ATTACH;FMTTYPE=image/jpeg:https://elynevada.net/wp-content/uploads/2022/01/The-Heart-of-Great-Basin.jpeg
END:VEVENT
BEGIN:VEVENT
DTSTART;TZID=UTC:20230603T090000
DTEND;TZID=UTC:20230603T170000
DTSTAMP:20260423T122611
CREATED:20220330T054408Z
LAST-MODIFIED:20230427T030003Z
UID:10000451-1685782800-1685811600@elynevada.net
SUMMARY:Ely Amateur (WPGC)
DESCRIPTION:Ely Amateur (White Pine Golf Course)\nFormat: Individual Gross & Net \nSee Randy Long\, PGA\, for details \n 151 North Golf Course Drive \n  Ely\, NV 89301 \n  Phone: 775-289-4095 \n  Fax: 775-289-7813 \nrlong@whitepinecountynv.gov
URL:https://elynevada.net/event/ely-amateur-wpgc/2023-06-03/
LOCATION:White Pine Golf Course\, 151 N. Golf Course Drive\, Ely\, NV\, 89301\, United States
CATEGORIES:Sports
ATTACH;FMTTYPE=image/png:https://elynevada.net/wp-content/uploads/2022/03/Basic-Golf-Smaller-Copy.png
ORGANIZER;CN="White Pine Golf Course":MAILTO:rlong@whitepinecountynv.gov
END:VEVENT
END:VCALENDAR