BEGIN:VCALENDAR
VERSION:2.0
PRODID:-//Welcome To Ely - ECPv6.15.20//NONSGML v1.0//EN
CALSCALE:GREGORIAN
METHOD:PUBLISH
X-ORIGINAL-URL:https://elynevada.net
X-WR-CALDESC:Events for Welcome To Ely
REFRESH-INTERVAL;VALUE=DURATION:PT1H
X-Robots-Tag:noindex
X-PUBLISHED-TTL:PT1H
BEGIN:VTIMEZONE
TZID:UTC
BEGIN:STANDARD
TZOFFSETFROM:+0000
TZOFFSETTO:+0000
TZNAME:UTC
DTSTART:20220101T000000
END:STANDARD
END:VTIMEZONE
BEGIN:VEVENT
DTSTART;TZID=UTC:20230604T090000
DTEND;TZID=UTC:20230604T170000
DTSTAMP:20260423T151537
CREATED:20220330T054408Z
LAST-MODIFIED:20230427T030003Z
UID:10000452-1685869200-1685898000@elynevada.net
SUMMARY:Ely Amateur (WPGC)
DESCRIPTION:Ely Amateur (White Pine Golf Course)\nFormat: Individual Gross & Net \nSee Randy Long\, PGA\, for details \n 151 North Golf Course Drive \n  Ely\, NV 89301 \n  Phone: 775-289-4095 \n  Fax: 775-289-7813 \nrlong@whitepinecountynv.gov
URL:https://elynevada.net/event/ely-amateur-wpgc/2023-06-04/
LOCATION:White Pine Golf Course\, 151 N. Golf Course Drive\, Ely\, NV\, 89301\, United States
CATEGORIES:Sports
ATTACH;FMTTYPE=image/png:https://elynevada.net/wp-content/uploads/2022/03/Basic-Golf-Smaller-Copy.png
ORGANIZER;CN="White Pine Golf Course":MAILTO:rlong@whitepinecountynv.gov
END:VEVENT
END:VCALENDAR