BEGIN:VCALENDAR
VERSION:2.0
PRODID:-//Welcome To Ely - ECPv6.15.20//NONSGML v1.0//EN
CALSCALE:GREGORIAN
METHOD:PUBLISH
X-ORIGINAL-URL:https://elynevada.net
X-WR-CALDESC:Events for Welcome To Ely
REFRESH-INTERVAL;VALUE=DURATION:PT1H
X-Robots-Tag:noindex
X-PUBLISHED-TTL:PT1H
BEGIN:VTIMEZONE
TZID:America/Los_Angeles
BEGIN:DAYLIGHT
TZOFFSETFROM:-0800
TZOFFSETTO:-0700
TZNAME:PDT
DTSTART:20240310T100000
END:DAYLIGHT
BEGIN:STANDARD
TZOFFSETFROM:-0700
TZOFFSETTO:-0800
TZNAME:PST
DTSTART:20241103T090000
END:STANDARD
BEGIN:DAYLIGHT
TZOFFSETFROM:-0800
TZOFFSETTO:-0700
TZNAME:PDT
DTSTART:20250309T100000
END:DAYLIGHT
BEGIN:STANDARD
TZOFFSETFROM:-0700
TZOFFSETTO:-0800
TZNAME:PST
DTSTART:20251102T090000
END:STANDARD
BEGIN:DAYLIGHT
TZOFFSETFROM:-0800
TZOFFSETTO:-0700
TZNAME:PDT
DTSTART:20260308T100000
END:DAYLIGHT
BEGIN:STANDARD
TZOFFSETFROM:-0700
TZOFFSETTO:-0800
TZNAME:PST
DTSTART:20261101T090000
END:STANDARD
END:VTIMEZONE
BEGIN:VEVENT
DTSTART;TZID=America/Los_Angeles:20250906T073000
DTEND;TZID=America/Los_Angeles:20250906T133000
DTSTAMP:20260423T055416
CREATED:20250421T231447Z
LAST-MODIFIED:20250715T230405Z
UID:10003982-1757143800-1757165400@elynevada.net
SUMMARY:9th Annual Race the Rails
DESCRIPTION:9th Annual Race the Rails\nThe steam locomotive and the bicycle were invented nearly 10 years apart. Both changed the way we travel\, but which will prevail on September 6th at the 9th Annual Race the Rails?! \nAt the sound of the train whistle\, mountain and road bikers race to see who can get back to the depot before the train. \nMountain bikers and gravel grinders test their speed and agility on a challenging 10-mile course through the beautiful mountains surrounding Ely. Road bikers prove their speed and endurance on a 25-mile course along roads and highway sin the area. Everyone who finishes the course will receive a finishers medal. \nThis is not a regular race against time\, or your fellow riders. It’s a race against one of history’s most powerful inventions! It’s a Race the Rails – 2025! \nRegister for the Race the Rails HERE! \nEly is a remote mountain town of 4\,000 where history\, art\, and outdoor adventure run deep. In the nearby Great Basin National Park\, travelers have the chance to descend into the depths of the Lehman Cave system to explore a series of limestone and marble caverns full of huge stalagmites and other wild rock formations. The park is also home to the snow-capped Wheeler Peak which\, at 13\,000 feet\, is the second-tallest mountain in Nevada. \nLearn more about Ely and White Pine County HERE!
URL:https://elynevada.net/event/9th-annual-race-the-rails/
LOCATION:Ely\, NV\, 89301\, United States
CATEGORIES:Races,Sports
ATTACH;FMTTYPE=image/png:https://elynevada.net/wp-content/uploads/2025/04/Race-the-Rails-2025_Facebook-Cover.png
ORGANIZER;CN="White PIne County Tourism and Recreation":MAILTO:nicole.collard@elynevada.net
END:VEVENT
BEGIN:VEVENT
DTSTART;TZID=America/Los_Angeles:20250906T100000
DTEND;TZID=America/Los_Angeles:20250906T160000
DTSTAMP:20260423T055416
CREATED:20250128T193920Z
LAST-MODIFIED:20250128T194014Z
UID:10003303-1757152800-1757174400@elynevada.net
SUMMARY:Ely Renaissance Village OPEN
DESCRIPTION:Ely Renaissance Village Open!\nFor the ultimate heritage experience of White Pine County\, the Ely Renaissance Village may top the list.\nTour a total of nine houses\, seven of which have each been themed after a different ethnic background that helped shape our community. The Village is made for vacation planning and is open Fridays and Saturdays in the summer. Check out the 360 video below\, which allows you to click and drag different views as it provides you a feel for the site before visiting it in person: https://bit.ly/3hGMr5d\n\nLearn More Here!
URL:https://elynevada.net/event/ely-renaissance-village-open-2/2025-09-06/
LOCATION:Ely Renaissance Village\, 400\, Ely\, NV\, 89301\, United States
CATEGORIES:Arts & Culture,Community,History
ATTACH;FMTTYPE=image/jpeg:https://elynevada.net/wp-content/uploads/2022/01/CoopyRenVillage4_SM.jpg
END:VEVENT
BEGIN:VEVENT
DTSTART;TZID=America/Los_Angeles:20250906T130000
DTEND;TZID=America/Los_Angeles:20250906T150000
DTSTAMP:20260423T055416
CREATED:20250225T223530Z
LAST-MODIFIED:20250303T210956Z
UID:10003481-1757163600-1757170800@elynevada.net
SUMMARY:NNRY Excursion Train
DESCRIPTION:NNRY Excursion Train\nThe NNRY’s Regular Excursion Train through Robinson Canyon or Valley Vista. \nBook Your Ticket\, Discover Which Train is Running\, and More at www.NNRY.com!
URL:https://elynevada.net/event/nnry-excursion-train-3-2/2025-09-06/
LOCATION:Nevada Northern Railway\, 1100 Avenue A\, Ely\, NV\, 89301\, United States
CATEGORIES:History
ATTACH;FMTTYPE=image/jpeg:https://elynevada.net/wp-content/uploads/2020/11/Test-7.jpg
END:VEVENT
BEGIN:VEVENT
DTSTART;TZID=America/Los_Angeles:20250906T163000
DTEND;TZID=America/Los_Angeles:20250906T180000
DTSTAMP:20260423T055416
CREATED:20250303T201942Z
LAST-MODIFIED:20250303T201943Z
UID:10003881-1757176200-1757181600@elynevada.net
SUMMARY:NNRY Wild West Express
DESCRIPTION:NNRY Wild West Express\nWild West Express Tickets and More Info at www.NNRY.com
URL:https://elynevada.net/event/nnry-wild-west-express/2025-09-06/
LOCATION:NV
CATEGORIES:Community,History
ATTACH;FMTTYPE=image/jpeg:https://elynevada.net/wp-content/uploads/2025/03/Wild-West-Express.jpg
END:VEVENT
BEGIN:VEVENT
DTSTART;TZID=America/Los_Angeles:20250906T180000
DTEND;TZID=America/Los_Angeles:20250906T210000
DTSTAMP:20260423T055416
CREATED:20250225T230409Z
LAST-MODIFIED:20250225T230410Z
UID:10003559-1757181600-1757192400@elynevada.net
SUMMARY:NNRY Sunset\, Stars\, and Champagne Train
DESCRIPTION:The Nevada Northern Railway offers a most unique experience and look forward to having you join us for a ride back in history here in the mountains of Central Nevada\, this time for the Sunset\, Stars\, and Champagne Train! Venture out into the rural mountains of White Pine County for nothing less than picturesque views and our renowned dark skies\, all while relaxing and socializing with bottomless champagne. Basic info about Nevada Northern Railway rides\, including the Sunset\, Stars\, and Champagne Train can be found below. \n\nDon’t miss the train! All Nevada Northern Railway trains depart from ELY\, NV on-time\, regardless of the weather\, as they have for over a century now\, so be at the depot ready for boarding 30 minutes before departure time.\nEveryone needs a ticket\nNo passes or discounts are available on themed trains (other than Membership discount…see below)\nSorry\, pets are not allowed on the trains or tours. Certified service animals are always welcome\, but please take necessary precautions for this somewhat noisy\, industrial environment.\n\nLearn more about the Railway by clicking HERE!
URL:https://elynevada.net/event/nnry-sunset-stars-and-champagne-train-2/2025-09-06/
LOCATION:Nevada Northern Railway\, 1100 Avenue A\, Ely\, NV\, 89301\, United States
CATEGORIES:Arts & Culture,History,Stargazing
ATTACH;FMTTYPE=image/jpeg:https://elynevada.net/wp-content/uploads/2020/06/Couple-for-Sunset-Stars-Champagne.jpg
END:VEVENT
END:VCALENDAR