BEGIN:VCALENDAR
VERSION:2.0
PRODID:-//Welcome To Ely - ECPv6.15.20//NONSGML v1.0//EN
CALSCALE:GREGORIAN
METHOD:PUBLISH
X-ORIGINAL-URL:https://elynevada.net
X-WR-CALDESC:Events for Welcome To Ely
REFRESH-INTERVAL;VALUE=DURATION:PT1H
X-Robots-Tag:noindex
X-PUBLISHED-TTL:PT1H
BEGIN:VTIMEZONE
TZID:America/Los_Angeles
BEGIN:DAYLIGHT
TZOFFSETFROM:-0800
TZOFFSETTO:-0700
TZNAME:PDT
DTSTART:20240310T100000
END:DAYLIGHT
BEGIN:STANDARD
TZOFFSETFROM:-0700
TZOFFSETTO:-0800
TZNAME:PST
DTSTART:20241103T090000
END:STANDARD
BEGIN:DAYLIGHT
TZOFFSETFROM:-0800
TZOFFSETTO:-0700
TZNAME:PDT
DTSTART:20250309T100000
END:DAYLIGHT
BEGIN:STANDARD
TZOFFSETFROM:-0700
TZOFFSETTO:-0800
TZNAME:PST
DTSTART:20251102T090000
END:STANDARD
BEGIN:DAYLIGHT
TZOFFSETFROM:-0800
TZOFFSETTO:-0700
TZNAME:PDT
DTSTART:20260308T100000
END:DAYLIGHT
BEGIN:STANDARD
TZOFFSETFROM:-0700
TZOFFSETTO:-0800
TZNAME:PST
DTSTART:20261101T090000
END:STANDARD
END:VTIMEZONE
BEGIN:VEVENT
DTSTART;TZID=America/Los_Angeles:20250927T100000
DTEND;TZID=America/Los_Angeles:20250927T140000
DTSTAMP:20260423T055426
CREATED:20240617T234249Z
LAST-MODIFIED:20250908T203536Z
UID:10002829-1758967200-1758981600@elynevada.net
SUMMARY:Ely Airport Open House
DESCRIPTION:Ely Airport Open House\nInviting All Pilots! The Ely Airport Open House is Presented by the Ely Jet Center & Ely Yelland Field. \nSeptember 27\, 2025 \n10am-2pm \nFamily Event\, No Admission \n@ the Ely Airport Yelland Field \nFood & drinks\, aircraft displays\, drones\, and med flights.
URL:https://elynevada.net/event/ely-airport-open-house/
LOCATION:Yelland Field
CATEGORIES:Community,History
ATTACH;FMTTYPE=image/jpeg:https://elynevada.net/wp-content/uploads/2024/06/Airport-Open-House-2025-Poster.jpg
END:VEVENT
BEGIN:VEVENT
DTSTART;TZID=America/Los_Angeles:20250927T100000
DTEND;TZID=America/Los_Angeles:20250927T160000
DTSTAMP:20260423T055426
CREATED:20250128T193920Z
LAST-MODIFIED:20250128T194014Z
UID:10003309-1758967200-1758988800@elynevada.net
SUMMARY:Ely Renaissance Village OPEN
DESCRIPTION:Ely Renaissance Village Open!\nFor the ultimate heritage experience of White Pine County\, the Ely Renaissance Village may top the list.\nTour a total of nine houses\, seven of which have each been themed after a different ethnic background that helped shape our community. The Village is made for vacation planning and is open Fridays and Saturdays in the summer. Check out the 360 video below\, which allows you to click and drag different views as it provides you a feel for the site before visiting it in person: https://bit.ly/3hGMr5d\n\nLearn More Here!
URL:https://elynevada.net/event/ely-renaissance-village-open-2/2025-09-27/
LOCATION:Ely Renaissance Village\, 400\, Ely\, NV\, 89301\, United States
CATEGORIES:Arts & Culture,Community,History
ATTACH;FMTTYPE=image/jpeg:https://elynevada.net/wp-content/uploads/2022/01/CoopyRenVillage4_SM.jpg
END:VEVENT
BEGIN:VEVENT
DTSTART;TZID=America/Los_Angeles:20250927T130000
DTEND;TZID=America/Los_Angeles:20250927T150000
DTSTAMP:20260423T055426
CREATED:20250225T223530Z
LAST-MODIFIED:20250303T210956Z
UID:10003487-1758978000-1758985200@elynevada.net
SUMMARY:NNRY Excursion Train
DESCRIPTION:NNRY Excursion Train\nThe NNRY’s Regular Excursion Train through Robinson Canyon or Valley Vista. \nBook Your Ticket\, Discover Which Train is Running\, and More at www.NNRY.com!
URL:https://elynevada.net/event/nnry-excursion-train-3-2/2025-09-27/
LOCATION:Nevada Northern Railway\, 1100 Avenue A\, Ely\, NV\, 89301\, United States
CATEGORIES:History
ATTACH;FMTTYPE=image/jpeg:https://elynevada.net/wp-content/uploads/2020/11/Test-7.jpg
END:VEVENT
END:VCALENDAR