BEGIN:VCALENDAR
VERSION:2.0
PRODID:-//Welcome To Ely - ECPv6.15.20//NONSGML v1.0//EN
CALSCALE:GREGORIAN
METHOD:PUBLISH
X-ORIGINAL-URL:https://elynevada.net
X-WR-CALDESC:Events for Welcome To Ely
REFRESH-INTERVAL;VALUE=DURATION:PT1H
X-Robots-Tag:noindex
X-PUBLISHED-TTL:PT1H
BEGIN:VTIMEZONE
TZID:America/Los_Angeles
BEGIN:DAYLIGHT
TZOFFSETFROM:-0800
TZOFFSETTO:-0700
TZNAME:PDT
DTSTART:20250309T100000
END:DAYLIGHT
BEGIN:STANDARD
TZOFFSETFROM:-0700
TZOFFSETTO:-0800
TZNAME:PST
DTSTART:20251102T090000
END:STANDARD
BEGIN:DAYLIGHT
TZOFFSETFROM:-0800
TZOFFSETTO:-0700
TZNAME:PDT
DTSTART:20260308T100000
END:DAYLIGHT
BEGIN:STANDARD
TZOFFSETFROM:-0700
TZOFFSETTO:-0800
TZNAME:PST
DTSTART:20261101T090000
END:STANDARD
BEGIN:DAYLIGHT
TZOFFSETFROM:-0800
TZOFFSETTO:-0700
TZNAME:PDT
DTSTART:20270314T100000
END:DAYLIGHT
BEGIN:STANDARD
TZOFFSETFROM:-0700
TZOFFSETTO:-0800
TZNAME:PST
DTSTART:20271107T090000
END:STANDARD
END:VTIMEZONE
BEGIN:VEVENT
DTSTART;TZID=America/Los_Angeles:20260408T063000
DTEND;TZID=America/Los_Angeles:20260408T070000
DTSTAMP:20260422T161731
CREATED:20260127T210739Z
LAST-MODIFIED:20260325T005141Z
UID:10004333-1775629800-1775631600@elynevada.net
SUMMARY:BeFitEly TBT
DESCRIPTION:BeFitEly Total Body Tone\nFull body strength training with progressive weight loading \nBuild strength from head to toe with our comprehensive full-body workout. You control the weight load\, starting light and progressing as you grow stronger. Perfect for building confidence and muscle definition. \n  \n\nFull body strength training\nProgressive weight loading\nBeginner to advanced options\nBuild at your own pace\n\n  \nPre Register at BeFitEly.com!
URL:https://elynevada.net/event/befitely-tbt/2026-04-08/
LOCATION:740 Autlman Street\, 740 Aultman Street\, Ely\, NV\, 89301\, United States
CATEGORIES:Community,Sports
ATTACH;FMTTYPE=image/jpeg:https://elynevada.net/wp-content/uploads/2026/01/BeFitEly-TBT.jpg
ORGANIZER;CN="BeFitEly":MAILTO:info@allaboardely.com
END:VEVENT
BEGIN:VEVENT
DTSTART;TZID=America/Los_Angeles:20260408T180000
DTEND;TZID=America/Los_Angeles:20260408T210000
DTSTAMP:20260422T161731
CREATED:20260127T021633Z
LAST-MODIFIED:20260127T021633Z
UID:10004121-1775671200-1775682000@elynevada.net
SUMMARY:White Pine History Impact Roundtable
DESCRIPTION:White Pine History Impact Roundtable\nThis year\, we will be hosting our first convening of history enthusiasts\, organizations\, and businesses. Get together with several like-minded groups/community members who adore White Pine County’s history assets. Share who you are\, what you do\, and discover what’s to come in White Pine’s history. \n6:00PM at the Bristlecone Convention Center \nFood and Drinks Will be Provided \nWe’ll see you here for the Gathering of History Enthusiasts!
URL:https://elynevada.net/event/white-pine-history-impact-roundtable/
LOCATION:Bristlecone Convention Center\, 150 Sixth Street\, Ely\, NV\, 89301\, United States
CATEGORIES:Community,Conference
ATTACH;FMTTYPE=image/png:https://elynevada.net/wp-content/uploads/2026/01/White-Pine-History-Impact-Round-Table.png
ORGANIZER;CN="White PIne County Tourism and Recreation":MAILTO:nicole.collard@elynevada.net
END:VEVENT
END:VCALENDAR