BEGIN:VCALENDAR
VERSION:2.0
PRODID:-//Welcome To Ely - ECPv6.15.20//NONSGML v1.0//EN
CALSCALE:GREGORIAN
METHOD:PUBLISH
X-ORIGINAL-URL:https://elynevada.net
X-WR-CALDESC:Events for Welcome To Ely
REFRESH-INTERVAL;VALUE=DURATION:PT1H
X-Robots-Tag:noindex
X-PUBLISHED-TTL:PT1H
BEGIN:VTIMEZONE
TZID:America/Los_Angeles
BEGIN:DAYLIGHT
TZOFFSETFROM:-0800
TZOFFSETTO:-0700
TZNAME:PDT
DTSTART:20250309T100000
END:DAYLIGHT
BEGIN:STANDARD
TZOFFSETFROM:-0700
TZOFFSETTO:-0800
TZNAME:PST
DTSTART:20251102T090000
END:STANDARD
BEGIN:DAYLIGHT
TZOFFSETFROM:-0800
TZOFFSETTO:-0700
TZNAME:PDT
DTSTART:20260308T100000
END:DAYLIGHT
BEGIN:STANDARD
TZOFFSETFROM:-0700
TZOFFSETTO:-0800
TZNAME:PST
DTSTART:20261101T090000
END:STANDARD
BEGIN:DAYLIGHT
TZOFFSETFROM:-0800
TZOFFSETTO:-0700
TZNAME:PDT
DTSTART:20270314T100000
END:DAYLIGHT
BEGIN:STANDARD
TZOFFSETFROM:-0700
TZOFFSETTO:-0800
TZNAME:PST
DTSTART:20271107T090000
END:STANDARD
END:VTIMEZONE
BEGIN:VEVENT
DTSTART;VALUE=DATE:20260723
DTEND;VALUE=DATE:20260727
DTSTAMP:20260422T204601
CREATED:20260202T233301Z
LAST-MODIFIED:20260202T233302Z
UID:10004977-1784764800-1785110399@elynevada.net
SUMMARY:White Pine BMX Race Weekend
DESCRIPTION:White Pine BMX Race Weekend\nFree to spectators\, participants must have a current USABMX membership. White Pine BMX Race Weekend under the lights starting at 5pm to finish. Sunday will be morning about 10am\, registration times will be posted closer to event. \nWPBMX season runs from June-August holding local practices Tuesdays from 5:30pm-7pm and local races on Thursdays from 5:30-7PM. \nLocal Race – Thursday\, Jul. 23rd\nLocal Race \n(Reg.) 5:00pm \nMotos Posted ASAP $6 \nRace for Life – Friday\, Jul. 24th\nRace for Life \n(Reg.) 5:00pm \nMotos Posted ASAP \nFee $10 Online $13 \nState Qualifier – Saturday\, Jul. 25th\nState Qualifier \n(Reg.) 4:00pm \nMotos Posted ASAP \nFee $35 Online $38 \nGold Cup Qualifier\, Jul. 26th\n  \nWhite Pine BMX and USABMX Info HERE! \n\nMor Ely and White Pine Events HERE!
URL:https://elynevada.net/event/white-pine-bmx-race-weekend/
LOCATION:White Pine BMX Track\, 913 E 16th\, Ely\, NV\, 89301\, United States
ATTACH;FMTTYPE=image/png:https://elynevada.net/wp-content/uploads/2026/02/White-Pine-BMX-Race-Weekend.png
ORGANIZER;CN="White Pine BMX":MAILTO:Whitepinebmx1850@gmail.com
END:VEVENT
BEGIN:VEVENT
DTSTART;TZID=America/Los_Angeles:20260723T170000
DTEND;TZID=America/Los_Angeles:20260723T180000
DTSTAMP:20260422T204601
CREATED:20260127T211512Z
LAST-MODIFIED:20260127T211513Z
UID:10004472-1784826000-1784829600@elynevada.net
SUMMARY:BeFitEly Step & Sculpt
DESCRIPTION:BeFitEly Step & Sculpt\nModern cardio step aerobics meets strength sculpting \nGet your heart pumping with dynamic step aerobics while building lean muscle with targeted sculpting exercises using weights. This high-energy class combines the best of both worlds for a complete workout experience. \n\nCardio step aerobics\nSculpting with weights\nHigh-energy music\nAll fitness levels welcome\n\n  \nNo Sign Up – Just Come to Class. Learn more at BeFitEly.com
URL:https://elynevada.net/event/befitely-step-sculpt/2026-07-23/
LOCATION:740 Autlman Street\, 740 Aultman Street\, Ely\, NV\, 89301\, United States
CATEGORIES:Community,Sports
ATTACH;FMTTYPE=image/jpeg:https://elynevada.net/wp-content/uploads/2026/01/BeFitEly-Step-Sculpt.jpg
ORGANIZER;CN="BeFitEly":MAILTO:info@allaboardely.com
END:VEVENT
BEGIN:VEVENT
DTSTART;TZID=America/Los_Angeles:20260723T173000
DTEND;TZID=America/Los_Angeles:20260723T190000
DTSTAMP:20260422T204601
CREATED:20260202T233711Z
LAST-MODIFIED:20260202T233711Z
UID:10004985-1784827800-1784833200@elynevada.net
SUMMARY:White Pine BMX Local Race
DESCRIPTION:White Pine BMX Local Race\nThere are many ways to #RideElyNV and the White Pine BMX State Race should be on your list.
URL:https://elynevada.net/event/white-pine-bmx-local-race/2026-07-23/
LOCATION:White Pine BMX Track\, 913 E 16th\, Ely\, NV\, 89301\, United States
CATEGORIES:Sports
ATTACH;FMTTYPE=image/png:https://elynevada.net/wp-content/uploads/2026/02/White-Pine-BMX-2026-Season.png
ORGANIZER;CN="White Pine BMX":MAILTO:Whitepinebmx1850@gmail.com
END:VEVENT
END:VCALENDAR