BEGIN:VCALENDAR
VERSION:2.0
PRODID:-//Welcome To Ely - ECPv6.15.20//NONSGML v1.0//EN
CALSCALE:GREGORIAN
METHOD:PUBLISH
X-ORIGINAL-URL:https://elynevada.net
X-WR-CALDESC:Events for Welcome To Ely
REFRESH-INTERVAL;VALUE=DURATION:PT1H
X-Robots-Tag:noindex
X-PUBLISHED-TTL:PT1H
BEGIN:VTIMEZONE
TZID:America/Los_Angeles
BEGIN:DAYLIGHT
TZOFFSETFROM:-0800
TZOFFSETTO:-0700
TZNAME:PDT
DTSTART:20250309T100000
END:DAYLIGHT
BEGIN:STANDARD
TZOFFSETFROM:-0700
TZOFFSETTO:-0800
TZNAME:PST
DTSTART:20251102T090000
END:STANDARD
BEGIN:DAYLIGHT
TZOFFSETFROM:-0800
TZOFFSETTO:-0700
TZNAME:PDT
DTSTART:20260308T100000
END:DAYLIGHT
BEGIN:STANDARD
TZOFFSETFROM:-0700
TZOFFSETTO:-0800
TZNAME:PST
DTSTART:20261101T090000
END:STANDARD
BEGIN:DAYLIGHT
TZOFFSETFROM:-0800
TZOFFSETTO:-0700
TZNAME:PDT
DTSTART:20270314T100000
END:DAYLIGHT
BEGIN:STANDARD
TZOFFSETFROM:-0700
TZOFFSETTO:-0800
TZNAME:PST
DTSTART:20271107T090000
END:STANDARD
END:VTIMEZONE
BEGIN:VEVENT
DTSTART;TZID=America/Los_Angeles:20260801T090000
DTEND;TZID=America/Los_Angeles:20260801T170000
DTSTAMP:20260422T204229
CREATED:20260309T200213Z
LAST-MODIFIED:20260309T200217Z
UID:10004998-1785574800-1785603600@elynevada.net
SUMMARY:Sagebrush Quilters Quilt Show
DESCRIPTION:Sagebrush Quilters Quilt Show\nThe Sagebrush Quilters Quilt Show is an annual exhibition\, and this year it’s marked for July 31st\, August 1st and August 2nd! \nBigger and Better. These talented women have been working all year preparing for the guild’s yearly show. \nFriday & Saturday: 9:00 am to 5:00 pm \nSunday: 9:00 am to 3:00 pm \nBeautiful Quilts\, Vendors\, and Raffle Prizes! \nAdmission is $3.00 (except for children under 10\, who receive free admission). \nFriends and families are always welcome! \nStay up-to-date with more artistic events in White Pine County HERE! \nFind the full schedule of summer events county-wide HERE!
URL:https://elynevada.net/event/sagebrush-quilters-quilt-show/2026-08-01/
LOCATION:White Pine Middle School\, 844 East Aultman St.\, Ely\, NV\, 89301\, United States
CATEGORIES:Arts & Culture,Community
ATTACH;FMTTYPE=image/png:https://elynevada.net/wp-content/uploads/2026/03/Sagebrush-Quilters-Quilt-Show-2026-scaled.png
END:VEVENT
BEGIN:VEVENT
DTSTART;TZID=America/Los_Angeles:20260801T100000
DTEND;TZID=America/Los_Angeles:20260801T180000
DTSTAMP:20260422T204229
CREATED:20240530T191257Z
LAST-MODIFIED:20260127T223640Z
UID:10004956-1785578400-1785607200@elynevada.net
SUMMARY:Bristlecone Arts in the Park 2026
DESCRIPTION:Bristlecone Arts in the Park 2026\nEvery year\, on the first weekend of August\, Ely’s Bristlecone Arts in the Park attracts hundreds of participants and large crowds from across the state. \nThe event features artists from all over Nevada who come together for a festival experience you will remember fondly for years to come! \nArts in The Park is an annual event in Ely\, Nevada that takes place on the first weekend in August where artists gather from across the United States to share their handcrafted items\, gifts\, and inspiring foods with our culturally diverse region. All items are reviewed and evaluated by a jury before being entered into the event and we do not allow any commercial items. \n \nLearn More About This Event and the Bristlecone Arts Council HERE! \nDiscover More Summer Events in Ely and White Pine County HERE!
URL:https://elynevada.net/event/bristlecone-arts-in-the-park-2024/2026-08-01/
LOCATION:Veteran’s Memorial Park\, 801 Clark Street\, Ely\, NV\, 89301\, United States
CATEGORIES:Arts & Culture,Community
ATTACH;FMTTYPE=image/jpeg:https://elynevada.net/wp-content/uploads/2024/05/Arts-in-the-Park-for-Newsletter.jpg
ORGANIZER;CN="Bristlecone Arts Council":MAILTO:bristleconeartsely@gmail.com
END:VEVENT
END:VCALENDAR