BEGIN:VCALENDAR
VERSION:2.0
PRODID:-//Welcome To Ely - ECPv6.15.20//NONSGML v1.0//EN
CALSCALE:GREGORIAN
METHOD:PUBLISH
X-WR-CALNAME:Welcome To Ely
X-ORIGINAL-URL:https://elynevada.net
X-WR-CALDESC:Events for Welcome To Ely
REFRESH-INTERVAL;VALUE=DURATION:PT1H
X-Robots-Tag:noindex
X-PUBLISHED-TTL:PT1H
BEGIN:VTIMEZONE
TZID:America/Los_Angeles
BEGIN:DAYLIGHT
TZOFFSETFROM:-0800
TZOFFSETTO:-0700
TZNAME:PDT
DTSTART:20230312T100000
END:DAYLIGHT
BEGIN:STANDARD
TZOFFSETFROM:-0700
TZOFFSETTO:-0800
TZNAME:PST
DTSTART:20231105T090000
END:STANDARD
BEGIN:DAYLIGHT
TZOFFSETFROM:-0800
TZOFFSETTO:-0700
TZNAME:PDT
DTSTART:20240310T100000
END:DAYLIGHT
BEGIN:STANDARD
TZOFFSETFROM:-0700
TZOFFSETTO:-0800
TZNAME:PST
DTSTART:20241103T090000
END:STANDARD
BEGIN:DAYLIGHT
TZOFFSETFROM:-0800
TZOFFSETTO:-0700
TZNAME:PDT
DTSTART:20250309T100000
END:DAYLIGHT
BEGIN:STANDARD
TZOFFSETFROM:-0700
TZOFFSETTO:-0800
TZNAME:PST
DTSTART:20251102T090000
END:STANDARD
END:VTIMEZONE
BEGIN:VTIMEZONE
TZID:UTC
BEGIN:STANDARD
TZOFFSETFROM:+0000
TZOFFSETTO:+0000
TZNAME:UTC
DTSTART:20230101T000000
END:STANDARD
END:VTIMEZONE
BEGIN:VEVENT
DTSTART;TZID=America/Los_Angeles:20240802T180000
DTEND;TZID=America/Los_Angeles:20240802T200000
DTSTAMP:20260424T130728
CREATED:20240503T215050Z
LAST-MODIFIED:20240503T215051Z
UID:10002806-1722621600-1722628800@elynevada.net
SUMMARY:First Friday Night Markets in Baker
DESCRIPTION:First Friday Night Markets in Baker\n\nMark your calendars and join the fun!! There’s a new event in downtown Baker\, NV!\n\n\n\nThe First Friday Night Market is happening from 6-8pm on June 7\, July 5\, August 2\, September 6 and October 4.\n\n\n\nThroughout downtown Baker there will be outside activities\, music and specialty items for sale\, along with delicious dining options.\n\n\n\nCome take a stroll! Enjoy an evening under the Great Basin skies! Bring your family and friends! Fun for all ages.
URL:https://elynevada.net/event/first-friday-night-markets-in-baker-2/2024-08-02/
LOCATION:Downtown Baker\, Baker\, NV\, United States
CATEGORIES:Arts & Culture,Community
END:VEVENT
BEGIN:VEVENT
DTSTART;TZID=America/Los_Angeles:20240809T160000
DTEND;TZID=America/Los_Angeles:20240809T230000
DTSTAMP:20260424T130728
CREATED:20220609T023337Z
LAST-MODIFIED:20240418T200320Z
UID:10002657-1723219200-1723244400@elynevada.net
SUMMARY:White Pine Rodders Car Show
DESCRIPTION:White Pine Rodders Car Show\nAnnual\, completely open\, and FREE! Come one down and support a great\, long-standing Ely event. There’s sure to be plenty of fun for all. After all\, there will be beautiful cars\, trucks and great people. What more could you want? \nThe White Pine Rodder’s Car Club is a not-for-profit organization for the car enthusiast. They have a devoted passion for cars and classics alike. As a club\, they raise money each year for scholarships available to White Pine High School seniors to further their post-secondary education. \nThe car club is open for all makes and models\, including motorcycles\, and is primarily composed of hotrods\, classics and muscle cars from the ’40s through the ’80s. Members go on cruises attending shows displaying their cars\, showcasing their rolling works of art\, and speaking with other car fans. \nThey may not have as many cars as Seinfeld or Leno but\, between all their members\, they have drivers and an exciting collection. Catch them at a few local “car nights” during the summer or at their monthly meetings. \nReasons to Attend: \nCar Show Friday & Saturday \nCruise Parade \nOpen to ALL Car Enthusiasts \nHot Wheels Races \nBurnout Contest \nSupport Scholarships for Seniors \nAffordable Lodging \nMusic & Food Trucks \nCool Summertime Temperatures \nGreat People & Good Times \nContact and more info can be done by emailing: whitepinerodders@gmail.com \nLearn More about White Pine Rodders HERE! \nDiscover More To Do In White Pine HERE!
URL:https://elynevada.net/event/white-pine-rodders-car-and-motorcycle-show/2024-08-09/
LOCATION:Veteran’s Memorial Park\, 801 Clark Street\, Ely\, NV\, 89301\, United States
CATEGORIES:Arts & Culture,History
ATTACH;FMTTYPE=image/jpeg:https://elynevada.net/wp-content/uploads/2022/06/White-Pine-Rodders-Car-Show-2023.jpg
ORGANIZER;CN="White Pine Rodders Car Club":MAILTO:whitepinerodders@gmail.com
END:VEVENT
BEGIN:VEVENT
DTSTART;TZID=America/Los_Angeles:20240810T090000
DTEND;TZID=America/Los_Angeles:20240810T160000
DTSTAMP:20260424T130728
CREATED:20220609T023337Z
LAST-MODIFIED:20240418T200320Z
UID:10002658-1723280400-1723305600@elynevada.net
SUMMARY:White Pine Rodders Car Show
DESCRIPTION:White Pine Rodders Car Show\nAnnual\, completely open\, and FREE! Come one down and support a great\, long-standing Ely event. There’s sure to be plenty of fun for all. After all\, there will be beautiful cars\, trucks and great people. What more could you want? \nThe White Pine Rodder’s Car Club is a not-for-profit organization for the car enthusiast. They have a devoted passion for cars and classics alike. As a club\, they raise money each year for scholarships available to White Pine High School seniors to further their post-secondary education. \nThe car club is open for all makes and models\, including motorcycles\, and is primarily composed of hotrods\, classics and muscle cars from the ’40s through the ’80s. Members go on cruises attending shows displaying their cars\, showcasing their rolling works of art\, and speaking with other car fans. \nThey may not have as many cars as Seinfeld or Leno but\, between all their members\, they have drivers and an exciting collection. Catch them at a few local “car nights” during the summer or at their monthly meetings. \nReasons to Attend: \nCar Show Friday & Saturday \nCruise Parade \nOpen to ALL Car Enthusiasts \nHot Wheels Races \nBurnout Contest \nSupport Scholarships for Seniors \nAffordable Lodging \nMusic & Food Trucks \nCool Summertime Temperatures \nGreat People & Good Times \nContact and more info can be done by emailing: whitepinerodders@gmail.com \nLearn More about White Pine Rodders HERE! \nDiscover More To Do In White Pine HERE!
URL:https://elynevada.net/event/white-pine-rodders-car-and-motorcycle-show/2024-08-10/
LOCATION:Veteran’s Memorial Park\, 801 Clark Street\, Ely\, NV\, 89301\, United States
CATEGORIES:Arts & Culture,History
ATTACH;FMTTYPE=image/jpeg:https://elynevada.net/wp-content/uploads/2022/06/White-Pine-Rodders-Car-Show-2023.jpg
ORGANIZER;CN="White Pine Rodders Car Club":MAILTO:whitepinerodders@gmail.com
END:VEVENT
BEGIN:VEVENT
DTSTART;TZID=UTC:20240810T180000
DTEND;TZID=UTC:20240810T210000
DTSTAMP:20260424T130728
CREATED:20240207T044238Z
LAST-MODIFIED:20240625T204843Z
UID:10000714-1723312800-1723323600@elynevada.net
SUMMARY:Ely 2024 Summer Concerts in the Park
DESCRIPTION:Ely 2024 Summer Concerts in the Park\nJoin us this summer for our Ely 204 Summer Concerts in the Park!   We’re very excited to keep the music going this summer\, and it’s all taking place at Broadbent Park. Looking forward to seeing the community come down for these FREE shows. Let’s support these amazing musicians and let them feel welcome. Everyone is invited! These shows are made for families\, friends\, and blankets in the grass. \n \nAugust 10th – Tylor & the Train Robbers \nFor the past decade\, Tylor & the Train Robbers have been blazing trails\, carving a path through the heartland with their roots in country and Americana music. With boots worn thin from relentless touring\, they’ve crisscrossed the country\, honing their craft and delivering electrifying performances\, leaving a trail of devoted fans in their wake. \nOpener: Rider & Rolling Thunder \n  \nWebsite: Tylor & The train Robbers (tylorandthetrainrobbers.com) \nInstagram: Tylor & the Train Robbers (@tylorandthetrainrobbers) • Instagram photos and videos \nYouTube: Tylor and the Train Robbers – YouTube \nFacebook: Tylor and the Trainrobbers Facebook \nSpotify: Tylor & the Train Robbers | Spotify
URL:https://elynevada.net/event/ely-2024-summer-concerts-in-the-park-4/
LOCATION:Broadbent Park
CATEGORIES:Arts & Culture,Concert
ATTACH;FMTTYPE=image/png:https://elynevada.net/wp-content/uploads/2024/04/Ely-Summer-Concerts-Facebook-Cover.png
ORGANIZER;CN="White PIne County Tourism and Recreation":MAILTO:nicole.collard@elynevada.net
END:VEVENT
BEGIN:VEVENT
DTSTART;TZID=America/Los_Angeles:20240824T180000
DTEND;TZID=America/Los_Angeles:20240824T210000
DTSTAMP:20260424T130728
CREATED:20240207T054716Z
LAST-MODIFIED:20240819T185835Z
UID:10000715-1724522400-1724533200@elynevada.net
SUMMARY:Ely 2024 Summer Concerts in the Park
DESCRIPTION:Ely 2024 Summer Concerts in the Park\nJoin us this summer for our Ely 204 Summer Concerts in the Park!   We’re very excited to keep the music going this summer\, and it’s all taking place at Broadbent Park. Looking forward to seeing the community come down for these FREE shows. Let’s support these amazing musicians and let them feel welcome. Everyone is invited! These shows are made for families\, friends\, and blankets in the grass. \n \nAugust 24th – Andrew Sheppard \nAndrew Sheppard Bio: \nAndrew is a singer/ songwriter and performer who recently gave a remarkable performance on the NBC Television show\, American Song Contest. He competed on behalf of Idaho playing his new single “Steady Machine”\, which is available now on all streaming platforms. Andrew was born and raised in Hailey\, Idaho\, and moved to Los Angeles after high school where he honed his skills as a writer and musician. Missing the mountains\, he eventually made his way back to Idaho. But his travels frequently take him back to L.A. as well as Nashville\, TN\, which he also called home for awhile. Andrew’s music is honest\, accessible and just plain good to listen to. His new album is set to release in fall 2023. \nWebsite: Andrew Sheppard (andrewsheppardmusic.com) \nYouTube: Andrew Sheppard – Get It While You Can \nFacebook: Facebook Andrew Sheppard Music
URL:https://elynevada.net/event/ely-2024-summer-concerts-in-the-park-5/
LOCATION:Broadbent Park
CATEGORIES:Arts & Culture,Concert
ATTACH;FMTTYPE=image/jpeg:https://elynevada.net/wp-content/uploads/2024/02/Ely-Summer-Concerts-Facebook-Cover_Updated-Fuck-Wolf-jett.jpg
ORGANIZER;CN="White PIne County Tourism and Recreation":MAILTO:nicole.collard@elynevada.net
END:VEVENT
BEGIN:VEVENT
DTSTART;TZID=America/Los_Angeles:20240825T210000
DTEND;TZID=America/Los_Angeles:20240825T230000
DTSTAMP:20260424T130728
CREATED:20240305T031236Z
LAST-MODIFIED:20240321T181252Z
UID:10001864-1724619600-1724626800@elynevada.net
SUMMARY:GET KNIT
DESCRIPTION:GET KNIT in Baker\nWork on a project. Learn how to knit. Exchange ideas & yarn. Chat. Drink Tea.
URL:https://elynevada.net/event/get-knit-2/2024-08-25/
LOCATION:Bristlecone General Store\, 115 S. Baker Ave.\, Baker\, NV\, 89311\, United States
CATEGORIES:Arts & Culture,Community
ATTACH;FMTTYPE=image/jpeg:https://elynevada.net/wp-content/uploads/2024/03/Get-Knit-2024.jpg
ORGANIZER;CN="Bristlecone General Store":MAILTO:stay@stargazernevada.com
END:VEVENT
BEGIN:VEVENT
DTSTART;VALUE=DATE:20240830
DTEND;VALUE=DATE:20240902
DTSTAMP:20260424T130728
CREATED:20200710T060533Z
LAST-MODIFIED:20240813T174120Z
UID:10000131-1724976000-1725235199@elynevada.net
SUMMARY:McGill's Annual Labor Day Weekend
DESCRIPTION:McGill’s Annual Labor Day Weekend\nCome join the White Pine Community in McGill to celebrate McGill’s Annual Labor Day weekend. \n \nWe will be kicking off the festivities with a parade on Main Street. Line up for the parade will be behind the McGill grade school at 5:30 p.m. . The parade will start at 4th and Avenue G and go to 4th and Avenue K where the street dance will begin. There will be locals selling food! The McGill volunteer fire department will have a full bar set up for your enjoyment. Please drink responsibly. The street dance will go from 6:30 p.m. to 11 pm. \nSaturday at the McGill Swimming Pool there will be the annual “Big Splash” town barbecue starting at 11 a.m. The McGill town council has provided free hot dogs and hamburgers for the community . We will also have vendor booths\, a bounce house for all kids to enjoy and other activities. Please remember the McGill Swimming Pool is free and they have they’re big splash for the end of summer with all kind of games for children. \nSunday starting at 4:00 p.m. at the McGill baseball park we will have our softball game McGill fire department vs White Pine County Sheriff’s Office. There is a $2 gate fee all proceeds will go to the MRA for the ballpark fund. Fireworks will be provided by Great Basin Pyrotechnics at 9 p.m. at the McGill ballpark. We hope to see you all there! \n \nFind Out What More To Do In White Pine HERE!
URL:https://elynevada.net/event/mcgills-annual-labor-day-weekend/
LOCATION:McGill\, Nevada\, McGill\, NV\, 89318\, United States
CATEGORIES:Arts & Culture,Community,History
ATTACH;FMTTYPE=image/png:https://elynevada.net/wp-content/uploads/2020/07/Copy-of-Untitled-Design-9.png
END:VEVENT
END:VCALENDAR