BEGIN:VCALENDAR
VERSION:2.0
PRODID:-//Welcome To Ely - ECPv6.15.20//NONSGML v1.0//EN
CALSCALE:GREGORIAN
METHOD:PUBLISH
X-WR-CALNAME:Welcome To Ely
X-ORIGINAL-URL:https://elynevada.net
X-WR-CALDESC:Events for Welcome To Ely
REFRESH-INTERVAL;VALUE=DURATION:PT1H
X-Robots-Tag:noindex
X-PUBLISHED-TTL:PT1H
BEGIN:VTIMEZONE
TZID:America/Los_Angeles
BEGIN:DAYLIGHT
TZOFFSETFROM:-0800
TZOFFSETTO:-0700
TZNAME:PDT
DTSTART:20240310T100000
END:DAYLIGHT
BEGIN:STANDARD
TZOFFSETFROM:-0700
TZOFFSETTO:-0800
TZNAME:PST
DTSTART:20241103T090000
END:STANDARD
BEGIN:DAYLIGHT
TZOFFSETFROM:-0800
TZOFFSETTO:-0700
TZNAME:PDT
DTSTART:20250309T100000
END:DAYLIGHT
BEGIN:STANDARD
TZOFFSETFROM:-0700
TZOFFSETTO:-0800
TZNAME:PST
DTSTART:20251102T090000
END:STANDARD
BEGIN:DAYLIGHT
TZOFFSETFROM:-0800
TZOFFSETTO:-0700
TZNAME:PDT
DTSTART:20260308T100000
END:DAYLIGHT
BEGIN:STANDARD
TZOFFSETFROM:-0700
TZOFFSETTO:-0800
TZNAME:PST
DTSTART:20261101T090000
END:STANDARD
END:VTIMEZONE
BEGIN:VTIMEZONE
TZID:UTC
BEGIN:STANDARD
TZOFFSETFROM:+0000
TZOFFSETTO:+0000
TZNAME:UTC
DTSTART:20240101T000000
END:STANDARD
END:VTIMEZONE
BEGIN:VEVENT
DTSTART;TZID=America/Los_Angeles:20251003T100000
DTEND;TZID=America/Los_Angeles:20251003T160000
DTSTAMP:20260423T014513
CREATED:20250128T193920Z
LAST-MODIFIED:20250128T194014Z
UID:10003310-1759485600-1759507200@elynevada.net
SUMMARY:Ely Renaissance Village OPEN
DESCRIPTION:Ely Renaissance Village Open!\nFor the ultimate heritage experience of White Pine County\, the Ely Renaissance Village may top the list.\nTour a total of nine houses\, seven of which have each been themed after a different ethnic background that helped shape our community. The Village is made for vacation planning and is open Fridays and Saturdays in the summer. Check out the 360 video below\, which allows you to click and drag different views as it provides you a feel for the site before visiting it in person: https://bit.ly/3hGMr5d\n\nLearn More Here!
URL:https://elynevada.net/event/ely-renaissance-village-open-2/2025-10-03/
LOCATION:Ely Renaissance Village\, 400\, Ely\, NV\, 89301\, United States
CATEGORIES:Arts & Culture,Community,History
ATTACH;FMTTYPE=image/jpeg:https://elynevada.net/wp-content/uploads/2022/01/CoopyRenVillage4_SM.jpg
END:VEVENT
BEGIN:VEVENT
DTSTART;TZID=America/Los_Angeles:20251004T100000
DTEND;TZID=America/Los_Angeles:20251004T160000
DTSTAMP:20260423T014513
CREATED:20250128T193920Z
LAST-MODIFIED:20250128T194014Z
UID:10003311-1759572000-1759593600@elynevada.net
SUMMARY:Ely Renaissance Village OPEN
DESCRIPTION:Ely Renaissance Village Open!\nFor the ultimate heritage experience of White Pine County\, the Ely Renaissance Village may top the list.\nTour a total of nine houses\, seven of which have each been themed after a different ethnic background that helped shape our community. The Village is made for vacation planning and is open Fridays and Saturdays in the summer. Check out the 360 video below\, which allows you to click and drag different views as it provides you a feel for the site before visiting it in person: https://bit.ly/3hGMr5d\n\nLearn More Here!
URL:https://elynevada.net/event/ely-renaissance-village-open-2/2025-10-04/
LOCATION:Ely Renaissance Village\, 400\, Ely\, NV\, 89301\, United States
CATEGORIES:Arts & Culture,Community,History
ATTACH;FMTTYPE=image/jpeg:https://elynevada.net/wp-content/uploads/2022/01/CoopyRenVillage4_SM.jpg
END:VEVENT
BEGIN:VEVENT
DTSTART;TZID=America/Los_Angeles:20251004T170000
DTEND;TZID=America/Los_Angeles:20251004T200000
DTSTAMP:20260423T014513
CREATED:20250909T190029Z
LAST-MODIFIED:20250909T190054Z
UID:10004055-1759597200-1759608000@elynevada.net
SUMMARY:Nightmare on Aultman
DESCRIPTION:Nightmare on Aultman\nJoin us for an unforgettable evening of spooky celebration at Nightmare on Aultman\, the White Pine Public Museum’s annual Halloween event exclusively for adults ages 21 and over. Saturday\, October 4\, 2025\, from 5pm to 8pm at the White Pine Public Museum\, 2000 Aultman street! \n$40 Per Person | $35 Museum Members \nThis all-inclusive evening features a catered dinner (to be announced)\, live music\, and four complimentary beverage tickets! Costumes are highly encouraged\, and tickets are required for entry. Pre-sale tickets will be available for purchase at the White Pine Public Museum. If you don’t make the pre-sale\, door sell tickets will be available! \n \n\nWe look forward to welcoming you to an evening of chilling fun\, ghoulish treats\, wickedly delicious food\, and great company! \n\nDiscover More Fall White Pine Events HERE!
URL:https://elynevada.net/event/nightmare-on-aultman/
LOCATION:White Pine Public Museum\, 2000 East Aultman Street\, Ely\, NV\, 89301\, United States
CATEGORIES:Arts & Culture,Community,Fundraiser,Party
ATTACH;FMTTYPE=image/jpeg:https://elynevada.net/wp-content/uploads/2025/09/Nightmare-on-Aultman-Facebook-Banner.jpg
ORGANIZER;CN="White Pine Public Museum":MAILTO:wpmusuemnv@gmail.com
END:VEVENT
BEGIN:VEVENT
DTSTART;TZID=America/Los_Angeles:20251004T173000
DTEND;TZID=America/Los_Angeles:20251004T200000
DTSTAMP:20260423T014513
CREATED:20250225T230409Z
LAST-MODIFIED:20250225T230410Z
UID:10003563-1759599000-1759608000@elynevada.net
SUMMARY:NNRY Sunset\, Stars\, and Champagne Train
DESCRIPTION:The Nevada Northern Railway offers a most unique experience and look forward to having you join us for a ride back in history here in the mountains of Central Nevada\, this time for the Sunset\, Stars\, and Champagne Train! Venture out into the rural mountains of White Pine County for nothing less than picturesque views and our renowned dark skies\, all while relaxing and socializing with bottomless champagne. Basic info about Nevada Northern Railway rides\, including the Sunset\, Stars\, and Champagne Train can be found below. \n\nDon’t miss the train! All Nevada Northern Railway trains depart from ELY\, NV on-time\, regardless of the weather\, as they have for over a century now\, so be at the depot ready for boarding 30 minutes before departure time.\nEveryone needs a ticket\nNo passes or discounts are available on themed trains (other than Membership discount…see below)\nSorry\, pets are not allowed on the trains or tours. Certified service animals are always welcome\, but please take necessary precautions for this somewhat noisy\, industrial environment.\n\nLearn more about the Railway by clicking HERE!
URL:https://elynevada.net/event/nnry-sunset-stars-and-champagne-train-2/2025-10-04/
LOCATION:Nevada Northern Railway\, 1100 Avenue A\, Ely\, NV\, 89301\, United States
CATEGORIES:Arts & Culture,History,Stargazing
ATTACH;FMTTYPE=image/jpeg:https://elynevada.net/wp-content/uploads/2020/06/Couple-for-Sunset-Stars-Champagne.jpg
END:VEVENT
BEGIN:VEVENT
DTSTART;TZID=America/Los_Angeles:20251011T173000
DTEND;TZID=America/Los_Angeles:20251011T200000
DTSTAMP:20260423T014513
CREATED:20250225T230409Z
LAST-MODIFIED:20250225T230410Z
UID:10003564-1760203800-1760212800@elynevada.net
SUMMARY:NNRY Sunset\, Stars\, and Champagne Train
DESCRIPTION:The Nevada Northern Railway offers a most unique experience and look forward to having you join us for a ride back in history here in the mountains of Central Nevada\, this time for the Sunset\, Stars\, and Champagne Train! Venture out into the rural mountains of White Pine County for nothing less than picturesque views and our renowned dark skies\, all while relaxing and socializing with bottomless champagne. Basic info about Nevada Northern Railway rides\, including the Sunset\, Stars\, and Champagne Train can be found below. \n\nDon’t miss the train! All Nevada Northern Railway trains depart from ELY\, NV on-time\, regardless of the weather\, as they have for over a century now\, so be at the depot ready for boarding 30 minutes before departure time.\nEveryone needs a ticket\nNo passes or discounts are available on themed trains (other than Membership discount…see below)\nSorry\, pets are not allowed on the trains or tours. Certified service animals are always welcome\, but please take necessary precautions for this somewhat noisy\, industrial environment.\n\nLearn more about the Railway by clicking HERE!
URL:https://elynevada.net/event/nnry-sunset-stars-and-champagne-train-2/2025-10-11/
LOCATION:Nevada Northern Railway\, 1100 Avenue A\, Ely\, NV\, 89301\, United States
CATEGORIES:Arts & Culture,History,Stargazing
ATTACH;FMTTYPE=image/jpeg:https://elynevada.net/wp-content/uploads/2020/06/Couple-for-Sunset-Stars-Champagne.jpg
END:VEVENT
BEGIN:VEVENT
DTSTART;TZID=UTC:20251017T190000
DTEND;TZID=UTC:20251017T210000
DTSTAMP:20260423T014513
CREATED:20200529T065024Z
LAST-MODIFIED:20250303T210742Z
UID:10003893-1760727600-1760734800@elynevada.net
SUMMARY:Nevada Northern Railway Haunted Ghost Train
DESCRIPTION:It happens each October in this remote mountain town of Ely Nevada. The days grow shorter and the nights take on a definite chill. They say the Ghost Train of Old Ely comes “alive” in a whole different way.  Some say that there seem to be legions of demons\, ghosts\, and goblins invading the otherwise peaceful setting here on those special October nights. \nIt has become the Nevada Northern Railway’s job to predict exactly when there might be good sightings of all the mysterious happenings around Ely.  The schedule below has been carefully researched to provide the very best viewing of UFOs\, Headless Horsemen\, Hitchhiking Ghosts\, Haunted Tunnels\, Creepy Campfires\, and Ghastly Ghost towns right alongside Nevada Northern Railway’s original mainline up toward the old Ruth Mine through the old scary tunnels.  Is it scary?  Yes\, a little.  Is it fun?  Yes\, it is.  Is it a bit corny? Seriously?  Of course.  As they say\, come to have fun with friends and family\, or don’t come at all.  Costumes are warmly encouraged. \nYou may be asking exactly how all of these eerie and mysterious scenes occur right alongside the mainline.  You might also ask why almost 100 volunteers from the communities surrounding Ely disappear around the same time as the train trip.  You might also ask why many of the ghosts and goblins possessing the rail line look amazingly like those local citizens.  Could there be a coincidence?  You can decide for yourself.  We can’t give away the ghosts’ and demons’ secrets.  All we can say is that however it is done\, here’s a special thanks to the great\, heartfelt community support that this event enjoys each year.  We hope you enjoy the fruits of their labors as much as the community enjoys putting it on. \nSo\, are you brave enough to get on the Haunted Ghost Train of Old Ely this year?  Reservations are highly recommended. These trains almost always “sell out”\, so to speak.  Who wants to be left behind at the depot on a night like this? \nLearn more about the railway by clicking HERE!
URL:https://elynevada.net/event/nevada-northern-railway-haunted-ghost-train/2025-10-17/
LOCATION:Nevada Northern Railway\, 1100 Avenue A\, Ely\, NV\, 89301\, United States
CATEGORIES:Arts & Culture,Community
ATTACH;FMTTYPE=image/jpeg:https://elynevada.net/wp-content/uploads/2019/09/train.jpg
END:VEVENT
BEGIN:VEVENT
DTSTART;TZID=America/Los_Angeles:20251018T100000
DTEND;TZID=America/Los_Angeles:20251018T160000
DTSTAMP:20260423T014513
CREATED:20240201T090043Z
LAST-MODIFIED:20250905T191536Z
UID:10000988-1760781600-1760803200@elynevada.net
SUMMARY:Lions Ely Renaissance Fair
DESCRIPTION:Lions Club Ely Renaissance Fair\nThe Ely Lions Club’s Renaissance Faire returns to White Pine County once again! And\, once again\, expect fun\, food\, games\, prizes\, and an exciting time. Fun for the whole family! \nThe traditional Punkin’ Chunkin’ has gone Medieval! \nPumpkins will fly\, and knights will battle as the Punkin Chunkin’ returns to Ely\, Nevada.\n\nWhere: Broadbent Park\nWhen: Oct. 18th\, 2025 10:00am-4:00pm\n\nYou don’t want to miss this full day of autumnal activities and medieval merriment!\n\n\nAlso expect the usual pumpkin patch\, punkin’ chunkin’ throwing contest\, pumpkin drops\, bounce house and carnival games\, and music and food. Hope to see you this October! \nDiscover More Events of White Pine County HERE!
URL:https://elynevada.net/event/lions-ely-renaissance-fair/
LOCATION:Broadbent Park
CATEGORIES:Arts & Culture,Community
ATTACH;FMTTYPE=image/jpeg:https://elynevada.net/wp-content/uploads/2024/02/Renaissance-Faire_2025_1640x856.jpg
ORGANIZER;CN="Ely Lions Club":MAILTO:elylions@hotmail.com
END:VEVENT
BEGIN:VEVENT
DTSTART;TZID=UTC:20251018T190000
DTEND;TZID=UTC:20251018T210000
DTSTAMP:20260423T014513
CREATED:20200529T065024Z
LAST-MODIFIED:20250303T210742Z
UID:10003894-1760814000-1760821200@elynevada.net
SUMMARY:Nevada Northern Railway Haunted Ghost Train
DESCRIPTION:It happens each October in this remote mountain town of Ely Nevada. The days grow shorter and the nights take on a definite chill. They say the Ghost Train of Old Ely comes “alive” in a whole different way.  Some say that there seem to be legions of demons\, ghosts\, and goblins invading the otherwise peaceful setting here on those special October nights. \nIt has become the Nevada Northern Railway’s job to predict exactly when there might be good sightings of all the mysterious happenings around Ely.  The schedule below has been carefully researched to provide the very best viewing of UFOs\, Headless Horsemen\, Hitchhiking Ghosts\, Haunted Tunnels\, Creepy Campfires\, and Ghastly Ghost towns right alongside Nevada Northern Railway’s original mainline up toward the old Ruth Mine through the old scary tunnels.  Is it scary?  Yes\, a little.  Is it fun?  Yes\, it is.  Is it a bit corny? Seriously?  Of course.  As they say\, come to have fun with friends and family\, or don’t come at all.  Costumes are warmly encouraged. \nYou may be asking exactly how all of these eerie and mysterious scenes occur right alongside the mainline.  You might also ask why almost 100 volunteers from the communities surrounding Ely disappear around the same time as the train trip.  You might also ask why many of the ghosts and goblins possessing the rail line look amazingly like those local citizens.  Could there be a coincidence?  You can decide for yourself.  We can’t give away the ghosts’ and demons’ secrets.  All we can say is that however it is done\, here’s a special thanks to the great\, heartfelt community support that this event enjoys each year.  We hope you enjoy the fruits of their labors as much as the community enjoys putting it on. \nSo\, are you brave enough to get on the Haunted Ghost Train of Old Ely this year?  Reservations are highly recommended. These trains almost always “sell out”\, so to speak.  Who wants to be left behind at the depot on a night like this? \nLearn more about the railway by clicking HERE!
URL:https://elynevada.net/event/nevada-northern-railway-haunted-ghost-train/2025-10-18/
LOCATION:Nevada Northern Railway\, 1100 Avenue A\, Ely\, NV\, 89301\, United States
CATEGORIES:Arts & Culture,Community
ATTACH;FMTTYPE=image/jpeg:https://elynevada.net/wp-content/uploads/2019/09/train.jpg
END:VEVENT
BEGIN:VEVENT
DTSTART;TZID=America/Los_Angeles:20251019T140000
DTEND;TZID=America/Los_Angeles:20251019T153000
DTSTAMP:20260423T014513
CREATED:20250107T205433Z
LAST-MODIFIED:20250408T182844Z
UID:10003981-1760882400-1760887800@elynevada.net
SUMMARY:GET LIT Book Club
DESCRIPTION:GET LIT Book Club\nBristlecone General Store Book Club
URL:https://elynevada.net/event/get-lit-book-club/2025-10-19/
LOCATION:Bristlecone General Store\, 115 S. Baker Ave.\, Baker\, NV\, 89311\, United States
CATEGORIES:Arts & Culture
ATTACH;FMTTYPE=image/jpeg:https://elynevada.net/wp-content/uploads/2025/01/Get-Lit-2025-First-Half.jpg
ORGANIZER;CN="Bristlecone General Store":MAILTO:stay@stargazernevada.com
END:VEVENT
BEGIN:VEVENT
DTSTART;TZID=UTC:20251024T190000
DTEND;TZID=UTC:20251024T210000
DTSTAMP:20260423T014513
CREATED:20200529T065024Z
LAST-MODIFIED:20250303T210742Z
UID:10003895-1761332400-1761339600@elynevada.net
SUMMARY:Nevada Northern Railway Haunted Ghost Train
DESCRIPTION:It happens each October in this remote mountain town of Ely Nevada. The days grow shorter and the nights take on a definite chill. They say the Ghost Train of Old Ely comes “alive” in a whole different way.  Some say that there seem to be legions of demons\, ghosts\, and goblins invading the otherwise peaceful setting here on those special October nights. \nIt has become the Nevada Northern Railway’s job to predict exactly when there might be good sightings of all the mysterious happenings around Ely.  The schedule below has been carefully researched to provide the very best viewing of UFOs\, Headless Horsemen\, Hitchhiking Ghosts\, Haunted Tunnels\, Creepy Campfires\, and Ghastly Ghost towns right alongside Nevada Northern Railway’s original mainline up toward the old Ruth Mine through the old scary tunnels.  Is it scary?  Yes\, a little.  Is it fun?  Yes\, it is.  Is it a bit corny? Seriously?  Of course.  As they say\, come to have fun with friends and family\, or don’t come at all.  Costumes are warmly encouraged. \nYou may be asking exactly how all of these eerie and mysterious scenes occur right alongside the mainline.  You might also ask why almost 100 volunteers from the communities surrounding Ely disappear around the same time as the train trip.  You might also ask why many of the ghosts and goblins possessing the rail line look amazingly like those local citizens.  Could there be a coincidence?  You can decide for yourself.  We can’t give away the ghosts’ and demons’ secrets.  All we can say is that however it is done\, here’s a special thanks to the great\, heartfelt community support that this event enjoys each year.  We hope you enjoy the fruits of their labors as much as the community enjoys putting it on. \nSo\, are you brave enough to get on the Haunted Ghost Train of Old Ely this year?  Reservations are highly recommended. These trains almost always “sell out”\, so to speak.  Who wants to be left behind at the depot on a night like this? \nLearn more about the railway by clicking HERE!
URL:https://elynevada.net/event/nevada-northern-railway-haunted-ghost-train/2025-10-24/
LOCATION:Nevada Northern Railway\, 1100 Avenue A\, Ely\, NV\, 89301\, United States
CATEGORIES:Arts & Culture,Community
ATTACH;FMTTYPE=image/jpeg:https://elynevada.net/wp-content/uploads/2019/09/train.jpg
END:VEVENT
BEGIN:VEVENT
DTSTART;TZID=UTC:20251025T190000
DTEND;TZID=UTC:20251025T210000
DTSTAMP:20260423T014513
CREATED:20200529T065024Z
LAST-MODIFIED:20250303T210742Z
UID:10003896-1761418800-1761426000@elynevada.net
SUMMARY:Nevada Northern Railway Haunted Ghost Train
DESCRIPTION:It happens each October in this remote mountain town of Ely Nevada. The days grow shorter and the nights take on a definite chill. They say the Ghost Train of Old Ely comes “alive” in a whole different way.  Some say that there seem to be legions of demons\, ghosts\, and goblins invading the otherwise peaceful setting here on those special October nights. \nIt has become the Nevada Northern Railway’s job to predict exactly when there might be good sightings of all the mysterious happenings around Ely.  The schedule below has been carefully researched to provide the very best viewing of UFOs\, Headless Horsemen\, Hitchhiking Ghosts\, Haunted Tunnels\, Creepy Campfires\, and Ghastly Ghost towns right alongside Nevada Northern Railway’s original mainline up toward the old Ruth Mine through the old scary tunnels.  Is it scary?  Yes\, a little.  Is it fun?  Yes\, it is.  Is it a bit corny? Seriously?  Of course.  As they say\, come to have fun with friends and family\, or don’t come at all.  Costumes are warmly encouraged. \nYou may be asking exactly how all of these eerie and mysterious scenes occur right alongside the mainline.  You might also ask why almost 100 volunteers from the communities surrounding Ely disappear around the same time as the train trip.  You might also ask why many of the ghosts and goblins possessing the rail line look amazingly like those local citizens.  Could there be a coincidence?  You can decide for yourself.  We can’t give away the ghosts’ and demons’ secrets.  All we can say is that however it is done\, here’s a special thanks to the great\, heartfelt community support that this event enjoys each year.  We hope you enjoy the fruits of their labors as much as the community enjoys putting it on. \nSo\, are you brave enough to get on the Haunted Ghost Train of Old Ely this year?  Reservations are highly recommended. These trains almost always “sell out”\, so to speak.  Who wants to be left behind at the depot on a night like this? \nLearn more about the railway by clicking HERE!
URL:https://elynevada.net/event/nevada-northern-railway-haunted-ghost-train/2025-10-25/
LOCATION:Nevada Northern Railway\, 1100 Avenue A\, Ely\, NV\, 89301\, United States
CATEGORIES:Arts & Culture,Community
ATTACH;FMTTYPE=image/jpeg:https://elynevada.net/wp-content/uploads/2019/09/train.jpg
END:VEVENT
BEGIN:VEVENT
DTSTART;TZID=America/Los_Angeles:20251031T180000
DTEND;TZID=America/Los_Angeles:20251031T220000
DTSTAMP:20260423T014513
CREATED:20250908T203345Z
LAST-MODIFIED:20250908T203403Z
UID:10004054-1761933600-1761948000@elynevada.net
SUMMARY:Grown-Up Halloween Fun
DESCRIPTION:Grown-Up Halloween Fun\nSave the date because costumes\, cocktails\, and chills await! mark your calendar for a night of grown-up Halloween fun at the Elks Lodge!
URL:https://elynevada.net/event/grown-up-halloween-fun/
LOCATION:Ely Elks Lodge\, 694 Campton St.\, Ely\, NV\, 89301\, United States
CATEGORIES:Arts & Culture,Community,Fundraiser,Party
ATTACH;FMTTYPE=image/jpeg:https://elynevada.net/wp-content/uploads/2025/09/Come-Hang-Out-With-Us-Elks-Lodge.jpg
ORGANIZER;CN="Ely Elks Lodge":MAILTO:elyelks1469@att.net
END:VEVENT
END:VCALENDAR