BEGIN:VCALENDAR
VERSION:2.0
PRODID:-//Welcome To Ely - ECPv6.15.20//NONSGML v1.0//EN
CALSCALE:GREGORIAN
METHOD:PUBLISH
X-ORIGINAL-URL:https://elynevada.net
X-WR-CALDESC:Events for Welcome To Ely
REFRESH-INTERVAL;VALUE=DURATION:PT1H
X-Robots-Tag:noindex
X-PUBLISHED-TTL:PT1H
BEGIN:VTIMEZONE
TZID:America/Los_Angeles
BEGIN:DAYLIGHT
TZOFFSETFROM:-0800
TZOFFSETTO:-0700
TZNAME:PDT
DTSTART:20250309T100000
END:DAYLIGHT
BEGIN:STANDARD
TZOFFSETFROM:-0700
TZOFFSETTO:-0800
TZNAME:PST
DTSTART:20251102T090000
END:STANDARD
BEGIN:DAYLIGHT
TZOFFSETFROM:-0800
TZOFFSETTO:-0700
TZNAME:PDT
DTSTART:20260308T100000
END:DAYLIGHT
BEGIN:STANDARD
TZOFFSETFROM:-0700
TZOFFSETTO:-0800
TZNAME:PST
DTSTART:20261101T090000
END:STANDARD
BEGIN:DAYLIGHT
TZOFFSETFROM:-0800
TZOFFSETTO:-0700
TZNAME:PDT
DTSTART:20270314T100000
END:DAYLIGHT
BEGIN:STANDARD
TZOFFSETFROM:-0700
TZOFFSETTO:-0800
TZNAME:PST
DTSTART:20271107T090000
END:STANDARD
END:VTIMEZONE
BEGIN:VEVENT
DTSTART;TZID=America/Los_Angeles:20260116T090000
DTEND;TZID=America/Los_Angeles:20260116T200000
DTSTAMP:20260422T214833
CREATED:20251208T223529Z
LAST-MODIFIED:20260116T002725Z
UID:10004072-1768554000-1768593600@elynevada.net
SUMMARY:Fire & Ice Winter Festival - 2026
DESCRIPTION:Fire & Ice Winter Festival – 2026\nIt’s here: The Fire and Ice Winter Festival – 2026 celebrates everything White Pine County offers during the winter months. \nThe community-wide festival will once again have multiple events throughout the area for people of all ages. Locations include Nevada Northern Railway\, downtown businesses\, and Ward Mtn Recreation Area\, and Cave Lake State Park. Bring the entire family down for activities around sports\, arts\, food and drink\, tournaments\, live music and more. Snow Sculptures are entirely dependent on the weather\, but keep your fingers crossed! Teams interested in competing should contact the convention center at (775) 289-3720. \n  \nFriday January 16th –9am-4:30pm\, Desert Rose Ceramics: Open Ceramics Painting11am-4:30pm: White Pine Public Museum is Open!3:30pm-4:30pm\, Downtown Ely: Mural Walking Tour\, Meet at Economy Drug6:30pm\, Bristlecone Convention Center: FREE Concert\, feat. Runaway Fire\nCalTech DSA 2000 Space Trivia w/ Prizes During Band Set Breaks\n\nSaturday\, January 17th –8am\, Ward Mtn. Recreation Area: Ely Outdoor Enthusiasts Bristlecone Birkebeiner Winter Fest9am-4:30pm\, Desert Rose Ceramics: Open Ceramics Painting11am-4:30pm: White Pine Public Museum is Open!12:00pm-5:00pm\, Shooters Bar & Grill: Pool Tournament1:00pm\, Nevada Northern Railway: Train Excursion through Robinson Canyon1:00pm-4:00pm\, Sunset Lanes Bowling Center: Bowling Tournament2:00pm\, Ely Central Theater: Feature Length Movie4:30pm-8:00pm\, Outpost Bar: Pool Tournament6:00pm\, Nevada Northern Railway: Fireworks Off the Back of the Train7:00pm\, Nevada Northern Railway: Art Sculpture Bonfire\, A Food Truck Will Be Parked & Open\n7:00pm\, Nevada Northern Railway: CalTech DSA 2000 Stargazing Station w/ Professional-Grade Telescopes7:00pm\, Ely Central Theater: Feature Length Movie8:00pm\, Outpost Bar: Karaoke!!!\n\nSunday\, January 18th –8:00am\, Broadbent Park: Art Contest Begins!!!9:00am\, Cave Lake State Park: Morning Hike11am-4:30pm: White Pine Public Museum is Open!11:00am-3:00pm\, Broadbent Park: A Food Truck Will Be Parked & Open\n11:00am-3:00pm\, Broadbent Park: CalTech DSA 2000 Daytime Sun Telescopes Set Up for Viewing11:00am-3:00pm\, Broadbent Park: Ice Horseshoe Tournament11:00am-3:00pm\, Broadbent Park: Cornhole Tournament\, Must Register Before Event\, Call (775) 296-64952:00pm\, Broadbent Park: Ice Sculpture Contest Ends & Displays Are Ready For Judging!2:00pm\, Ely Central Theater: Feature Length Movie\n5:00pm\, The Outpost: Sip and Paint Night5:30pm\, Broadbent Park: Fireworks Display presented by Great Basin Pyrotechnics6:30pm\, Veterans Park\, Ely: Nighttime Glow Disc Golf Tournament\, Sign-Up in Advance\, Call (775) 289-37207:00pm\, Ely Central Theater: Feature Length Movie\n\n\n\nMore Info about the Bristlecone Birkebeiner can be found HERE!\nMore Info for the entire festival can be found HERE!
URL:https://elynevada.net/event/fire-ice-winter-festival-2026/2026-01-16/
LOCATION:Ely\, NV\, 89301\, United States
CATEGORIES:Arts & Culture,Community,Party,Sports
ATTACH;FMTTYPE=image/png:https://elynevada.net/wp-content/uploads/2025/12/image-15.png
ORGANIZER;CN="White PIne County Tourism and Recreation":MAILTO:nicole.collard@elynevada.net
END:VEVENT
BEGIN:VEVENT
DTSTART;TZID=America/Los_Angeles:20260117T080000
DTEND;TZID=America/Los_Angeles:20260117T220000
DTSTAMP:20260422T214833
CREATED:20251208T223529Z
LAST-MODIFIED:20260116T002725Z
UID:10004073-1768636800-1768687200@elynevada.net
SUMMARY:Fire & Ice Winter Festival - 2026
DESCRIPTION:Fire & Ice Winter Festival – 2026\nIt’s here: The Fire and Ice Winter Festival – 2026 celebrates everything White Pine County offers during the winter months. \nThe community-wide festival will once again have multiple events throughout the area for people of all ages. Locations include Nevada Northern Railway\, downtown businesses\, and Ward Mtn Recreation Area\, and Cave Lake State Park. Bring the entire family down for activities around sports\, arts\, food and drink\, tournaments\, live music and more. Snow Sculptures are entirely dependent on the weather\, but keep your fingers crossed! Teams interested in competing should contact the convention center at (775) 289-3720. \n  \nFriday January 16th –9am-4:30pm\, Desert Rose Ceramics: Open Ceramics Painting11am-4:30pm: White Pine Public Museum is Open!3:30pm-4:30pm\, Downtown Ely: Mural Walking Tour\, Meet at Economy Drug6:30pm\, Bristlecone Convention Center: FREE Concert\, feat. Runaway Fire\nCalTech DSA 2000 Space Trivia w/ Prizes During Band Set Breaks\n\nSaturday\, January 17th –8am\, Ward Mtn. Recreation Area: Ely Outdoor Enthusiasts Bristlecone Birkebeiner Winter Fest9am-4:30pm\, Desert Rose Ceramics: Open Ceramics Painting11am-4:30pm: White Pine Public Museum is Open!12:00pm-5:00pm\, Shooters Bar & Grill: Pool Tournament1:00pm\, Nevada Northern Railway: Train Excursion through Robinson Canyon1:00pm-4:00pm\, Sunset Lanes Bowling Center: Bowling Tournament2:00pm\, Ely Central Theater: Feature Length Movie4:30pm-8:00pm\, Outpost Bar: Pool Tournament6:00pm\, Nevada Northern Railway: Fireworks Off the Back of the Train7:00pm\, Nevada Northern Railway: Art Sculpture Bonfire\, A Food Truck Will Be Parked & Open\n7:00pm\, Nevada Northern Railway: CalTech DSA 2000 Stargazing Station w/ Professional-Grade Telescopes7:00pm\, Ely Central Theater: Feature Length Movie8:00pm\, Outpost Bar: Karaoke!!!\n\nSunday\, January 18th –8:00am\, Broadbent Park: Art Contest Begins!!!9:00am\, Cave Lake State Park: Morning Hike11am-4:30pm: White Pine Public Museum is Open!11:00am-3:00pm\, Broadbent Park: A Food Truck Will Be Parked & Open\n11:00am-3:00pm\, Broadbent Park: CalTech DSA 2000 Daytime Sun Telescopes Set Up for Viewing11:00am-3:00pm\, Broadbent Park: Ice Horseshoe Tournament11:00am-3:00pm\, Broadbent Park: Cornhole Tournament\, Must Register Before Event\, Call (775) 296-64952:00pm\, Broadbent Park: Ice Sculpture Contest Ends & Displays Are Ready For Judging!2:00pm\, Ely Central Theater: Feature Length Movie\n5:00pm\, The Outpost: Sip and Paint Night5:30pm\, Broadbent Park: Fireworks Display presented by Great Basin Pyrotechnics6:30pm\, Veterans Park\, Ely: Nighttime Glow Disc Golf Tournament\, Sign-Up in Advance\, Call (775) 289-37207:00pm\, Ely Central Theater: Feature Length Movie\n\n\n\nMore Info about the Bristlecone Birkebeiner can be found HERE!\nMore Info for the entire festival can be found HERE!
URL:https://elynevada.net/event/fire-ice-winter-festival-2026/2026-01-17/
LOCATION:Ely\, NV\, 89301\, United States
CATEGORIES:Arts & Culture,Community,Party,Sports
ATTACH;FMTTYPE=image/png:https://elynevada.net/wp-content/uploads/2025/12/image-15.png
ORGANIZER;CN="White PIne County Tourism and Recreation":MAILTO:nicole.collard@elynevada.net
END:VEVENT
BEGIN:VEVENT
DTSTART;TZID=America/Los_Angeles:20260118T080000
DTEND;TZID=America/Los_Angeles:20260118T210000
DTSTAMP:20260422T214833
CREATED:20251208T223529Z
LAST-MODIFIED:20260116T002725Z
UID:10004074-1768723200-1768770000@elynevada.net
SUMMARY:Fire & Ice Winter Festival - 2026
DESCRIPTION:Fire & Ice Winter Festival – 2026\nIt’s here: The Fire and Ice Winter Festival – 2026 celebrates everything White Pine County offers during the winter months. \nThe community-wide festival will once again have multiple events throughout the area for people of all ages. Locations include Nevada Northern Railway\, downtown businesses\, and Ward Mtn Recreation Area\, and Cave Lake State Park. Bring the entire family down for activities around sports\, arts\, food and drink\, tournaments\, live music and more. Snow Sculptures are entirely dependent on the weather\, but keep your fingers crossed! Teams interested in competing should contact the convention center at (775) 289-3720. \n  \nFriday January 16th –9am-4:30pm\, Desert Rose Ceramics: Open Ceramics Painting11am-4:30pm: White Pine Public Museum is Open!3:30pm-4:30pm\, Downtown Ely: Mural Walking Tour\, Meet at Economy Drug6:30pm\, Bristlecone Convention Center: FREE Concert\, feat. Runaway Fire\nCalTech DSA 2000 Space Trivia w/ Prizes During Band Set Breaks\n\nSaturday\, January 17th –8am\, Ward Mtn. Recreation Area: Ely Outdoor Enthusiasts Bristlecone Birkebeiner Winter Fest9am-4:30pm\, Desert Rose Ceramics: Open Ceramics Painting11am-4:30pm: White Pine Public Museum is Open!12:00pm-5:00pm\, Shooters Bar & Grill: Pool Tournament1:00pm\, Nevada Northern Railway: Train Excursion through Robinson Canyon1:00pm-4:00pm\, Sunset Lanes Bowling Center: Bowling Tournament2:00pm\, Ely Central Theater: Feature Length Movie4:30pm-8:00pm\, Outpost Bar: Pool Tournament6:00pm\, Nevada Northern Railway: Fireworks Off the Back of the Train7:00pm\, Nevada Northern Railway: Art Sculpture Bonfire\, A Food Truck Will Be Parked & Open\n7:00pm\, Nevada Northern Railway: CalTech DSA 2000 Stargazing Station w/ Professional-Grade Telescopes7:00pm\, Ely Central Theater: Feature Length Movie8:00pm\, Outpost Bar: Karaoke!!!\n\nSunday\, January 18th –8:00am\, Broadbent Park: Art Contest Begins!!!9:00am\, Cave Lake State Park: Morning Hike11am-4:30pm: White Pine Public Museum is Open!11:00am-3:00pm\, Broadbent Park: A Food Truck Will Be Parked & Open\n11:00am-3:00pm\, Broadbent Park: CalTech DSA 2000 Daytime Sun Telescopes Set Up for Viewing11:00am-3:00pm\, Broadbent Park: Ice Horseshoe Tournament11:00am-3:00pm\, Broadbent Park: Cornhole Tournament\, Must Register Before Event\, Call (775) 296-64952:00pm\, Broadbent Park: Ice Sculpture Contest Ends & Displays Are Ready For Judging!2:00pm\, Ely Central Theater: Feature Length Movie\n5:00pm\, The Outpost: Sip and Paint Night5:30pm\, Broadbent Park: Fireworks Display presented by Great Basin Pyrotechnics6:30pm\, Veterans Park\, Ely: Nighttime Glow Disc Golf Tournament\, Sign-Up in Advance\, Call (775) 289-37207:00pm\, Ely Central Theater: Feature Length Movie\n\n\n\nMore Info about the Bristlecone Birkebeiner can be found HERE!\nMore Info for the entire festival can be found HERE!
URL:https://elynevada.net/event/fire-ice-winter-festival-2026/2026-01-18/
LOCATION:Ely\, NV\, 89301\, United States
CATEGORIES:Arts & Culture,Community,Party,Sports
ATTACH;FMTTYPE=image/png:https://elynevada.net/wp-content/uploads/2025/12/image-15.png
ORGANIZER;CN="White PIne County Tourism and Recreation":MAILTO:nicole.collard@elynevada.net
END:VEVENT
BEGIN:VEVENT
DTSTART;TZID=America/Los_Angeles:20260118T140000
DTEND;TZID=America/Los_Angeles:20260118T150000
DTSTAMP:20260422T214833
CREATED:20260107T191942Z
LAST-MODIFIED:20260107T191943Z
UID:10004086-1768744800-1768748400@elynevada.net
SUMMARY:GET LIT (Jan. 2026)
DESCRIPTION:GET LIT (Jan. 2026)\nBristlecone General Store Book Club
URL:https://elynevada.net/event/get-lit-jan-2026/
LOCATION:Bristlecone General Store\, 115 S. Baker Ave.\, Baker\, NV\, 89311\, United States
CATEGORIES:Arts & Culture,Community
ATTACH;FMTTYPE=image/jpeg:https://elynevada.net/wp-content/uploads/2026/01/GET-LIT-Jan.-2026.jpg
ORGANIZER;CN="Bristlecone General Store":MAILTO:stay@stargazernevada.com
END:VEVENT
BEGIN:VEVENT
DTSTART;TZID=America/Los_Angeles:20260127T180000
DTEND;TZID=America/Los_Angeles:20260127T200000
DTSTAMP:20260422T214833
CREATED:20260124T000053Z
LAST-MODIFIED:20260124T000054Z
UID:10004107-1769536800-1769544000@elynevada.net
SUMMARY:Great Basin Virtual Speaker Series
DESCRIPTION:Great Basin Virtual Speaker Series\nGreat Basin Virtual Speaker Series per Great Basin National Park foundation: \n“In 2026\, Great Basin National Park celebrates its 40th anniversary – a milestone shaped by decades of scientific research\, stewardship\, and community passion. To honor this legacy and expand access to the stories that make the Park extraordinary\, Great Basin National Park Foundation is launching a monthly Virtual Speaker Series. \n‘Whether you’re a longtime Park enthusiast and explorer\, or someone discovering Great Basin National Park for the first time\, the series will offer a unique opportunity to see the Park through new perspectives. We hope you’ll join us!” \nTuesday\, January 27\, 6 pm pacific time – Kick-Off Program \nSuperintendent Stories \nOur kick-off event will feature three former Great Basin National Park superintendents whose leadership and passion helped define Great Basin National Park’s identity\, protect its resources\, and expand its impact\, sustainability\, accessibility\, and significance. \nRegister\nLearn more about our event and speakers!\n \nTuesday\, February 24\, 6 pm pacific time – The Park / Art Connection \nWhat happens when painters\, photographers\, and composers immerse themselves in one of the most remote and inspiring landscapes in America? How do creativity\, conservation\, and place intertwine? And why does art matter in National Parks? \nIn this program we will be joined by four former Great Basin National Park Artists-in-Residence – painters\, writers\, and composers – to discuss why and how art benefits national parks and national parks benefit artists. \nRegister\nLearn more about our event and speakers!\n \nTuesday\, March 24\, 5:30 pm pacific time – Packrat Middens: Uncovering Thousands of Years of Biotic Change in the Great Basin \nDid you know that packrat’s preserved nests have provided significant insight into Great Basin’s climate and biota through time? Discover packrats’ biological and ecological significance to mammalian research and beyond with Dr. Ally Coconis\, packrat researcher and Curator of Mammalogy at the Santa Barbara Museum of Natural History. \nRegister\nLearn more about our event and speaker!\n \nTuesday\, April 21\, 6 pm pacific time – Water Warriors \nWater is essential to life in the Great Basin desert. In this program\, writer Michael Branch will share stories from his new book project\, Water Warriors\, which tells the inspiring story of how a colorful and diverse underdog alliance of rural Nevadans won a monumental battle in the water wars of the west\, and helped safeguard water essential to life within the Great Basin region. \nRegister\nLearn more about our event and speaker!
URL:https://elynevada.net/event/great-basin-virtual-speaker-series/2026-01-27/
LOCATION:NV
CATEGORIES:Arts & Culture,Community,History,Stargazing
ATTACH;FMTTYPE=image/png:https://elynevada.net/wp-content/uploads/2026/01/Great-Basin-Virtual-Speaker-Series.png
END:VEVENT
END:VCALENDAR