BEGIN:VCALENDAR
VERSION:2.0
PRODID:-//Welcome To Ely - ECPv6.15.20//NONSGML v1.0//EN
CALSCALE:GREGORIAN
METHOD:PUBLISH
X-WR-CALNAME:Welcome To Ely
X-ORIGINAL-URL:https://elynevada.net
X-WR-CALDESC:Events for Welcome To Ely
REFRESH-INTERVAL;VALUE=DURATION:PT1H
X-Robots-Tag:noindex
X-PUBLISHED-TTL:PT1H
BEGIN:VTIMEZONE
TZID:America/Los_Angeles
BEGIN:DAYLIGHT
TZOFFSETFROM:-0800
TZOFFSETTO:-0700
TZNAME:PDT
DTSTART:20230312T100000
END:DAYLIGHT
BEGIN:STANDARD
TZOFFSETFROM:-0700
TZOFFSETTO:-0800
TZNAME:PST
DTSTART:20231105T090000
END:STANDARD
BEGIN:DAYLIGHT
TZOFFSETFROM:-0800
TZOFFSETTO:-0700
TZNAME:PDT
DTSTART:20240310T100000
END:DAYLIGHT
BEGIN:STANDARD
TZOFFSETFROM:-0700
TZOFFSETTO:-0800
TZNAME:PST
DTSTART:20241103T090000
END:STANDARD
BEGIN:DAYLIGHT
TZOFFSETFROM:-0800
TZOFFSETTO:-0700
TZNAME:PDT
DTSTART:20250309T100000
END:DAYLIGHT
BEGIN:STANDARD
TZOFFSETFROM:-0700
TZOFFSETTO:-0800
TZNAME:PST
DTSTART:20251102T090000
END:STANDARD
END:VTIMEZONE
BEGIN:VEVENT
DTSTART;TZID=America/Los_Angeles:20240824T180000
DTEND;TZID=America/Los_Angeles:20240824T210000
DTSTAMP:20260424T144800
CREATED:20240207T054716Z
LAST-MODIFIED:20240819T185835Z
UID:10000715-1724522400-1724533200@elynevada.net
SUMMARY:Ely 2024 Summer Concerts in the Park
DESCRIPTION:Ely 2024 Summer Concerts in the Park\nJoin us this summer for our Ely 204 Summer Concerts in the Park!   We’re very excited to keep the music going this summer\, and it’s all taking place at Broadbent Park. Looking forward to seeing the community come down for these FREE shows. Let’s support these amazing musicians and let them feel welcome. Everyone is invited! These shows are made for families\, friends\, and blankets in the grass. \n \nAugust 24th – Andrew Sheppard \nAndrew Sheppard Bio: \nAndrew is a singer/ songwriter and performer who recently gave a remarkable performance on the NBC Television show\, American Song Contest. He competed on behalf of Idaho playing his new single “Steady Machine”\, which is available now on all streaming platforms. Andrew was born and raised in Hailey\, Idaho\, and moved to Los Angeles after high school where he honed his skills as a writer and musician. Missing the mountains\, he eventually made his way back to Idaho. But his travels frequently take him back to L.A. as well as Nashville\, TN\, which he also called home for awhile. Andrew’s music is honest\, accessible and just plain good to listen to. His new album is set to release in fall 2023. \nWebsite: Andrew Sheppard (andrewsheppardmusic.com) \nYouTube: Andrew Sheppard – Get It While You Can \nFacebook: Facebook Andrew Sheppard Music
URL:https://elynevada.net/event/ely-2024-summer-concerts-in-the-park-5/
LOCATION:Broadbent Park
CATEGORIES:Arts & Culture,Concert
ATTACH;FMTTYPE=image/jpeg:https://elynevada.net/wp-content/uploads/2024/02/Ely-Summer-Concerts-Facebook-Cover_Updated-Fuck-Wolf-jett.jpg
ORGANIZER;CN="White PIne County Tourism and Recreation":MAILTO:nicole.collard@elynevada.net
END:VEVENT
END:VCALENDAR