BEGIN:VCALENDAR
VERSION:2.0
PRODID:-//Welcome To Ely - ECPv6.15.20//NONSGML v1.0//EN
CALSCALE:GREGORIAN
METHOD:PUBLISH
X-ORIGINAL-URL:https://elynevada.net
X-WR-CALDESC:Events for Welcome To Ely
REFRESH-INTERVAL;VALUE=DURATION:PT1H
X-Robots-Tag:noindex
X-PUBLISHED-TTL:PT1H
BEGIN:VTIMEZONE
TZID:America/Los_Angeles
BEGIN:DAYLIGHT
TZOFFSETFROM:-0800
TZOFFSETTO:-0700
TZNAME:PDT
DTSTART:20240310T100000
END:DAYLIGHT
BEGIN:STANDARD
TZOFFSETFROM:-0700
TZOFFSETTO:-0800
TZNAME:PST
DTSTART:20241103T090000
END:STANDARD
BEGIN:DAYLIGHT
TZOFFSETFROM:-0800
TZOFFSETTO:-0700
TZNAME:PDT
DTSTART:20250309T100000
END:DAYLIGHT
BEGIN:STANDARD
TZOFFSETFROM:-0700
TZOFFSETTO:-0800
TZNAME:PST
DTSTART:20251102T090000
END:STANDARD
BEGIN:DAYLIGHT
TZOFFSETFROM:-0800
TZOFFSETTO:-0700
TZNAME:PDT
DTSTART:20260308T100000
END:DAYLIGHT
BEGIN:STANDARD
TZOFFSETFROM:-0700
TZOFFSETTO:-0800
TZNAME:PST
DTSTART:20261101T090000
END:STANDARD
END:VTIMEZONE
BEGIN:VEVENT
DTSTART;TZID=America/Los_Angeles:20250301T100000
DTEND;TZID=America/Los_Angeles:20250301T110000
DTSTAMP:20260423T160951
CREATED:20250210T233900Z
LAST-MODIFIED:20250210T233951Z
UID:10003431-1740823200-1740826800@elynevada.net
SUMMARY:3rd Annual Mardi Gras Parade in Baker
DESCRIPTION:3rd Annual Mardi Gras Parade in Baker\nSAT. MARCH 1st. 10am. MARDI GRAS PARADE\nMark your calendars and start building your floats for the 3rd Annual Mardi Gras Parade in downtown Baker.This year the parade will have a tropical theme in honor of the Eskdale High School Choir’s upcoming trip to Hawaii.\n\nFloats and costumes can embrace this theme or just have a Mardi Gras flare! Dogs\, horses\, bicycles\, quads\, fire trucks\, ranch vehicles – anything goes!\n\nInvite your family and friends to come watch the festivities. Bundle up and grab some beads as the saints go marching in and then stick around for more fun throughout town. Itinerary forthcoming. Stay tuned.
URL:https://elynevada.net/event/3rd-annual-mardi-gras-parade-in-baker/
LOCATION:Downtown Baker\, Baker\, NV\, United States
CATEGORIES:Arts & Culture,Community
ATTACH;FMTTYPE=image/jpeg:https://elynevada.net/wp-content/uploads/2025/02/3rd-Annual-Mardi-Gras-Parade-in-Baker.jpg
ORGANIZER;CN="Bristlecone General Store":MAILTO:stay@stargazernevada.com
END:VEVENT
END:VCALENDAR