BEGIN:VCALENDAR
VERSION:2.0
PRODID:-//Welcome To Ely - ECPv6.15.20//NONSGML v1.0//EN
CALSCALE:GREGORIAN
METHOD:PUBLISH
X-WR-CALNAME:Welcome To Ely
X-ORIGINAL-URL:https://elynevada.net
X-WR-CALDESC:Events for Welcome To Ely
REFRESH-INTERVAL;VALUE=DURATION:PT1H
X-Robots-Tag:noindex
X-PUBLISHED-TTL:PT1H
BEGIN:VTIMEZONE
TZID:America/Los_Angeles
BEGIN:DAYLIGHT
TZOFFSETFROM:-0800
TZOFFSETTO:-0700
TZNAME:PDT
DTSTART:20240310T100000
END:DAYLIGHT
BEGIN:STANDARD
TZOFFSETFROM:-0700
TZOFFSETTO:-0800
TZNAME:PST
DTSTART:20241103T090000
END:STANDARD
BEGIN:DAYLIGHT
TZOFFSETFROM:-0800
TZOFFSETTO:-0700
TZNAME:PDT
DTSTART:20250309T100000
END:DAYLIGHT
BEGIN:STANDARD
TZOFFSETFROM:-0700
TZOFFSETTO:-0800
TZNAME:PST
DTSTART:20251102T090000
END:STANDARD
BEGIN:DAYLIGHT
TZOFFSETFROM:-0800
TZOFFSETTO:-0700
TZNAME:PDT
DTSTART:20260308T100000
END:DAYLIGHT
BEGIN:STANDARD
TZOFFSETFROM:-0700
TZOFFSETTO:-0800
TZNAME:PST
DTSTART:20261101T090000
END:STANDARD
END:VTIMEZONE
BEGIN:VEVENT
DTSTART;TZID=America/Los_Angeles:20250418T190000
DTEND;TZID=America/Los_Angeles:20250418T210000
DTSTAMP:20260423T144413
CREATED:20250321T193143Z
LAST-MODIFIED:20250321T193325Z
UID:10003960-1745002800-1745010000@elynevada.net
SUMMARY:Dark Sky Night at the Museum
DESCRIPTION:Dark Sky Night at the Museum\nExplore the Night sky at the White Pine Public Museum with Dark Sky Night at the Museum! \nBring your own night sky equipment- Telescopes\, Binoculars\, and cameras are welcome! \nStargazing & Telescope Viewing \nAdmission: $5 \nMuseum Members Enter For Free \nFriday\, April 18\, 2025 at 7pm \nThis year marks the 65th Anniversary of the White Pine Public Museum! To celebrate\, the museum is hosting special events every month. April’s special event is Dark Sky Night at the Museum on the 18th. View the night sky on the museum grounds with guest host\, Stephen Bishop!
URL:https://elynevada.net/event/dark-sky-night-at-the-museum/
LOCATION:White Pine Public Museum\, 2000 East Aultman Street\, Ely\, NV\, 89301\, United States
CATEGORIES:Arts & Culture,Community,Stargazing
ATTACH;FMTTYPE=image/png:https://elynevada.net/wp-content/uploads/2025/03/Dark-Sky-night-At-The-Museum-Fb-banner.png
ORGANIZER;CN="White Pine Public Museum":MAILTO:wpmusuemnv@gmail.com
END:VEVENT
END:VCALENDAR