BEGIN:VCALENDAR
VERSION:2.0
PRODID:-//Welcome To Ely - ECPv6.15.20//NONSGML v1.0//EN
CALSCALE:GREGORIAN
METHOD:PUBLISH
X-WR-CALNAME:Welcome To Ely
X-ORIGINAL-URL:https://elynevada.net
X-WR-CALDESC:Events for Welcome To Ely
REFRESH-INTERVAL;VALUE=DURATION:PT1H
X-Robots-Tag:noindex
X-PUBLISHED-TTL:PT1H
BEGIN:VTIMEZONE
TZID:America/Los_Angeles
BEGIN:DAYLIGHT
TZOFFSETFROM:-0800
TZOFFSETTO:-0700
TZNAME:PDT
DTSTART:20240310T100000
END:DAYLIGHT
BEGIN:STANDARD
TZOFFSETFROM:-0700
TZOFFSETTO:-0800
TZNAME:PST
DTSTART:20241103T090000
END:STANDARD
BEGIN:DAYLIGHT
TZOFFSETFROM:-0800
TZOFFSETTO:-0700
TZNAME:PDT
DTSTART:20250309T100000
END:DAYLIGHT
BEGIN:STANDARD
TZOFFSETFROM:-0700
TZOFFSETTO:-0800
TZNAME:PST
DTSTART:20251102T090000
END:STANDARD
BEGIN:DAYLIGHT
TZOFFSETFROM:-0800
TZOFFSETTO:-0700
TZNAME:PDT
DTSTART:20260308T100000
END:DAYLIGHT
BEGIN:STANDARD
TZOFFSETFROM:-0700
TZOFFSETTO:-0800
TZNAME:PST
DTSTART:20261101T090000
END:STANDARD
END:VTIMEZONE
BEGIN:VEVENT
DTSTART;TZID=America/Los_Angeles:20250628T100000
DTEND;TZID=America/Los_Angeles:20250628T160000
DTSTAMP:20260423T093122
CREATED:20250128T193920Z
LAST-MODIFIED:20250128T194014Z
UID:10003283-1751104800-1751126400@elynevada.net
SUMMARY:Ely Renaissance Village OPEN
DESCRIPTION:Ely Renaissance Village Open!\nFor the ultimate heritage experience of White Pine County\, the Ely Renaissance Village may top the list.\nTour a total of nine houses\, seven of which have each been themed after a different ethnic background that helped shape our community. The Village is made for vacation planning and is open Fridays and Saturdays in the summer. Check out the 360 video below\, which allows you to click and drag different views as it provides you a feel for the site before visiting it in person: https://bit.ly/3hGMr5d\n\nLearn More Here!
URL:https://elynevada.net/event/ely-renaissance-village-open-2/2025-06-28/
LOCATION:Ely Renaissance Village\, 400\, Ely\, NV\, 89301\, United States
CATEGORIES:Arts & Culture,Community,History
ATTACH;FMTTYPE=image/jpeg:https://elynevada.net/wp-content/uploads/2022/01/CoopyRenVillage4_SM.jpg
END:VEVENT
BEGIN:VEVENT
DTSTART;TZID=America/Los_Angeles:20250628T100000
DTEND;TZID=America/Los_Angeles:20250628T160000
DTSTAMP:20260423T093122
CREATED:20250320T203555Z
LAST-MODIFIED:20250320T203617Z
UID:10003959-1751104800-1751126400@elynevada.net
SUMMARY:Ely Rock & Bottle Swap
DESCRIPTION:Ely Rock & Bottle Swap\nThe 6th Annual Ely Rock Show\, now the Ely Rock & Bottle Swap\, is set for Friday and Saturday\, June 27th-28th! Swing by the White Pine Public Museum from 10:00am – 4:00pm each day! \nThis is an opportunity for rock and bottle hounds to exhibit their quality specimens\, lapidary creations\, and jewelry. In addition to the vendors’ wares\, tour the museum! Historical maps\, pictures\, bottles\, and minerals from White Pine’s earliest days lie within. \nThis year also features family friendly activities\, including rock painting\, gold panning\, and more! \nA  $7.00 entry fee admits visitors to both the museum and Rock and Bottle Swap. Total Pricing is as follows: \n$7.00 Entry (ages 13 and over) \n$4.00 Entry (ages 5-12) \nFree (ages 4 and under) \nRefreshments will be available in the museum yard. \nWant to be a vendor?! Further information about registration and display spaces is available at the White Pine Public Museum by phone or email. \nPhone: (775) 289-4710 \nEmail: wpmuseumnv@gmail.com \nWebsite: wpmuseum.org \nThis year\, 2025\, marks the White Pine Public Museum’s 65th Anniversary! Celebrate by visiting the museum\, checking out the curated exhibits\, and becoming a Cave Bear Club member today! \nDon’t forget to also visit the Museum’s sister site\, the McGill Drugstore. A large time capsule\, the Drugstore houses products on the shelves that date back to the 1950s. Records still exist of every client the drugstore had\, and the building is a dedicated preservation site with free admission. An easy northbound drive of Ely and open 10am-3pm Thursdays to Sundays\, be sure to say hi to Keith for us! \nDiscover more Museums in White Pine County HERE!
URL:https://elynevada.net/event/ely-rock-bottle-swap/2025-06-28/
LOCATION:White Pine Public Museum\, 2000 East Aultman Street\, Ely\, NV\, 89301\, United States
CATEGORIES:Arts & Culture,Community,Fundraiser,History
ATTACH;FMTTYPE=image/png:https://elynevada.net/wp-content/uploads/2025/03/Rock-Bottle-Show.png
ORGANIZER;CN="White Pine Public Museum":MAILTO:wpmusuemnv@gmail.com
END:VEVENT
BEGIN:VEVENT
DTSTART;TZID=America/Los_Angeles:20250628T190000
DTEND;TZID=America/Los_Angeles:20250628T220000
DTSTAMP:20260423T093122
CREATED:20200602T065817Z
LAST-MODIFIED:20250225T225845Z
UID:10003539-1751137200-1751148000@elynevada.net
SUMMARY:NNRY Sunset\, Stars\, and Champagne Train
DESCRIPTION:The Nevada Northern Railway offers a most unique experience and look forward to having you join us for a ride back in history here in the mountains of Central Nevada\, this time for the Sunset\, Stars\, and Champagne Train! Venture out into the rural mountains of White Pine County for nothing less than picturesque views and our renowned dark skies\, all while relaxing and socializing with bottomless champagne. Basic info about Nevada Northern Railway rides\, including the Sunset\, Stars\, and Champagne Train can be found below. \n\nDon’t miss the train! All Nevada Northern Railway trains depart from ELY\, NV on-time\, regardless of the weather\, as they have for over a century now\, so be at the depot ready for boarding 30 minutes before departure time.\nEveryone needs a ticket\nNo passes or discounts are available on themed trains (other than Membership discount…see below)\nSorry\, pets are not allowed on the trains or tours. Certified service animals are always welcome\, but please take necessary precautions for this somewhat noisy\, industrial environment.\n\nLearn more about the Railway by clicking HERE!
URL:https://elynevada.net/event/nnry-sunset-stars-and-champagne-train/2025-06-28/
LOCATION:Nevada Northern Railway\, 1100 Avenue A\, Ely\, NV\, 89301\, United States
CATEGORIES:Arts & Culture,History,Stargazing
ATTACH;FMTTYPE=image/jpeg:https://elynevada.net/wp-content/uploads/2020/06/Couple-for-Sunset-Stars-Champagne.jpg
END:VEVENT
END:VCALENDAR