BEGIN:VCALENDAR
VERSION:2.0
PRODID:-//Welcome To Ely - ECPv6.15.20//NONSGML v1.0//EN
CALSCALE:GREGORIAN
METHOD:PUBLISH
X-ORIGINAL-URL:https://elynevada.net
X-WR-CALDESC:Events for Welcome To Ely
REFRESH-INTERVAL;VALUE=DURATION:PT1H
X-Robots-Tag:noindex
X-PUBLISHED-TTL:PT1H
BEGIN:VTIMEZONE
TZID:America/Los_Angeles
BEGIN:DAYLIGHT
TZOFFSETFROM:-0800
TZOFFSETTO:-0700
TZNAME:PDT
DTSTART:20240310T100000
END:DAYLIGHT
BEGIN:STANDARD
TZOFFSETFROM:-0700
TZOFFSETTO:-0800
TZNAME:PST
DTSTART:20241103T090000
END:STANDARD
BEGIN:DAYLIGHT
TZOFFSETFROM:-0800
TZOFFSETTO:-0700
TZNAME:PDT
DTSTART:20250309T100000
END:DAYLIGHT
BEGIN:STANDARD
TZOFFSETFROM:-0700
TZOFFSETTO:-0800
TZNAME:PST
DTSTART:20251102T090000
END:STANDARD
BEGIN:DAYLIGHT
TZOFFSETFROM:-0800
TZOFFSETTO:-0700
TZNAME:PDT
DTSTART:20260308T100000
END:DAYLIGHT
BEGIN:STANDARD
TZOFFSETFROM:-0700
TZOFFSETTO:-0800
TZNAME:PST
DTSTART:20261101T090000
END:STANDARD
END:VTIMEZONE
BEGIN:VEVENT
DTSTART;TZID=America/Los_Angeles:20250705T100000
DTEND;TZID=America/Los_Angeles:20250705T160000
DTSTAMP:20260423T081357
CREATED:20250128T193920Z
LAST-MODIFIED:20250128T194014Z
UID:10003285-1751709600-1751731200@elynevada.net
SUMMARY:Ely Renaissance Village OPEN
DESCRIPTION:Ely Renaissance Village Open!\nFor the ultimate heritage experience of White Pine County\, the Ely Renaissance Village may top the list.\nTour a total of nine houses\, seven of which have each been themed after a different ethnic background that helped shape our community. The Village is made for vacation planning and is open Fridays and Saturdays in the summer. Check out the 360 video below\, which allows you to click and drag different views as it provides you a feel for the site before visiting it in person: https://bit.ly/3hGMr5d\n\nLearn More Here!
URL:https://elynevada.net/event/ely-renaissance-village-open-2/2025-07-05/
LOCATION:Ely Renaissance Village\, 400\, Ely\, NV\, 89301\, United States
CATEGORIES:Arts & Culture,Community,History
ATTACH;FMTTYPE=image/jpeg:https://elynevada.net/wp-content/uploads/2022/01/CoopyRenVillage4_SM.jpg
END:VEVENT
BEGIN:VEVENT
DTSTART;TZID=America/Los_Angeles:20250705T190000
DTEND;TZID=America/Los_Angeles:20250705T220000
DTSTAMP:20260423T081357
CREATED:20200602T065817Z
LAST-MODIFIED:20250225T225845Z
UID:10003541-1751742000-1751752800@elynevada.net
SUMMARY:NNRY Sunset\, Stars\, and Champagne Train
DESCRIPTION:The Nevada Northern Railway offers a most unique experience and look forward to having you join us for a ride back in history here in the mountains of Central Nevada\, this time for the Sunset\, Stars\, and Champagne Train! Venture out into the rural mountains of White Pine County for nothing less than picturesque views and our renowned dark skies\, all while relaxing and socializing with bottomless champagne. Basic info about Nevada Northern Railway rides\, including the Sunset\, Stars\, and Champagne Train can be found below. \n\nDon’t miss the train! All Nevada Northern Railway trains depart from ELY\, NV on-time\, regardless of the weather\, as they have for over a century now\, so be at the depot ready for boarding 30 minutes before departure time.\nEveryone needs a ticket\nNo passes or discounts are available on themed trains (other than Membership discount…see below)\nSorry\, pets are not allowed on the trains or tours. Certified service animals are always welcome\, but please take necessary precautions for this somewhat noisy\, industrial environment.\n\nLearn more about the Railway by clicking HERE!
URL:https://elynevada.net/event/nnry-sunset-stars-and-champagne-train/2025-07-05/
LOCATION:Nevada Northern Railway\, 1100 Avenue A\, Ely\, NV\, 89301\, United States
CATEGORIES:Arts & Culture,History,Stargazing
ATTACH;FMTTYPE=image/jpeg:https://elynevada.net/wp-content/uploads/2020/06/Couple-for-Sunset-Stars-Champagne.jpg
END:VEVENT
BEGIN:VEVENT
DTSTART;TZID=America/Los_Angeles:20250705T210000
DTEND;TZID=America/Los_Angeles:20250705T230000
DTSTAMP:20260423T081357
CREATED:20250605T193800Z
LAST-MODIFIED:20250609T174850Z
UID:10004029-1751749200-1751756400@elynevada.net
SUMMARY:In Real Light Projection Art
DESCRIPTION:In Real Light Projection Art\nMark your calendars for multiple dates this month for In Real Light Projection Art! Witness White Pine County from a different lens with projection art on historic buildings throughout the county. \nThese are unique art exhibitions and social events made to be seen in person! \nDates and Locations: \nJune 13th\, 9:00pm – Ely Renaissance Village \nJune 20th\, 9:00pm – Ward Charcoal Ovens \nJune 27th\, 9:00pm – Stargazer Inn\, Baker \nJuly 5th\, 9:00pm – Nevada Northern Railway \nThese projection art events are designed and provided by artist and curator Brett Phares of aweStruct. \nAbout Brett Phares: \naweStruct was founded by Brett Phares\, an artist and curator working in immersive art and the built environment. With over 20 years in interactive media\, he’s led projects globally and co-founded the acclaimed Digital Graffiti festival. He holds advanced degrees from Hunter College\, Stony Brook University\, and has pursued studies in innovation and public health at MIT Sloan and Harvard Medical School\, highlighting his expertise in cultural experience design and community wellbeing. \n \n  \nFollow Updates\, Details\, and Videos About these events on our Facebook HERE!\n\nWe're Planning a 4-Day Independence Festival for July! Learn More About Red\, White Pine\, and Blue HERE!
URL:https://elynevada.net/event/in-real-light-projection-art-4/
LOCATION:Nevada Northern Railway\, 1100 Avenue A\, Ely\, NV\, 89301\, United States
CATEGORIES:Arts & Culture,Community
ATTACH;FMTTYPE=image/jpeg:https://elynevada.net/wp-content/uploads/2025/06/In-Real-Light-NNRY-Event-Cover.jpg
ORGANIZER;CN="White PIne County Tourism and Recreation":MAILTO:nicole.collard@elynevada.net
END:VEVENT
END:VCALENDAR