BEGIN:VCALENDAR
VERSION:2.0
PRODID:-//Welcome To Ely - ECPv6.15.20//NONSGML v1.0//EN
CALSCALE:GREGORIAN
METHOD:PUBLISH
X-WR-CALNAME:Welcome To Ely
X-ORIGINAL-URL:https://elynevada.net
X-WR-CALDESC:Events for Welcome To Ely
REFRESH-INTERVAL;VALUE=DURATION:PT1H
X-Robots-Tag:noindex
X-PUBLISHED-TTL:PT1H
BEGIN:VTIMEZONE
TZID:America/Los_Angeles
BEGIN:DAYLIGHT
TZOFFSETFROM:-0800
TZOFFSETTO:-0700
TZNAME:PDT
DTSTART:20240310T100000
END:DAYLIGHT
BEGIN:STANDARD
TZOFFSETFROM:-0700
TZOFFSETTO:-0800
TZNAME:PST
DTSTART:20241103T090000
END:STANDARD
BEGIN:DAYLIGHT
TZOFFSETFROM:-0800
TZOFFSETTO:-0700
TZNAME:PDT
DTSTART:20250309T100000
END:DAYLIGHT
BEGIN:STANDARD
TZOFFSETFROM:-0700
TZOFFSETTO:-0800
TZNAME:PST
DTSTART:20251102T090000
END:STANDARD
BEGIN:DAYLIGHT
TZOFFSETFROM:-0800
TZOFFSETTO:-0700
TZNAME:PDT
DTSTART:20260308T100000
END:DAYLIGHT
BEGIN:STANDARD
TZOFFSETFROM:-0700
TZOFFSETTO:-0800
TZNAME:PST
DTSTART:20261101T090000
END:STANDARD
END:VTIMEZONE
BEGIN:VEVENT
DTSTART;VALUE=DATE:20250726
DTEND;VALUE=DATE:20250727
DTSTAMP:20260423T065025
CREATED:20240130T083810Z
LAST-MODIFIED:20250718T213502Z
UID:10004050-1753516800-1753549200@elynevada.net
SUMMARY:2025 Ely Shoshone Tribe Powwow & Fandango
DESCRIPTION:2025 Ely Shoshone Tribe Powwow & Fandango\nThe 2025 Ely Shoshone Tribe Powwow & Fandango\, hosted by the Ely Shoshone Tribe\, will be July 25th-27th\, 2025. ALL ARE WELCOME to experience this rich cultural and communal event located at 250 Heritage Drive in Ely. Expect a yearly parade theme with drummers and traditional costumes and dances. The event will also include traditional hand game tournament\, horseshoes\, archery\, Fun Run/Walk\, corn hole tournament\, vendors\, artisans\, kids activities\, BBQ and Raffles. To get more information please contact the admin offices at 775.289.3013. During the Pow Wow please remember this is a sacred event. Please be respectful and follow proper etiquette.
URL:https://elynevada.net/event/2024-ely-shoshone-tribe-powwow-fandango/2025-07-26/
LOCATION:Shoshone Education Center\, 250 Heritage Drive\, Ely\, NV\, 89301\, United States
CATEGORIES:Arts & Culture,Community,History
ATTACH;FMTTYPE=image/jpeg:https://elynevada.net/wp-content/uploads/2018/05/IMG_5016-e1534213367475.jpg
ORGANIZER;CN="Ely Shoshone Tribe":MAILTO:elyshoshonetribe@yahoo.com
END:VEVENT
BEGIN:VEVENT
DTSTART;TZID=America/Los_Angeles:20250726T100000
DTEND;TZID=America/Los_Angeles:20250726T160000
DTSTAMP:20260423T065025
CREATED:20250128T193920Z
LAST-MODIFIED:20250128T194014Z
UID:10003291-1753524000-1753545600@elynevada.net
SUMMARY:Ely Renaissance Village OPEN
DESCRIPTION:Ely Renaissance Village Open!\nFor the ultimate heritage experience of White Pine County\, the Ely Renaissance Village may top the list.\nTour a total of nine houses\, seven of which have each been themed after a different ethnic background that helped shape our community. The Village is made for vacation planning and is open Fridays and Saturdays in the summer. Check out the 360 video below\, which allows you to click and drag different views as it provides you a feel for the site before visiting it in person: https://bit.ly/3hGMr5d\n\nLearn More Here!
URL:https://elynevada.net/event/ely-renaissance-village-open-2/2025-07-26/
LOCATION:Ely Renaissance Village\, 400\, Ely\, NV\, 89301\, United States
CATEGORIES:Arts & Culture,Community,History
ATTACH;FMTTYPE=image/jpeg:https://elynevada.net/wp-content/uploads/2022/01/CoopyRenVillage4_SM.jpg
END:VEVENT
BEGIN:VEVENT
DTSTART;TZID=America/Los_Angeles:20250726T180000
DTEND;TZID=America/Los_Angeles:20250726T210000
DTSTAMP:20260423T065025
CREATED:20250530T185857Z
LAST-MODIFIED:20250530T190549Z
UID:10004023-1753552800-1753563600@elynevada.net
SUMMARY:Summer Concerts in the Park - 2025
DESCRIPTION:Ely Summer Concerts in the Park – 2025\nJoin us this summer for our Ely Summer Concerts in the Park – 2025!    We’re very excited to keep the music going this summer\, and it’s all taking place at Broadbent Park. Looking forward to seeing the community come down for these FREE shows. Let’s support these amazing musicians and let them feel welcome. Everyone is invited! These shows are made for families\, and blankets in the grass. \n \nJuly 26th – Jeff Crosby Band \n“Drawing from The Byrds\, The Beatles\, Crosby Stills and Nash\, James Taylor and other icons of rock\, folk and country rock\, Crosby uses these influences to help sketch the outlines. The finish paintings are all his own.” – S. Victor Aaron\, Something Else Reviews \nWebsite: Home | Jeff Crosby Music \nFacebook: Jeff Crosby Band Facebook \nInstagram: Jeff Crosby (@jeffreydavidcrosby) • Instagram photos and videos \nYouTube: Jeff Crosby – YouTube \nSpotify: Jeff Crosby | Spotify
URL:https://elynevada.net/event/summer-concerts-in-the-park-2025-3/
LOCATION:Broadbent Park
CATEGORIES:Arts & Culture,Community,Concert
ATTACH;FMTTYPE=image/jpeg:https://elynevada.net/wp-content/uploads/2024/04/Ely-Summer-Concerts-Facebook-Cover_2025.jpg
ORGANIZER;CN="White PIne County Tourism and Recreation":MAILTO:nicole.collard@elynevada.net
END:VEVENT
BEGIN:VEVENT
DTSTART;TZID=America/Los_Angeles:20250726T190000
DTEND;TZID=America/Los_Angeles:20250726T220000
DTSTAMP:20260423T065025
CREATED:20200602T065817Z
LAST-MODIFIED:20250225T225845Z
UID:10003547-1753556400-1753567200@elynevada.net
SUMMARY:NNRY Sunset\, Stars\, and Champagne Train
DESCRIPTION:The Nevada Northern Railway offers a most unique experience and look forward to having you join us for a ride back in history here in the mountains of Central Nevada\, this time for the Sunset\, Stars\, and Champagne Train! Venture out into the rural mountains of White Pine County for nothing less than picturesque views and our renowned dark skies\, all while relaxing and socializing with bottomless champagne. Basic info about Nevada Northern Railway rides\, including the Sunset\, Stars\, and Champagne Train can be found below. \n\nDon’t miss the train! All Nevada Northern Railway trains depart from ELY\, NV on-time\, regardless of the weather\, as they have for over a century now\, so be at the depot ready for boarding 30 minutes before departure time.\nEveryone needs a ticket\nNo passes or discounts are available on themed trains (other than Membership discount…see below)\nSorry\, pets are not allowed on the trains or tours. Certified service animals are always welcome\, but please take necessary precautions for this somewhat noisy\, industrial environment.\n\nLearn more about the Railway by clicking HERE!
URL:https://elynevada.net/event/nnry-sunset-stars-and-champagne-train/2025-07-26/
LOCATION:Nevada Northern Railway\, 1100 Avenue A\, Ely\, NV\, 89301\, United States
CATEGORIES:Arts & Culture,History,Stargazing
ATTACH;FMTTYPE=image/jpeg:https://elynevada.net/wp-content/uploads/2020/06/Couple-for-Sunset-Stars-Champagne.jpg
END:VEVENT
END:VCALENDAR