BEGIN:VCALENDAR
VERSION:2.0
PRODID:-//Welcome To Ely - ECPv6.15.20//NONSGML v1.0//EN
CALSCALE:GREGORIAN
METHOD:PUBLISH
X-WR-CALNAME:Welcome To Ely
X-ORIGINAL-URL:https://elynevada.net
X-WR-CALDESC:Events for Welcome To Ely
REFRESH-INTERVAL;VALUE=DURATION:PT1H
X-Robots-Tag:noindex
X-PUBLISHED-TTL:PT1H
BEGIN:VTIMEZONE
TZID:America/Los_Angeles
BEGIN:DAYLIGHT
TZOFFSETFROM:-0800
TZOFFSETTO:-0700
TZNAME:PDT
DTSTART:20240310T100000
END:DAYLIGHT
BEGIN:STANDARD
TZOFFSETFROM:-0700
TZOFFSETTO:-0800
TZNAME:PST
DTSTART:20241103T090000
END:STANDARD
BEGIN:DAYLIGHT
TZOFFSETFROM:-0800
TZOFFSETTO:-0700
TZNAME:PDT
DTSTART:20250309T100000
END:DAYLIGHT
BEGIN:STANDARD
TZOFFSETFROM:-0700
TZOFFSETTO:-0800
TZNAME:PST
DTSTART:20251102T090000
END:STANDARD
BEGIN:DAYLIGHT
TZOFFSETFROM:-0800
TZOFFSETTO:-0700
TZNAME:PDT
DTSTART:20260308T100000
END:DAYLIGHT
BEGIN:STANDARD
TZOFFSETFROM:-0700
TZOFFSETTO:-0800
TZNAME:PST
DTSTART:20261101T090000
END:STANDARD
END:VTIMEZONE
BEGIN:VEVENT
DTSTART;VALUE=DATE:20250918
DTEND;VALUE=DATE:20250921
DTSTAMP:20260423T041349
CREATED:20240131T055106Z
LAST-MODIFIED:20250908T205920Z
UID:10000722-1758153600-1758412799@elynevada.net
SUMMARY:2025 Great Basin Astronomy Festival
DESCRIPTION:2025 Great Basin Astronomy Festival\nJoin park rangers and amateur astronomers to experience out-of-this-world family fun and excitement at the 2025 Great Basin Astronomy Festival! Learn about daytime and nighttime astronomy while enjoying some of the darkest night skies in the nation. \nDon’t have your own telescope? There will be many telescopes of different makes\, shapes\, and sizes for you and your family to use to look at the sun\, stars\, planets and other deep sky objects including nebulae and galaxies. With activities for kids of all ages\, the whole family can enjoy this festival together. \nGreat Basin National Park is always happy to welcome visitors to the Great Basin to view the night skies together. Everyone can enjoy the night sky in their own way. \nThis year’s festival events will include guest speakers\, phot workshops\, tours of the Great Basin Observatory (GBO)\, and other fun programs for families. \nThe park is excited to welcome back amateur astronomer volunteers and their telescopes for an out of this world star party each night of the festival. \nDue to limited parking\, there will be a shuttle bus service from the Great Basin Visitor Center to the Lehman Caves Visitor Center. The shuttle bus service is free and will last from 7:30 to Midnight. \nLearn All About This Event From the Park Itself by Clicking HERE! \nDiscover More of White Pine County HERE!
URL:https://elynevada.net/event/2024-great-basin-astronomy-festival/
LOCATION:Great Basin National Park\, National Park\, 100 Great Basin\, Baker\, NV\, 89311\, United States
CATEGORIES:Arts & Culture,Community,History
ATTACH;FMTTYPE=image/jpeg:https://elynevada.net/wp-content/uploads/2024/01/Great-Basin-Astronomy-Festival.jpg
END:VEVENT
BEGIN:VEVENT
DTSTART;TZID=America/Los_Angeles:20250919T100000
DTEND;TZID=America/Los_Angeles:20250919T160000
DTSTAMP:20260423T041349
CREATED:20250128T193920Z
LAST-MODIFIED:20250128T194014Z
UID:10003306-1758276000-1758297600@elynevada.net
SUMMARY:Ely Renaissance Village OPEN
DESCRIPTION:Ely Renaissance Village Open!\nFor the ultimate heritage experience of White Pine County\, the Ely Renaissance Village may top the list.\nTour a total of nine houses\, seven of which have each been themed after a different ethnic background that helped shape our community. The Village is made for vacation planning and is open Fridays and Saturdays in the summer. Check out the 360 video below\, which allows you to click and drag different views as it provides you a feel for the site before visiting it in person: https://bit.ly/3hGMr5d\n\nLearn More Here!
URL:https://elynevada.net/event/ely-renaissance-village-open-2/2025-09-19/
LOCATION:Ely Renaissance Village\, 400\, Ely\, NV\, 89301\, United States
CATEGORIES:Arts & Culture,Community,History
ATTACH;FMTTYPE=image/jpeg:https://elynevada.net/wp-content/uploads/2022/01/CoopyRenVillage4_SM.jpg
END:VEVENT
BEGIN:VEVENT
DTSTART;TZID=America/Los_Angeles:20250919T183000
DTEND;TZID=America/Los_Angeles:20250919T210000
DTSTAMP:20260423T041349
CREATED:20250827T212713Z
LAST-MODIFIED:20250828T175154Z
UID:10004052-1758306600-1758315600@elynevada.net
SUMMARY:Caleb Montgomery FREE Concert
DESCRIPTION:Caleb Montgomery FREE Concert\nSilver State Classic Challenge\, in partnership with White Pine County Tourism and Recreation\, presents Caleb Montgomery Free Concert. \nWhere: Broadbent Park \nWhen: The concert begins after the downtown procession of cars\, approximately 6:30 p.m. \nContinuing just off the Tour and Rec. Summer Concert Series\, this free concert will carry much of the same vibe. Made for the community\, families\, and blankets in the grass. \nWe are very proud to be partnering with Silver State Classic Challenge for this free concert and seeing Caleb Montgomery live! \nSilver State Classic’s parade begins at 5:30 p.m. and proceeds through the downtown on the Friday of the event. The cars will head directly into Broadbent Park\, park for everyone to admire\, and then be on display Saturday morning. \nCaleb Montgomery FREE Concert \n  \nCaleb Montgomery\, also known as The Cosmic Cowboy\, is a rising Americana and progressive country artist from Susanville\, California. Rooted in five generations of musical heritage and influenced by legends like Sturgill Simpson\, Tyler Childers\, and Pink Floyd\, Caleb blends traditional country storytelling with bold\, genre-bending sound. His debut album Food Stamps Don’t Buy Flowers made an immediate impact—reaching #1 on the Apple Music Americana Chart\, #2 on the Apple Music Country Chart\, #5 on iTunes Hot Country\, and #22 on the Billboard Americana Chart. A two-time Josie Music Award nominee (Male Vocalist & Emerging Artist of the Year)\, Caleb is currently touring nationwide with his band The Wild West Show\, building a passionate grassroots following across the U.S. With a new release on the horizon\, Caleb is poised to become one of the defining voices in modern country music. \n  \nBLURBS \n“A fresh force in modern country—Caleb Montgomery blends grit\, soul\, and psychedelic edge into a sound that’s as daring as it is timeless.” \n“The Cosmic Cowboy rides again\, and this time he’s taking the whole genre with him. Montgomery’s debut is raw\, real\, and remarkably refined.” \n“With one foot in the honky-tonk and the other in outer space\, Caleb Montgomery reimagines country music for a new generation.” \n“Montgomery’s breakout success is no accident—his writing cuts deep\, his performances electrify\, and his voice feels like home.” \n“A chart-climbing artist with the soul of a storyteller. Caleb Montgomery is what happens when tradition and innovation meet on the open road.” \nSocials: \nInstagram – @calebjoelmontgomery – https://www.instagram.com/calebjoelmontgomery/ \nYouTube – @calebjoelmontgomery – https://www.youtube.com/@CalebJoelMontgomery \nFacebook – @calebjoelmontgomery – https://www.facebook.com/calebjoelmontgomery/ \nTikTok – @calebmontgomery – https://www.tiktok.com/@calebmontgomery \n  \nAbout Silver State Classic Challenge: \nFor the past three decades\, driving enthusiasts from around the world have gathered on the third Sunday September in the Nevada high desert for the one of the truly most unique automotive events. \nTraverse 90 to 120 miles of closed\, two-lane public highway\, comprised of long fast straights\, sweeping corners\, blind dips\, even carving through a twisty canyon. The current course record stands at 219.6430 mph average speed\, as recognized by the Guinness Book of World Records. \nThe best part is\, if you’ve got the nerve\, a little cash\, and a fast ride\, you too can join them to run as fast as you can\, legally\, down a public highway. \nDiscover More about This Year's Siver State Classic Challenge HERE!
URL:https://elynevada.net/event/caleb-montgomery-free-concert/
LOCATION:Broadbent Park
CATEGORIES:Arts & Culture,Community,Concert,Party
ATTACH;FMTTYPE=image/png:https://elynevada.net/wp-content/uploads/2025/08/SSCC-2025-Concert_Facebook-Cover.png
ORGANIZER;CN="Silver State Classic Challenge Inc.":MAILTO:sscc.us@gmail.com
END:VEVENT
BEGIN:VEVENT
DTSTART;TZID=America/Los_Angeles:20250919T190000
DTEND;TZID=America/Los_Angeles:20250919T213000
DTSTAMP:20260423T041349
CREATED:20200529T044545Z
LAST-MODIFIED:20250226T203538Z
UID:10003677-1758308400-1758317400@elynevada.net
SUMMARY:NNRY Star Train
DESCRIPTION:For those of you who aren’t fortunate enough to live up here in the Rural Inter-Mountain West\, you are missing our breathtakingly beautiful night sky.   For those of you who live in these parts\, you may not have taken the time lately to stop and gaze at the Heavens.  Either way\, plan a special night out with those beautiful stars of ours.  This area has one of the darkest skies in the lower 48 states which provides the setting for our wonderful night skies\, which is why there is the Nevada Northern Railway Star Train. \nNevada Northern Railway’s Star Train pulls out of Ely on selected Summer evenings with the Dark Rangers of Great Basin National Park aboard.  These rangers love the night sky as much as we all do\, but they probably know a whole lot more about stars than all of us put together.  They will guide us on our journey to find interesting things up in the Heavens on this journey. We will stop the train away from town to take full advantage of the dark night skies.  The National Park Service Rangers will have  special telescopes set up for viewing the night sky\, and will be there to tell us all about it. \nWatch a video of the experience as covered on the CBS This Morning Show \nWhat to expect:\n\nOur trains feature on-board restroom\, wheelchair accessibility\, and snacks and beverages available for purchase.\nThe Star Trains are pulled by one of our vintage diesel locomotives\, and leave around sunset\, so you will have a chance to see the sun as it sinks down over the Steptoe Valley.   It is a great time of day to admire the rural Intermountain West at its best.\nIt is usually clear up here at night\, but the train will still operate and the Park Rangers will still be on-board with an astronomy show-and-tell regardless of what Mother Nature dishes up.\nWould you also like to take the trip up toward the old Ruth Mining District on a train pulled by a steam locomotive?  Who wouldn’t?  We also have a steam-powered excursion train departing at 4:30 pm on Friday afternoons\, and another one at 1:00 pm on Saturday.  During the check-out process you can add a Four-Day pass at a reduced rate to go on additional train rides while you are here.\nNote that the trains depart from and return to Ely\, NV with National Park Service Rangers on board.  The train does not travel into or from Great Basin National Park.  Ely is the closest town to Great Basin National Park (1h west)\, so it makes a logical hopping-off point for an extended visit to the Park.  Don’t miss the opportunity to explore the rest of the National Park\, including Lehman Caves.\n\nLearn more about the Railway by clicking HERE!
URL:https://elynevada.net/event/nevada-northern-railway-star-train/2025-09-19/
LOCATION:Nevada Northern Railway\, 1100 Avenue A\, Ely\, NV\, 89301\, United States
CATEGORIES:Arts & Culture,Community,Stargazing
ATTACH;FMTTYPE=image/jpeg:https://elynevada.net/wp-content/uploads/2020/05/star-train.jpg
END:VEVENT
END:VCALENDAR