BEGIN:VCALENDAR
VERSION:2.0
PRODID:-//Welcome To Ely - ECPv6.15.20//NONSGML v1.0//EN
CALSCALE:GREGORIAN
METHOD:PUBLISH
X-WR-CALNAME:Welcome To Ely
X-ORIGINAL-URL:https://elynevada.net
X-WR-CALDESC:Events for Welcome To Ely
REFRESH-INTERVAL;VALUE=DURATION:PT1H
X-Robots-Tag:noindex
X-PUBLISHED-TTL:PT1H
BEGIN:VTIMEZONE
TZID:America/Los_Angeles
BEGIN:DAYLIGHT
TZOFFSETFROM:-0800
TZOFFSETTO:-0700
TZNAME:PDT
DTSTART:20240310T100000
END:DAYLIGHT
BEGIN:STANDARD
TZOFFSETFROM:-0700
TZOFFSETTO:-0800
TZNAME:PST
DTSTART:20241103T090000
END:STANDARD
BEGIN:DAYLIGHT
TZOFFSETFROM:-0800
TZOFFSETTO:-0700
TZNAME:PDT
DTSTART:20250309T100000
END:DAYLIGHT
BEGIN:STANDARD
TZOFFSETFROM:-0700
TZOFFSETTO:-0800
TZNAME:PST
DTSTART:20251102T090000
END:STANDARD
BEGIN:DAYLIGHT
TZOFFSETFROM:-0800
TZOFFSETTO:-0700
TZNAME:PDT
DTSTART:20260308T100000
END:DAYLIGHT
BEGIN:STANDARD
TZOFFSETFROM:-0700
TZOFFSETTO:-0800
TZNAME:PST
DTSTART:20261101T090000
END:STANDARD
END:VTIMEZONE
BEGIN:VTIMEZONE
TZID:UTC
BEGIN:STANDARD
TZOFFSETFROM:+0000
TZOFFSETTO:+0000
TZNAME:UTC
DTSTART:20240101T000000
END:STANDARD
END:VTIMEZONE
BEGIN:VEVENT
DTSTART;VALUE=DATE:20250918
DTEND;VALUE=DATE:20250921
DTSTAMP:20260423T041350
CREATED:20240131T055106Z
LAST-MODIFIED:20250908T205920Z
UID:10000722-1758153600-1758412799@elynevada.net
SUMMARY:2025 Great Basin Astronomy Festival
DESCRIPTION:2025 Great Basin Astronomy Festival\nJoin park rangers and amateur astronomers to experience out-of-this-world family fun and excitement at the 2025 Great Basin Astronomy Festival! Learn about daytime and nighttime astronomy while enjoying some of the darkest night skies in the nation. \nDon’t have your own telescope? There will be many telescopes of different makes\, shapes\, and sizes for you and your family to use to look at the sun\, stars\, planets and other deep sky objects including nebulae and galaxies. With activities for kids of all ages\, the whole family can enjoy this festival together. \nGreat Basin National Park is always happy to welcome visitors to the Great Basin to view the night skies together. Everyone can enjoy the night sky in their own way. \nThis year’s festival events will include guest speakers\, phot workshops\, tours of the Great Basin Observatory (GBO)\, and other fun programs for families. \nThe park is excited to welcome back amateur astronomer volunteers and their telescopes for an out of this world star party each night of the festival. \nDue to limited parking\, there will be a shuttle bus service from the Great Basin Visitor Center to the Lehman Caves Visitor Center. The shuttle bus service is free and will last from 7:30 to Midnight. \nLearn All About This Event From the Park Itself by Clicking HERE! \nDiscover More of White Pine County HERE!
URL:https://elynevada.net/event/2024-great-basin-astronomy-festival/
LOCATION:Great Basin National Park\, National Park\, 100 Great Basin\, Baker\, NV\, 89311\, United States
CATEGORIES:Arts & Culture,Community,History
ATTACH;FMTTYPE=image/jpeg:https://elynevada.net/wp-content/uploads/2024/01/Great-Basin-Astronomy-Festival.jpg
END:VEVENT
BEGIN:VEVENT
DTSTART;TZID=America/Los_Angeles:20250920T100000
DTEND;TZID=America/Los_Angeles:20250920T160000
DTSTAMP:20260423T041350
CREATED:20250128T193920Z
LAST-MODIFIED:20250128T194014Z
UID:10003307-1758362400-1758384000@elynevada.net
SUMMARY:Ely Renaissance Village OPEN
DESCRIPTION:Ely Renaissance Village Open!\nFor the ultimate heritage experience of White Pine County\, the Ely Renaissance Village may top the list.\nTour a total of nine houses\, seven of which have each been themed after a different ethnic background that helped shape our community. The Village is made for vacation planning and is open Fridays and Saturdays in the summer. Check out the 360 video below\, which allows you to click and drag different views as it provides you a feel for the site before visiting it in person: https://bit.ly/3hGMr5d\n\nLearn More Here!
URL:https://elynevada.net/event/ely-renaissance-village-open-2/2025-09-20/
LOCATION:Ely Renaissance Village\, 400\, Ely\, NV\, 89301\, United States
CATEGORIES:Arts & Culture,Community,History
ATTACH;FMTTYPE=image/jpeg:https://elynevada.net/wp-content/uploads/2022/01/CoopyRenVillage4_SM.jpg
END:VEVENT
BEGIN:VEVENT
DTSTART;TZID=UTC:20250920T183000
DTEND;TZID=UTC:20250920T200000
DTSTAMP:20260423T041350
CREATED:20240201T083802Z
LAST-MODIFIED:20250303T205441Z
UID:10000982-1758393000-1758398400@elynevada.net
SUMMARY:Taste of Italy Dinner Train
DESCRIPTION:Taste of Italy Dinner Train\n\n\nTaste of Italy Dinner Train\n\n\n\n\nThis is an annual gala fundraiser for the railroad. Your coaches will be pulled by one of our century-old steam locomotives for a special dinner trip on the Nevada Northern Railway mainline. It will be our pleasure to serve you a classic\, multi-course Italian meal\, complete with flowing wine\, and dessert. Adults only on this train. \nTaste of Italy Train Ride is sponsored by: \n\nThe Gianoli Family\nFirst National Bank of Ely\nHector Briceno & Isela Suarez of Ely’s own Mr. Gino’s\n\n\nTickets and More Info at www.NNRY.com
URL:https://elynevada.net/event/taste-of-italy-dinner-train/
LOCATION:Nevada Northern Railway\, 1100 Avenue A\, Ely\, NV\, 89301\, United States
CATEGORIES:Arts & Culture,Community,History
ATTACH;FMTTYPE=image/png:https://elynevada.net/wp-content/uploads/2024/02/Mask-group-8-1024x646-1.png
END:VEVENT
END:VCALENDAR