BEGIN:VCALENDAR
VERSION:2.0
PRODID:-//Welcome To Ely - ECPv6.15.20//NONSGML v1.0//EN
CALSCALE:GREGORIAN
METHOD:PUBLISH
X-ORIGINAL-URL:https://elynevada.net
X-WR-CALDESC:Events for Welcome To Ely
REFRESH-INTERVAL;VALUE=DURATION:PT1H
X-Robots-Tag:noindex
X-PUBLISHED-TTL:PT1H
BEGIN:VTIMEZONE
TZID:America/Los_Angeles
BEGIN:DAYLIGHT
TZOFFSETFROM:-0800
TZOFFSETTO:-0700
TZNAME:PDT
DTSTART:20250309T100000
END:DAYLIGHT
BEGIN:STANDARD
TZOFFSETFROM:-0700
TZOFFSETTO:-0800
TZNAME:PST
DTSTART:20251102T090000
END:STANDARD
BEGIN:DAYLIGHT
TZOFFSETFROM:-0800
TZOFFSETTO:-0700
TZNAME:PDT
DTSTART:20260308T100000
END:DAYLIGHT
BEGIN:STANDARD
TZOFFSETFROM:-0700
TZOFFSETTO:-0800
TZNAME:PST
DTSTART:20261101T090000
END:STANDARD
BEGIN:DAYLIGHT
TZOFFSETFROM:-0800
TZOFFSETTO:-0700
TZNAME:PDT
DTSTART:20270314T100000
END:DAYLIGHT
BEGIN:STANDARD
TZOFFSETFROM:-0700
TZOFFSETTO:-0800
TZNAME:PST
DTSTART:20271107T090000
END:STANDARD
END:VTIMEZONE
BEGIN:VEVENT
DTSTART;TZID=America/Los_Angeles:20260214T080000
DTEND;TZID=America/Los_Angeles:20260214T220000
DTSTAMP:20260422T215324
CREATED:20241205T024356Z
LAST-MODIFIED:20260126T214345Z
UID:10004112-1771056000-1771106400@elynevada.net
SUMMARY:NNRY Photoshoots and Workshops
DESCRIPTION:NNRY Photoshoots and Workshops\nIf you think you were born one hundred years too late to witness the glory of steam railroading\, then we have good news for you: you weren’t. There still exists a place where steam locomotives rule the rails\, and there’s no better opportunity to view and capture them forever than at the NNRY Photo Weekend Spectacular! \nHidden away in the high desert of east central Nevada is a time capsule like no other: the Nevada Northern Railway National Historic Landmark. Annually during the first two weekends in February\, time travel is possible. Come to Ely\, Nevada and set your watch back a century\, and photograph vintage railroading. \nThe Nevada Northern Railway is not a mishmash of equipment from different railroads or different countries\, nor is the equipment prettified or garish. This is the original railroad equipment in the original paint schemes in the original setting.  All equipment has been on the property for decades\, and some if it more than a century\, all of it still operating on the original track that was graded and laid a century ago. \nWhat can you expect during the photo shoots? World-class photographic opportunities\, steam locomotives pulling vintage freight and passenger cars that are original to the railroad. Here\, trains are still made up with wooden cars whose origins date back as far as 1872. The crews will be in period dress\, adding to the experience. \nSo why come to Ely in the winter? If you think that Steam locomotive 93 looks good on an 85-degree day in August but wait till you see it on a frosty February day. Billowing white clouds of steam plus plumes of black & gray smoke towering above the canyons and valleys. Snow? Weather here can be capricious! It can range from blizzard conditions to cobalt blue skies sometimes within minutes. In the past we’ve experienced every type of meteorological conditions that wintertime Ely experiences\, including shirtsleeve weather. But regardless of the weather\, the show goes on. \nParticipants have won numerous photo contests\, recording timeless scenes of a historical railroad that are second to none. \nLearn More About the NNRY Photo Weekend Spectacular HERE!\nDiscover More White Pine County Events HERE!
URL:https://elynevada.net/event/nnry-photo-weekend-spectacular/2026-02-14/
LOCATION:Nevada Northern Railway\, 1100 Avenue A\, Ely\, NV\, 89301\, United States
CATEGORIES:Arts & Culture,History
ATTACH;FMTTYPE=image/jpeg:https://elynevada.net/wp-content/uploads/2024/12/Garrett-Monnin-4-2-scaled.jpg
END:VEVENT
BEGIN:VEVENT
DTSTART;TZID=America/Los_Angeles:20260214T090000
DTEND;TZID=America/Los_Angeles:20260214T120000
DTSTAMP:20260422T215324
CREATED:20260107T193259Z
LAST-MODIFIED:20260107T193300Z
UID:10004087-1771059600-1771070400@elynevada.net
SUMMARY:4th Annual Mardi Gras Parade in Baker
DESCRIPTION:4th Annual Mardi Gras Parade in Baker\nSAT. FEBRURARY 14\nThere’s no time like the present to get excited about our most fabulous winter event and start designing/building your floats!\n\n4th Annual Mardi Gras ParadeSaturday\, February 14th at 10am in downtown Baker\n\nThis year’s parade theme is LOVE and/or FIRE HORSE in honor of Valentine’s Day (date of the Parade) and Chinese New Year (which happens to fall on Mardi Gras\, Tues\, Feb 17).\nFloats and costumes can embrace this theme or just have a Mardi Gras flare! Dogs\, horses\, bicycles\, quads\, fire trucks\, ranch vehicles – anything goes!\n\nInvite your family and friends to come watch the festivities. Bundle up and grab some beads as the saints go marching in and then stick around for more fun throughout town. Laissez les bons temps rouler!
URL:https://elynevada.net/event/4th-annual-mardi-gras-parade-in-baker/
LOCATION:Downtown Baker\, Baker\, NV\, United States
CATEGORIES:Arts & Culture,Community,History
ATTACH;FMTTYPE=image/jpeg:https://elynevada.net/wp-content/uploads/2026/01/4th-Annual-Mardi-Gras-Parade-in-Baker.jpg
ORGANIZER;CN="Bristlecone General Store":MAILTO:stay@stargazernevada.com
END:VEVENT
END:VCALENDAR