BEGIN:VCALENDAR
VERSION:2.0
PRODID:-//Welcome To Ely - ECPv6.15.20//NONSGML v1.0//EN
CALSCALE:GREGORIAN
METHOD:PUBLISH
X-WR-CALNAME:Welcome To Ely
X-ORIGINAL-URL:https://elynevada.net
X-WR-CALDESC:Events for Welcome To Ely
REFRESH-INTERVAL;VALUE=DURATION:PT1H
X-Robots-Tag:noindex
X-PUBLISHED-TTL:PT1H
BEGIN:VTIMEZONE
TZID:America/Los_Angeles
BEGIN:DAYLIGHT
TZOFFSETFROM:-0800
TZOFFSETTO:-0700
TZNAME:PDT
DTSTART:20250309T100000
END:DAYLIGHT
BEGIN:STANDARD
TZOFFSETFROM:-0700
TZOFFSETTO:-0800
TZNAME:PST
DTSTART:20251102T090000
END:STANDARD
BEGIN:DAYLIGHT
TZOFFSETFROM:-0800
TZOFFSETTO:-0700
TZNAME:PDT
DTSTART:20260308T100000
END:DAYLIGHT
BEGIN:STANDARD
TZOFFSETFROM:-0700
TZOFFSETTO:-0800
TZNAME:PST
DTSTART:20261101T090000
END:STANDARD
BEGIN:DAYLIGHT
TZOFFSETFROM:-0800
TZOFFSETTO:-0700
TZNAME:PDT
DTSTART:20270314T100000
END:DAYLIGHT
BEGIN:STANDARD
TZOFFSETFROM:-0700
TZOFFSETTO:-0800
TZNAME:PST
DTSTART:20271107T090000
END:STANDARD
END:VTIMEZONE
BEGIN:VEVENT
DTSTART;VALUE=DATE:20260807
DTEND;VALUE=DATE:20260808
DTSTAMP:20260423T002820
CREATED:20260217T182723Z
LAST-MODIFIED:20260217T182723Z
UID:10004994-1786060800-1786147199@elynevada.net
SUMMARY:White Pine Rodders' Annual Car & Bike Show
DESCRIPTION:White Pine Rodders’ Annual Car & Bike Show\nAnnual\, completely open\, and FREE! Come one down and support a great\, long-standing Ely event. There’s sure to be plenty of fun for all. After all\, there will be beautiful cars\, trucks and great people. What more could you want? \nThe White Pine Rodder’s Car Club is a not-for-profit organization for the car enthusiast. They have a devoted passion for cars and classics alike. As a club\, they raise money each year for scholarships available to White Pine High School seniors to further their post-secondary education. \nThe car club is open for all makes and models\, including motorcycles\, and is primarily composed of hotrods\, classics and muscle cars from the ’40s through the ’80s. Members go on cruises attending shows displaying their cars\, showcasing their rolling works of art\, and speaking with other car fans. \nThey may not have as many cars as Seinfeld or Leno but\, between all their members\, they have drivers and an exciting collection. Catch them at a few local “car nights” during the summer or at their monthly meetings. \nReasons to Attend: \nCar Show Friday & Saturday \nCruise Parade \nOpen to ALL Car Enthusiasts \nHot Wheels Races \nBurnout Contest \nSupport Scholarships for Seniors \nAffordable Lodging \nMusic & Food Trucks \nCool Summertime Temperatures \nGreat People & Good Times \nContact and more info can be done by emailing: whitepinerodders@gmail.com \nLearn More about White Pine Rodders HERE! \nDiscover More To Do In White Pine HERE!
URL:https://elynevada.net/event/white-pine-rodders-annual-car-bike-show/2026-08-07/
LOCATION:Ely\, NV\, 89301\, United States
CATEGORIES:Arts & Culture,Community
ATTACH;FMTTYPE=image/jpeg:https://elynevada.net/wp-content/uploads/2026/02/White-Pine-Rodders-Car-Show-2026.jpg
ORGANIZER;CN="White Pine Rodders Car Club":MAILTO:whitepinerodders@gmail.com
END:VEVENT
END:VCALENDAR