BEGIN:VCALENDAR
VERSION:2.0
PRODID:-//Welcome To Ely - ECPv6.15.20//NONSGML v1.0//EN
CALSCALE:GREGORIAN
METHOD:PUBLISH
X-ORIGINAL-URL:https://elynevada.net
X-WR-CALDESC:Events for Welcome To Ely
REFRESH-INTERVAL;VALUE=DURATION:PT1H
X-Robots-Tag:noindex
X-PUBLISHED-TTL:PT1H
BEGIN:VTIMEZONE
TZID:UTC
BEGIN:STANDARD
TZOFFSETFROM:+0000
TZOFFSETTO:+0000
TZNAME:UTC
DTSTART:20240101T000000
END:STANDARD
END:VTIMEZONE
BEGIN:VTIMEZONE
TZID:America/Los_Angeles
BEGIN:DAYLIGHT
TZOFFSETFROM:-0800
TZOFFSETTO:-0700
TZNAME:PDT
DTSTART:20240310T100000
END:DAYLIGHT
BEGIN:STANDARD
TZOFFSETFROM:-0700
TZOFFSETTO:-0800
TZNAME:PST
DTSTART:20241103T090000
END:STANDARD
BEGIN:DAYLIGHT
TZOFFSETFROM:-0800
TZOFFSETTO:-0700
TZNAME:PDT
DTSTART:20250309T100000
END:DAYLIGHT
BEGIN:STANDARD
TZOFFSETFROM:-0700
TZOFFSETTO:-0800
TZNAME:PST
DTSTART:20251102T090000
END:STANDARD
BEGIN:DAYLIGHT
TZOFFSETFROM:-0800
TZOFFSETTO:-0700
TZNAME:PDT
DTSTART:20260308T100000
END:DAYLIGHT
BEGIN:STANDARD
TZOFFSETFROM:-0700
TZOFFSETTO:-0800
TZNAME:PST
DTSTART:20261101T090000
END:STANDARD
END:VTIMEZONE
BEGIN:VEVENT
DTSTART;TZID=UTC:20251025T190000
DTEND;TZID=UTC:20251025T210000
DTSTAMP:20260423T042022
CREATED:20200529T065024Z
LAST-MODIFIED:20250303T210742Z
UID:10003896-1761418800-1761426000@elynevada.net
SUMMARY:Nevada Northern Railway Haunted Ghost Train
DESCRIPTION:It happens each October in this remote mountain town of Ely Nevada. The days grow shorter and the nights take on a definite chill. They say the Ghost Train of Old Ely comes “alive” in a whole different way.  Some say that there seem to be legions of demons\, ghosts\, and goblins invading the otherwise peaceful setting here on those special October nights. \nIt has become the Nevada Northern Railway’s job to predict exactly when there might be good sightings of all the mysterious happenings around Ely.  The schedule below has been carefully researched to provide the very best viewing of UFOs\, Headless Horsemen\, Hitchhiking Ghosts\, Haunted Tunnels\, Creepy Campfires\, and Ghastly Ghost towns right alongside Nevada Northern Railway’s original mainline up toward the old Ruth Mine through the old scary tunnels.  Is it scary?  Yes\, a little.  Is it fun?  Yes\, it is.  Is it a bit corny? Seriously?  Of course.  As they say\, come to have fun with friends and family\, or don’t come at all.  Costumes are warmly encouraged. \nYou may be asking exactly how all of these eerie and mysterious scenes occur right alongside the mainline.  You might also ask why almost 100 volunteers from the communities surrounding Ely disappear around the same time as the train trip.  You might also ask why many of the ghosts and goblins possessing the rail line look amazingly like those local citizens.  Could there be a coincidence?  You can decide for yourself.  We can’t give away the ghosts’ and demons’ secrets.  All we can say is that however it is done\, here’s a special thanks to the great\, heartfelt community support that this event enjoys each year.  We hope you enjoy the fruits of their labors as much as the community enjoys putting it on. \nSo\, are you brave enough to get on the Haunted Ghost Train of Old Ely this year?  Reservations are highly recommended. These trains almost always “sell out”\, so to speak.  Who wants to be left behind at the depot on a night like this? \nLearn more about the railway by clicking HERE!
URL:https://elynevada.net/event/nevada-northern-railway-haunted-ghost-train/2025-10-25/
LOCATION:Nevada Northern Railway\, 1100 Avenue A\, Ely\, NV\, 89301\, United States
CATEGORIES:Arts & Culture,Community
ATTACH;FMTTYPE=image/jpeg:https://elynevada.net/wp-content/uploads/2019/09/train.jpg
END:VEVENT
BEGIN:VEVENT
DTSTART;TZID=America/Los_Angeles:20251031T180000
DTEND;TZID=America/Los_Angeles:20251031T220000
DTSTAMP:20260423T042022
CREATED:20250908T203345Z
LAST-MODIFIED:20250908T203403Z
UID:10004054-1761933600-1761948000@elynevada.net
SUMMARY:Grown-Up Halloween Fun
DESCRIPTION:Grown-Up Halloween Fun\nSave the date because costumes\, cocktails\, and chills await! mark your calendar for a night of grown-up Halloween fun at the Elks Lodge!
URL:https://elynevada.net/event/grown-up-halloween-fun/
LOCATION:Ely Elks Lodge\, 694 Campton St.\, Ely\, NV\, 89301\, United States
CATEGORIES:Arts & Culture,Community,Fundraiser,Party
ATTACH;FMTTYPE=image/jpeg:https://elynevada.net/wp-content/uploads/2025/09/Come-Hang-Out-With-Us-Elks-Lodge.jpg
ORGANIZER;CN="Ely Elks Lodge":MAILTO:elyelks1469@att.net
END:VEVENT
BEGIN:VEVENT
DTSTART;TZID=America/Los_Angeles:20251122T080000
DTEND;TZID=America/Los_Angeles:20251122T170000
DTSTAMP:20260423T042022
CREATED:20200530T015021Z
LAST-MODIFIED:20250303T214854Z
UID:10003898-1763798400-1763830800@elynevada.net
SUMMARY:NNRY Santa's Reindeer Flyer
DESCRIPTION:The Nevada Northern Railway celebrates the holiday season with an adventure to the North Pole on Santa’s Reindeer Flyer Christmas Train! \nHead to NNRY.Com For Full Schedule and Times
URL:https://elynevada.net/event/nevada-northern-railway-santas-reindeer-flyer/2025-11-22/1/
LOCATION:Nevada Northern Railway\, 1100 Avenue A\, Ely\, NV\, 89301\, United States
CATEGORIES:Arts & Culture,Community
ATTACH;FMTTYPE=image/jpeg:https://elynevada.net/wp-content/uploads/2020/05/NNR_RndrFlyr_800x600_Ad-r.jpg
END:VEVENT
BEGIN:VEVENT
DTSTART;TZID=America/Los_Angeles:20251122T163000
DTEND;TZID=America/Los_Angeles:20251122T180000
DTSTAMP:20260423T042022
CREATED:20200530T015021Z
LAST-MODIFIED:20250303T214854Z
UID:10003899-1763829000-1763834400@elynevada.net
SUMMARY:NNRY Santa's Reindeer Flyer
DESCRIPTION:The Nevada Northern Railway celebrates the holiday season with an adventure to the North Pole on Santa’s Reindeer Flyer Christmas Train! \nHead to NNRY.Com For Full Schedule and Times
URL:https://elynevada.net/event/nevada-northern-railway-santas-reindeer-flyer/2025-11-22/2/
LOCATION:Nevada Northern Railway\, 1100 Avenue A\, Ely\, NV\, 89301\, United States
CATEGORIES:Arts & Culture,Community
ATTACH;FMTTYPE=image/jpeg:https://elynevada.net/wp-content/uploads/2020/05/NNR_RndrFlyr_800x600_Ad-r.jpg
END:VEVENT
BEGIN:VEVENT
DTSTART;TZID=America/Los_Angeles:20251122T190000
DTEND;TZID=America/Los_Angeles:20251122T203000
DTSTAMP:20260423T042022
CREATED:20200530T015021Z
LAST-MODIFIED:20250303T214854Z
UID:10003900-1763838000-1763843400@elynevada.net
SUMMARY:NNRY Santa's Reindeer Flyer
DESCRIPTION:The Nevada Northern Railway celebrates the holiday season with an adventure to the North Pole on Santa’s Reindeer Flyer Christmas Train! \nHead to NNRY.Com For Full Schedule and Times
URL:https://elynevada.net/event/nevada-northern-railway-santas-reindeer-flyer/2025-11-22/3/
LOCATION:Nevada Northern Railway\, 1100 Avenue A\, Ely\, NV\, 89301\, United States
CATEGORIES:Arts & Culture,Community
ATTACH;FMTTYPE=image/jpeg:https://elynevada.net/wp-content/uploads/2020/05/NNR_RndrFlyr_800x600_Ad-r.jpg
END:VEVENT
BEGIN:VEVENT
DTSTART;TZID=America/Los_Angeles:20251128T130000
DTEND;TZID=America/Los_Angeles:20251128T143000
DTSTAMP:20260423T042022
CREATED:20200530T015021Z
LAST-MODIFIED:20250303T214854Z
UID:10003901-1764334800-1764340200@elynevada.net
SUMMARY:NNRY Santa's Reindeer Flyer
DESCRIPTION:The Nevada Northern Railway celebrates the holiday season with an adventure to the North Pole on Santa’s Reindeer Flyer Christmas Train! \nHead to NNRY.Com For Full Schedule and Times
URL:https://elynevada.net/event/nevada-northern-railway-santas-reindeer-flyer/2025-11-28/1/
LOCATION:Nevada Northern Railway\, 1100 Avenue A\, Ely\, NV\, 89301\, United States
CATEGORIES:Arts & Culture,Community
ATTACH;FMTTYPE=image/jpeg:https://elynevada.net/wp-content/uploads/2020/05/NNR_RndrFlyr_800x600_Ad-r.jpg
END:VEVENT
BEGIN:VEVENT
DTSTART;TZID=America/Los_Angeles:20251128T163000
DTEND;TZID=America/Los_Angeles:20251128T180000
DTSTAMP:20260423T042022
CREATED:20200530T015021Z
LAST-MODIFIED:20250303T214854Z
UID:10003902-1764347400-1764352800@elynevada.net
SUMMARY:NNRY Santa's Reindeer Flyer
DESCRIPTION:The Nevada Northern Railway celebrates the holiday season with an adventure to the North Pole on Santa’s Reindeer Flyer Christmas Train! \nHead to NNRY.Com For Full Schedule and Times
URL:https://elynevada.net/event/nevada-northern-railway-santas-reindeer-flyer/2025-11-28/2/
LOCATION:Nevada Northern Railway\, 1100 Avenue A\, Ely\, NV\, 89301\, United States
CATEGORIES:Arts & Culture,Community
ATTACH;FMTTYPE=image/jpeg:https://elynevada.net/wp-content/uploads/2020/05/NNR_RndrFlyr_800x600_Ad-r.jpg
END:VEVENT
BEGIN:VEVENT
DTSTART;TZID=America/Los_Angeles:20251128T190000
DTEND;TZID=America/Los_Angeles:20251128T203000
DTSTAMP:20260423T042022
CREATED:20200530T015021Z
LAST-MODIFIED:20250303T214854Z
UID:10003903-1764356400-1764361800@elynevada.net
SUMMARY:NNRY Santa's Reindeer Flyer
DESCRIPTION:The Nevada Northern Railway celebrates the holiday season with an adventure to the North Pole on Santa’s Reindeer Flyer Christmas Train! \nHead to NNRY.Com For Full Schedule and Times
URL:https://elynevada.net/event/nevada-northern-railway-santas-reindeer-flyer/2025-11-28/3/
LOCATION:Nevada Northern Railway\, 1100 Avenue A\, Ely\, NV\, 89301\, United States
CATEGORIES:Arts & Culture,Community
ATTACH;FMTTYPE=image/jpeg:https://elynevada.net/wp-content/uploads/2020/05/NNR_RndrFlyr_800x600_Ad-r.jpg
END:VEVENT
BEGIN:VEVENT
DTSTART;TZID=America/Los_Angeles:20251129T130000
DTEND;TZID=America/Los_Angeles:20251129T143000
DTSTAMP:20260423T042022
CREATED:20200530T015021Z
LAST-MODIFIED:20250303T214854Z
UID:10003904-1764421200-1764426600@elynevada.net
SUMMARY:NNRY Santa's Reindeer Flyer
DESCRIPTION:The Nevada Northern Railway celebrates the holiday season with an adventure to the North Pole on Santa’s Reindeer Flyer Christmas Train! \nHead to NNRY.Com For Full Schedule and Times
URL:https://elynevada.net/event/nevada-northern-railway-santas-reindeer-flyer/2025-11-29/1/
LOCATION:Nevada Northern Railway\, 1100 Avenue A\, Ely\, NV\, 89301\, United States
CATEGORIES:Arts & Culture,Community
ATTACH;FMTTYPE=image/jpeg:https://elynevada.net/wp-content/uploads/2020/05/NNR_RndrFlyr_800x600_Ad-r.jpg
END:VEVENT
BEGIN:VEVENT
DTSTART;TZID=America/Los_Angeles:20251129T163000
DTEND;TZID=America/Los_Angeles:20251129T180000
DTSTAMP:20260423T042022
CREATED:20200530T015021Z
LAST-MODIFIED:20250303T214854Z
UID:10003905-1764433800-1764439200@elynevada.net
SUMMARY:NNRY Santa's Reindeer Flyer
DESCRIPTION:The Nevada Northern Railway celebrates the holiday season with an adventure to the North Pole on Santa’s Reindeer Flyer Christmas Train! \nHead to NNRY.Com For Full Schedule and Times
URL:https://elynevada.net/event/nevada-northern-railway-santas-reindeer-flyer/2025-11-29/2/
LOCATION:Nevada Northern Railway\, 1100 Avenue A\, Ely\, NV\, 89301\, United States
CATEGORIES:Arts & Culture,Community
ATTACH;FMTTYPE=image/jpeg:https://elynevada.net/wp-content/uploads/2020/05/NNR_RndrFlyr_800x600_Ad-r.jpg
END:VEVENT
BEGIN:VEVENT
DTSTART;TZID=America/Los_Angeles:20251129T190000
DTEND;TZID=America/Los_Angeles:20251129T203000
DTSTAMP:20260423T042022
CREATED:20200530T015021Z
LAST-MODIFIED:20250303T214854Z
UID:10003906-1764442800-1764448200@elynevada.net
SUMMARY:NNRY Santa's Reindeer Flyer
DESCRIPTION:The Nevada Northern Railway celebrates the holiday season with an adventure to the North Pole on Santa’s Reindeer Flyer Christmas Train! \nHead to NNRY.Com For Full Schedule and Times
URL:https://elynevada.net/event/nevada-northern-railway-santas-reindeer-flyer/2025-11-29/3/
LOCATION:Nevada Northern Railway\, 1100 Avenue A\, Ely\, NV\, 89301\, United States
CATEGORIES:Arts & Culture,Community
ATTACH;FMTTYPE=image/jpeg:https://elynevada.net/wp-content/uploads/2020/05/NNR_RndrFlyr_800x600_Ad-r.jpg
END:VEVENT
BEGIN:VEVENT
DTSTART;TZID=America/Los_Angeles:20251205T163000
DTEND;TZID=America/Los_Angeles:20251205T180000
DTSTAMP:20260423T042022
CREATED:20200530T015021Z
LAST-MODIFIED:20250303T214854Z
UID:10003907-1764952200-1764957600@elynevada.net
SUMMARY:NNRY Santa's Reindeer Flyer
DESCRIPTION:The Nevada Northern Railway celebrates the holiday season with an adventure to the North Pole on Santa’s Reindeer Flyer Christmas Train! \nHead to NNRY.Com For Full Schedule and Times
URL:https://elynevada.net/event/nevada-northern-railway-santas-reindeer-flyer/2025-12-05/
LOCATION:Nevada Northern Railway\, 1100 Avenue A\, Ely\, NV\, 89301\, United States
CATEGORIES:Arts & Culture,Community
ATTACH;FMTTYPE=image/jpeg:https://elynevada.net/wp-content/uploads/2020/05/NNR_RndrFlyr_800x600_Ad-r.jpg
END:VEVENT
BEGIN:VEVENT
DTSTART;TZID=America/Los_Angeles:20251206T100000
DTEND;TZID=America/Los_Angeles:20251206T160000
DTSTAMP:20260423T042022
CREATED:20191105T052244Z
LAST-MODIFIED:20251125T004543Z
UID:10000205-1765015200-1765036800@elynevada.net
SUMMARY:Christmas Crafters Festival - 2025
DESCRIPTION:Christmas Crafters Festival – 2025\nAt 10 am Saturday\, December 6th the doors open at the Convention Center for the Crafter’s Festival. The vendors will have their items on display and for sale until 4 p.m. It is amazing how talented our community is. Please stop by to let them share their talents with you. During the Crafter’s festival\, Santa Claus will be available to visit with the children. His schedule will be posted at the Convention Center. Alana Wise will be taking pictures and prints can be ordered directly from her.
URL:https://elynevada.net/event/christmas-crafters-festival/
LOCATION:Bristlecone Convention Center\, 150 Sixth Street\, Ely\, NV\, 89301\, United States
CATEGORIES:Arts & Culture,Community,History,Holiday
ATTACH;FMTTYPE=image/jpeg:https://elynevada.net/wp-content/uploads/2019/11/Christmas-Crafters-Festival-2024.jpg
ORGANIZER;CN="Great Basin Service Club":MAILTO:greatbasinserviceclub@yahoo.com
END:VEVENT
BEGIN:VEVENT
DTSTART;TZID=America/Los_Angeles:20251206T130000
DTEND;TZID=America/Los_Angeles:20251206T143000
DTSTAMP:20260423T042022
CREATED:20200530T015021Z
LAST-MODIFIED:20250303T214854Z
UID:10003908-1765026000-1765031400@elynevada.net
SUMMARY:NNRY Santa's Reindeer Flyer
DESCRIPTION:The Nevada Northern Railway celebrates the holiday season with an adventure to the North Pole on Santa’s Reindeer Flyer Christmas Train! \nHead to NNRY.Com For Full Schedule and Times
URL:https://elynevada.net/event/nevada-northern-railway-santas-reindeer-flyer/2025-12-06/1/
LOCATION:Nevada Northern Railway\, 1100 Avenue A\, Ely\, NV\, 89301\, United States
CATEGORIES:Arts & Culture,Community
ATTACH;FMTTYPE=image/jpeg:https://elynevada.net/wp-content/uploads/2020/05/NNR_RndrFlyr_800x600_Ad-r.jpg
END:VEVENT
BEGIN:VEVENT
DTSTART;TZID=America/Los_Angeles:20251206T163000
DTEND;TZID=America/Los_Angeles:20251206T180000
DTSTAMP:20260423T042022
CREATED:20200530T015021Z
LAST-MODIFIED:20250303T214854Z
UID:10003909-1765038600-1765044000@elynevada.net
SUMMARY:NNRY Santa's Reindeer Flyer
DESCRIPTION:The Nevada Northern Railway celebrates the holiday season with an adventure to the North Pole on Santa’s Reindeer Flyer Christmas Train! \nHead to NNRY.Com For Full Schedule and Times
URL:https://elynevada.net/event/nevada-northern-railway-santas-reindeer-flyer/2025-12-06/2/
LOCATION:Nevada Northern Railway\, 1100 Avenue A\, Ely\, NV\, 89301\, United States
CATEGORIES:Arts & Culture,Community
ATTACH;FMTTYPE=image/jpeg:https://elynevada.net/wp-content/uploads/2020/05/NNR_RndrFlyr_800x600_Ad-r.jpg
END:VEVENT
BEGIN:VEVENT
DTSTART;TZID=America/Los_Angeles:20251206T190000
DTEND;TZID=America/Los_Angeles:20251206T203000
DTSTAMP:20260423T042022
CREATED:20200530T015021Z
LAST-MODIFIED:20250303T214854Z
UID:10003933-1765047600-1765053000@elynevada.net
SUMMARY:NNRY Santa's Reindeer Flyer
DESCRIPTION:The Nevada Northern Railway celebrates the holiday season with an adventure to the North Pole on Santa’s Reindeer Flyer Christmas Train! \nHead to NNRY.Com For Full Schedule and Times
URL:https://elynevada.net/event/nevada-northern-railway-santas-reindeer-flyer/2025-12-06/3/
LOCATION:Nevada Northern Railway\, 1100 Avenue A\, Ely\, NV\, 89301\, United States
CATEGORIES:Arts & Culture,Community
ATTACH;FMTTYPE=image/jpeg:https://elynevada.net/wp-content/uploads/2020/05/NNR_RndrFlyr_800x600_Ad-r.jpg
END:VEVENT
BEGIN:VEVENT
DTSTART;TZID=America/Los_Angeles:20251212T163000
DTEND;TZID=America/Los_Angeles:20251212T180000
DTSTAMP:20260423T042022
CREATED:20200530T015021Z
LAST-MODIFIED:20250303T214854Z
UID:10003910-1765557000-1765562400@elynevada.net
SUMMARY:NNRY Santa's Reindeer Flyer
DESCRIPTION:The Nevada Northern Railway celebrates the holiday season with an adventure to the North Pole on Santa’s Reindeer Flyer Christmas Train! \nHead to NNRY.Com For Full Schedule and Times
URL:https://elynevada.net/event/nevada-northern-railway-santas-reindeer-flyer/2025-12-12/1/
LOCATION:Nevada Northern Railway\, 1100 Avenue A\, Ely\, NV\, 89301\, United States
CATEGORIES:Arts & Culture,Community
ATTACH;FMTTYPE=image/jpeg:https://elynevada.net/wp-content/uploads/2020/05/NNR_RndrFlyr_800x600_Ad-r.jpg
END:VEVENT
BEGIN:VEVENT
DTSTART;TZID=America/Los_Angeles:20251212T190000
DTEND;TZID=America/Los_Angeles:20251212T203000
DTSTAMP:20260423T042022
CREATED:20200530T015021Z
LAST-MODIFIED:20250303T214854Z
UID:10003911-1765566000-1765571400@elynevada.net
SUMMARY:NNRY Santa's Reindeer Flyer
DESCRIPTION:The Nevada Northern Railway celebrates the holiday season with an adventure to the North Pole on Santa’s Reindeer Flyer Christmas Train! \nHead to NNRY.Com For Full Schedule and Times
URL:https://elynevada.net/event/nevada-northern-railway-santas-reindeer-flyer/2025-12-12/2/
LOCATION:Nevada Northern Railway\, 1100 Avenue A\, Ely\, NV\, 89301\, United States
CATEGORIES:Arts & Culture,Community
ATTACH;FMTTYPE=image/jpeg:https://elynevada.net/wp-content/uploads/2020/05/NNR_RndrFlyr_800x600_Ad-r.jpg
END:VEVENT
BEGIN:VEVENT
DTSTART;TZID=America/Los_Angeles:20251213T130000
DTEND;TZID=America/Los_Angeles:20251213T143000
DTSTAMP:20260423T042022
CREATED:20200530T015021Z
LAST-MODIFIED:20250303T214854Z
UID:10003912-1765630800-1765636200@elynevada.net
SUMMARY:NNRY Santa's Reindeer Flyer
DESCRIPTION:The Nevada Northern Railway celebrates the holiday season with an adventure to the North Pole on Santa’s Reindeer Flyer Christmas Train! \nHead to NNRY.Com For Full Schedule and Times
URL:https://elynevada.net/event/nevada-northern-railway-santas-reindeer-flyer/2025-12-13/1/
LOCATION:Nevada Northern Railway\, 1100 Avenue A\, Ely\, NV\, 89301\, United States
CATEGORIES:Arts & Culture,Community
ATTACH;FMTTYPE=image/jpeg:https://elynevada.net/wp-content/uploads/2020/05/NNR_RndrFlyr_800x600_Ad-r.jpg
END:VEVENT
BEGIN:VEVENT
DTSTART;TZID=America/Los_Angeles:20251213T163000
DTEND;TZID=America/Los_Angeles:20251213T180000
DTSTAMP:20260423T042022
CREATED:20200530T015021Z
LAST-MODIFIED:20250303T214854Z
UID:10003913-1765643400-1765648800@elynevada.net
SUMMARY:NNRY Santa's Reindeer Flyer
DESCRIPTION:The Nevada Northern Railway celebrates the holiday season with an adventure to the North Pole on Santa’s Reindeer Flyer Christmas Train! \nHead to NNRY.Com For Full Schedule and Times
URL:https://elynevada.net/event/nevada-northern-railway-santas-reindeer-flyer/2025-12-13/2/
LOCATION:Nevada Northern Railway\, 1100 Avenue A\, Ely\, NV\, 89301\, United States
CATEGORIES:Arts & Culture,Community
ATTACH;FMTTYPE=image/jpeg:https://elynevada.net/wp-content/uploads/2020/05/NNR_RndrFlyr_800x600_Ad-r.jpg
END:VEVENT
BEGIN:VEVENT
DTSTART;TZID=America/Los_Angeles:20251213T180000
DTEND;TZID=America/Los_Angeles:20251213T220000
DTSTAMP:20260423T042022
CREATED:20241113T003450Z
LAST-MODIFIED:20251119T004817Z
UID:10003079-1765648800-1765663200@elynevada.net
SUMMARY:3rd Annual Fezziwig Ball
DESCRIPTION:3rd Annual Fezziwig Ball\nCelebrate proper Christmas cheer in the absolute best fashion at the 3rd Annual Fezziwig Ball! \nThis party of the season takes place on December 13th\, 6pm-10pm with the halls of the Centennial Fine Arts Building fully decked. \nFezziwig is a character from Charles Dickens’ A Christmas Carol. As Scrooge’s old boss\, Fezziwig is meant to depict the absolute opposite of the well-known Christmas crank. Jolly\, giving\, and full of life\, Fezziwig adored the holiday season and threw his very own Christmas Ball every year. The Ghost of Christmas Past takes Scrooge back to one of these parties where he sees himself as a young man\, in love with Christmas and having the best time. \nA page straight out of the book\, this year’s Centennial Fine Arts’ Fezziwig Ball is meant to capture the same jovial magic. \nPeriod costume attire encouraged! Think Dickensian\, mid-19th century garb. What is most important is that you have fun! This is the most wonderful time of the year\, after all. \nLook forward to the Elderblossoms performing. A live five-piece band\, they will be providing the ambience and music for the evening. \nTickets are $50 per person. One ticket includes your food\, drinks\, and more! \nTickets can be purchased at Economy Drug\, the White Pine Chamber of Commerce\, and the Bristlecone Convention Center. \nDiscover all the ways to bring in the Holiday Season in Ely and White Pine HERE!\n\nThis Event is put on by the White Pine Community Choir Association. Learn more about them and their mission HERE!
URL:https://elynevada.net/event/2nd-annual-fezziwig-ball/
LOCATION:Centennial Fine Arts Building\, 910 East Aultman Street\, Ely\, NV\, 89301\, United States
CATEGORIES:Arts & Culture,Community
ATTACH;FMTTYPE=image/jpeg:https://elynevada.net/wp-content/uploads/2024/11/Fezziwig-Ball_2025_1640x856.jpg
END:VEVENT
BEGIN:VEVENT
DTSTART;TZID=America/Los_Angeles:20251213T190000
DTEND;TZID=America/Los_Angeles:20251213T203000
DTSTAMP:20260423T042022
CREATED:20200530T015021Z
LAST-MODIFIED:20250303T214854Z
UID:10003914-1765652400-1765657800@elynevada.net
SUMMARY:NNRY Santa's Reindeer Flyer
DESCRIPTION:The Nevada Northern Railway celebrates the holiday season with an adventure to the North Pole on Santa’s Reindeer Flyer Christmas Train! \nHead to NNRY.Com For Full Schedule and Times
URL:https://elynevada.net/event/nevada-northern-railway-santas-reindeer-flyer/2025-12-13/3/
LOCATION:Nevada Northern Railway\, 1100 Avenue A\, Ely\, NV\, 89301\, United States
CATEGORIES:Arts & Culture,Community
ATTACH;FMTTYPE=image/jpeg:https://elynevada.net/wp-content/uploads/2020/05/NNR_RndrFlyr_800x600_Ad-r.jpg
END:VEVENT
BEGIN:VEVENT
DTSTART;TZID=America/Los_Angeles:20251214T130000
DTEND;TZID=America/Los_Angeles:20251214T143000
DTSTAMP:20260423T042022
CREATED:20200530T015021Z
LAST-MODIFIED:20250303T214854Z
UID:10003915-1765717200-1765722600@elynevada.net
SUMMARY:NNRY Santa's Reindeer Flyer
DESCRIPTION:The Nevada Northern Railway celebrates the holiday season with an adventure to the North Pole on Santa’s Reindeer Flyer Christmas Train! \nHead to NNRY.Com For Full Schedule and Times
URL:https://elynevada.net/event/nevada-northern-railway-santas-reindeer-flyer/2025-12-14/1/
LOCATION:Nevada Northern Railway\, 1100 Avenue A\, Ely\, NV\, 89301\, United States
CATEGORIES:Arts & Culture,Community
ATTACH;FMTTYPE=image/jpeg:https://elynevada.net/wp-content/uploads/2020/05/NNR_RndrFlyr_800x600_Ad-r.jpg
END:VEVENT
BEGIN:VEVENT
DTSTART;TZID=America/Los_Angeles:20251214T163000
DTEND;TZID=America/Los_Angeles:20251214T180000
DTSTAMP:20260423T042022
CREATED:20200530T015021Z
LAST-MODIFIED:20250303T214854Z
UID:10003916-1765729800-1765735200@elynevada.net
SUMMARY:NNRY Santa's Reindeer Flyer
DESCRIPTION:The Nevada Northern Railway celebrates the holiday season with an adventure to the North Pole on Santa’s Reindeer Flyer Christmas Train! \nHead to NNRY.Com For Full Schedule and Times
URL:https://elynevada.net/event/nevada-northern-railway-santas-reindeer-flyer/2025-12-14/2/
LOCATION:Nevada Northern Railway\, 1100 Avenue A\, Ely\, NV\, 89301\, United States
CATEGORIES:Arts & Culture,Community
ATTACH;FMTTYPE=image/jpeg:https://elynevada.net/wp-content/uploads/2020/05/NNR_RndrFlyr_800x600_Ad-r.jpg
END:VEVENT
BEGIN:VEVENT
DTSTART;TZID=America/Los_Angeles:20251218T183000
DTEND;TZID=America/Los_Angeles:20251218T200000
DTSTAMP:20260423T042022
CREATED:20200530T015021Z
LAST-MODIFIED:20250303T214854Z
UID:10003917-1766082600-1766088000@elynevada.net
SUMMARY:NNRY Santa's Reindeer Flyer
DESCRIPTION:The Nevada Northern Railway celebrates the holiday season with an adventure to the North Pole on Santa’s Reindeer Flyer Christmas Train! \nHead to NNRY.Com For Full Schedule and Times
URL:https://elynevada.net/event/nevada-northern-railway-santas-reindeer-flyer/2025-12-18/
LOCATION:Nevada Northern Railway\, 1100 Avenue A\, Ely\, NV\, 89301\, United States
CATEGORIES:Arts & Culture,Community
ATTACH;FMTTYPE=image/jpeg:https://elynevada.net/wp-content/uploads/2020/05/NNR_RndrFlyr_800x600_Ad-r.jpg
END:VEVENT
BEGIN:VEVENT
DTSTART;TZID=America/Los_Angeles:20251219T163000
DTEND;TZID=America/Los_Angeles:20251219T180000
DTSTAMP:20260423T042022
CREATED:20200530T015021Z
LAST-MODIFIED:20250303T214854Z
UID:10003918-1766161800-1766167200@elynevada.net
SUMMARY:NNRY Santa's Reindeer Flyer
DESCRIPTION:The Nevada Northern Railway celebrates the holiday season with an adventure to the North Pole on Santa’s Reindeer Flyer Christmas Train! \nHead to NNRY.Com For Full Schedule and Times
URL:https://elynevada.net/event/nevada-northern-railway-santas-reindeer-flyer/2025-12-19/1/
LOCATION:Nevada Northern Railway\, 1100 Avenue A\, Ely\, NV\, 89301\, United States
CATEGORIES:Arts & Culture,Community
ATTACH;FMTTYPE=image/jpeg:https://elynevada.net/wp-content/uploads/2020/05/NNR_RndrFlyr_800x600_Ad-r.jpg
END:VEVENT
BEGIN:VEVENT
DTSTART;TZID=America/Los_Angeles:20251219T190000
DTEND;TZID=America/Los_Angeles:20251219T203000
DTSTAMP:20260423T042022
CREATED:20200530T015021Z
LAST-MODIFIED:20250303T214854Z
UID:10003919-1766170800-1766176200@elynevada.net
SUMMARY:NNRY Santa's Reindeer Flyer
DESCRIPTION:The Nevada Northern Railway celebrates the holiday season with an adventure to the North Pole on Santa’s Reindeer Flyer Christmas Train! \nHead to NNRY.Com For Full Schedule and Times
URL:https://elynevada.net/event/nevada-northern-railway-santas-reindeer-flyer/2025-12-19/2/
LOCATION:Nevada Northern Railway\, 1100 Avenue A\, Ely\, NV\, 89301\, United States
CATEGORIES:Arts & Culture,Community
ATTACH;FMTTYPE=image/jpeg:https://elynevada.net/wp-content/uploads/2020/05/NNR_RndrFlyr_800x600_Ad-r.jpg
END:VEVENT
BEGIN:VEVENT
DTSTART;TZID=America/Los_Angeles:20251220T130000
DTEND;TZID=America/Los_Angeles:20251220T143000
DTSTAMP:20260423T042022
CREATED:20200530T015021Z
LAST-MODIFIED:20250303T214854Z
UID:10003920-1766235600-1766241000@elynevada.net
SUMMARY:NNRY Santa's Reindeer Flyer
DESCRIPTION:The Nevada Northern Railway celebrates the holiday season with an adventure to the North Pole on Santa’s Reindeer Flyer Christmas Train! \nHead to NNRY.Com For Full Schedule and Times
URL:https://elynevada.net/event/nevada-northern-railway-santas-reindeer-flyer/2025-12-20/1/
LOCATION:Nevada Northern Railway\, 1100 Avenue A\, Ely\, NV\, 89301\, United States
CATEGORIES:Arts & Culture,Community
ATTACH;FMTTYPE=image/jpeg:https://elynevada.net/wp-content/uploads/2020/05/NNR_RndrFlyr_800x600_Ad-r.jpg
END:VEVENT
BEGIN:VEVENT
DTSTART;TZID=America/Los_Angeles:20251220T163000
DTEND;TZID=America/Los_Angeles:20251220T180000
DTSTAMP:20260423T042022
CREATED:20200530T015021Z
LAST-MODIFIED:20250303T214854Z
UID:10003921-1766248200-1766253600@elynevada.net
SUMMARY:NNRY Santa's Reindeer Flyer
DESCRIPTION:The Nevada Northern Railway celebrates the holiday season with an adventure to the North Pole on Santa’s Reindeer Flyer Christmas Train! \nHead to NNRY.Com For Full Schedule and Times
URL:https://elynevada.net/event/nevada-northern-railway-santas-reindeer-flyer/2025-12-20/2/
LOCATION:Nevada Northern Railway\, 1100 Avenue A\, Ely\, NV\, 89301\, United States
CATEGORIES:Arts & Culture,Community
ATTACH;FMTTYPE=image/jpeg:https://elynevada.net/wp-content/uploads/2020/05/NNR_RndrFlyr_800x600_Ad-r.jpg
END:VEVENT
BEGIN:VEVENT
DTSTART;TZID=America/Los_Angeles:20251220T190000
DTEND;TZID=America/Los_Angeles:20251220T203000
DTSTAMP:20260423T042022
CREATED:20200530T015021Z
LAST-MODIFIED:20250303T214854Z
UID:10003922-1766257200-1766262600@elynevada.net
SUMMARY:NNRY Santa's Reindeer Flyer
DESCRIPTION:The Nevada Northern Railway celebrates the holiday season with an adventure to the North Pole on Santa’s Reindeer Flyer Christmas Train! \nHead to NNRY.Com For Full Schedule and Times
URL:https://elynevada.net/event/nevada-northern-railway-santas-reindeer-flyer/2025-12-20/3/
LOCATION:Nevada Northern Railway\, 1100 Avenue A\, Ely\, NV\, 89301\, United States
CATEGORIES:Arts & Culture,Community
ATTACH;FMTTYPE=image/jpeg:https://elynevada.net/wp-content/uploads/2020/05/NNR_RndrFlyr_800x600_Ad-r.jpg
END:VEVENT
END:VCALENDAR