BEGIN:VCALENDAR
VERSION:2.0
PRODID:-//Welcome To Ely - ECPv6.15.20//NONSGML v1.0//EN
CALSCALE:GREGORIAN
METHOD:PUBLISH
X-WR-CALNAME:Welcome To Ely
X-ORIGINAL-URL:https://elynevada.net
X-WR-CALDESC:Events for Welcome To Ely
REFRESH-INTERVAL;VALUE=DURATION:PT1H
X-Robots-Tag:noindex
X-PUBLISHED-TTL:PT1H
BEGIN:VTIMEZONE
TZID:UTC
BEGIN:STANDARD
TZOFFSETFROM:+0000
TZOFFSETTO:+0000
TZNAME:UTC
DTSTART:20220101T000000
END:STANDARD
END:VTIMEZONE
BEGIN:VTIMEZONE
TZID:America/Los_Angeles
BEGIN:DAYLIGHT
TZOFFSETFROM:-0800
TZOFFSETTO:-0700
TZNAME:PDT
DTSTART:20220313T100000
END:DAYLIGHT
BEGIN:STANDARD
TZOFFSETFROM:-0700
TZOFFSETTO:-0800
TZNAME:PST
DTSTART:20221106T090000
END:STANDARD
BEGIN:DAYLIGHT
TZOFFSETFROM:-0800
TZOFFSETTO:-0700
TZNAME:PDT
DTSTART:20230312T100000
END:DAYLIGHT
BEGIN:STANDARD
TZOFFSETFROM:-0700
TZOFFSETTO:-0800
TZNAME:PST
DTSTART:20231105T090000
END:STANDARD
BEGIN:DAYLIGHT
TZOFFSETFROM:-0800
TZOFFSETTO:-0700
TZNAME:PDT
DTSTART:20240310T100000
END:DAYLIGHT
BEGIN:STANDARD
TZOFFSETFROM:-0700
TZOFFSETTO:-0800
TZNAME:PST
DTSTART:20241103T090000
END:STANDARD
END:VTIMEZONE
BEGIN:VEVENT
DTSTART;TZID=UTC:20230902T090000
DTEND;TZID=UTC:20230902T120000
DTSTAMP:20260425T150258
CREATED:20230124T053958Z
LAST-MODIFIED:20230610T022724Z
UID:10000509-1693645200-1693656000@elynevada.net
SUMMARY:Snake Valley Farmers Market
DESCRIPTION:Snake Valley Farmers Market\nCome join us at the market located at the Baker Community Church Pavilion\, and discover what our local gardeners\, artisans\, bakers\, photographers\, coffee roasters have to offer.
URL:https://elynevada.net/event/snake-valley-farmers-market/2023-09-02/
LOCATION:Baker Community Church Pavilion\, 315 Saval Ave.\, Baker\, NV\, 89311\, United States
CATEGORIES:Community
ATTACH;FMTTYPE=image/jpeg:https://elynevada.net/wp-content/uploads/2022/01/The-Heart-of-Great-Basin.jpeg
END:VEVENT
BEGIN:VEVENT
DTSTART;TZID=America/Los_Angeles:20230906T180000
DTEND;TZID=America/Los_Angeles:20230906T203000
DTSTAMP:20260425T150258
CREATED:20230104T033012Z
LAST-MODIFIED:20240405T001343Z
UID:10002540-1694023200-1694032200@elynevada.net
SUMMARY:Ely Elks Lodge Bingo
DESCRIPTION:Ely Elks Lodge Bingo\nBingo every first Thursday at the Ely Elks Lodge. Hot dogs and Chili are sold. Great time\, great people\, and BINGO!!!
URL:https://elynevada.net/event/ely-elks-lodge-bingo/2023-09-06/
LOCATION:Ely Elks Lodge\, 694 Campton St.\, Ely\, NV\, 89301\, United States
CATEGORIES:Community,Sports
ATTACH;FMTTYPE=image/png:https://elynevada.net/wp-content/uploads/2023/01/Ely-Elks-Lodge-Bingo.png
ORGANIZER;CN="Ely Elks Lodge":MAILTO:elyelks1469@att.net
END:VEVENT
BEGIN:VEVENT
DTSTART;TZID=UTC:20230909T080000
DTEND;TZID=UTC:20230909T080000
DTSTAMP:20260425T150258
CREATED:20230125T062229Z
LAST-MODIFIED:20230722T014000Z
UID:10000544-1694246400-1694246400@elynevada.net
SUMMARY:Race the Rails 2023
DESCRIPTION:Race the Rails 2023\nThe steam locomotive and the bicycle were invented nearly 10 years apart. Both changed the way we travel\, but which will prevail on September 9th at the Race The Rails? At the sound of the train whistle\, mountain and road bikers race to see who can get back to the depot before the train. \nMountain bikers test their speed and agility on a challenging 10 mile course through the beautiful mountains surrounding Ely\, while road bikers prove their speed and endurance on a 25 mile course along roads and highways in the area. Everyone who finishes the course will receive a finisher’s medal. \nThis is not a regular race against time\, or your fellow riders. It’s a race against one of histories most powerful inventions! It’s Race the Rails – 2023!\nRegister for Race the Rails 2023 HERE! \nSee what Ely offers in lodging by clicking HERE! \nEly is a remote mountain town of 4\,000 where history\, art\, and outdoor adventure run deep. In the nearby Great Basin National Park\, travelers have the chance to descend into the depths of the Lehman Cave system to explore a series of limestone and marble caverns full of huge stalagmites and other wild rock formations. The park is also home to the snow-capped Wheeler Peak which\, at 13\,000 feet\, is the second-tallest mountain in Nevada. \nFollow Updates on Our Facebook HERE!
URL:https://elynevada.net/event/race-the-rails-2023/
LOCATION:Ely\, NV\, 89301\, United States
CATEGORIES:Community,History,Races,Sports
ATTACH;FMTTYPE=image/jpeg:https://elynevada.net/wp-content/uploads/2023/01/Race-the-Rails-2023.jpg
ORGANIZER;CN="White PIne County Tourism and Recreation":MAILTO:nicole.collard@elynevada.net
END:VEVENT
BEGIN:VEVENT
DTSTART;TZID=UTC:20230909T090000
DTEND;TZID=UTC:20230909T120000
DTSTAMP:20260425T150258
CREATED:20230124T053958Z
LAST-MODIFIED:20230610T022724Z
UID:10000510-1694250000-1694260800@elynevada.net
SUMMARY:Snake Valley Farmers Market
DESCRIPTION:Snake Valley Farmers Market\nCome join us at the market located at the Baker Community Church Pavilion\, and discover what our local gardeners\, artisans\, bakers\, photographers\, coffee roasters have to offer.
URL:https://elynevada.net/event/snake-valley-farmers-market/2023-09-09/
LOCATION:Baker Community Church Pavilion\, 315 Saval Ave.\, Baker\, NV\, 89311\, United States
CATEGORIES:Community
ATTACH;FMTTYPE=image/jpeg:https://elynevada.net/wp-content/uploads/2022/01/The-Heart-of-Great-Basin.jpeg
END:VEVENT
BEGIN:VEVENT
DTSTART;VALUE=DATE:20230914
DTEND;VALUE=DATE:20230917
DTSTAMP:20260425T150258
CREATED:20190807T173516Z
LAST-MODIFIED:20230125T062910Z
UID:10000041-1694649600-1694908799@elynevada.net
SUMMARY:Great Basin Astronomy Festival
DESCRIPTION:Great Basin Astronomy Festival\nJoin park rangers and amateur astronomers to experience out-of-this-world family fun and excitement at the annual Great Basin Astronomy Festival! Learn about daytime and nighttime astronomy while enjoying some of the darkest night skies in the nation. \nDon’t have your own telescope? There will be many telescopes of different makes\, shapes\, and sizes for you and your family to use to look at the sun\, stars\, planets and other deep sky objects including nebulae and galaxies. With activities for kids of all ages\, the whole family can enjoy this festival together. \nGreat Basin National Park is always happy to welcome visitors to the Great Basin to view the night skies together. Everyone can enjoy the night sky in their own way. \nThis year’s festival events will include guest speakers\, phot workshops\, tours of the Great Basin Observatory (GBO)\, and other fun programs for families. \nThe park is excited to welcome back amateur astronomer volunteers and their telescopes for an out of this world star party each night of the festival. \nDue to limited parking\, there will be a shuttle bus service from the Great Basin Visitor Center to the Lehman Caves Visitor Center. The shuttle bus service is free and will last from 7:30 to Midnight. \nLearn All About This Event From the Park Itself by Clicking HERE! \nDiscover More of White Pine County HERE!
URL:https://elynevada.net/event/astronomy-festival-2021-09-10/
LOCATION:Lehman Caves Vistior Center\, 5500 NV-488\, Baker\, NV\, 89311\, United States
CATEGORIES:Community,History
ATTACH;FMTTYPE=image/jpeg:https://elynevada.net/wp-content/uploads/2019/08/JennyHamilton_NightSky.jpg
END:VEVENT
BEGIN:VEVENT
DTSTART;TZID=UTC:20230916T090000
DTEND;TZID=UTC:20230916T120000
DTSTAMP:20260425T150258
CREATED:20230124T053958Z
LAST-MODIFIED:20230610T022724Z
UID:10000511-1694854800-1694865600@elynevada.net
SUMMARY:Snake Valley Farmers Market
DESCRIPTION:Snake Valley Farmers Market\nCome join us at the market located at the Baker Community Church Pavilion\, and discover what our local gardeners\, artisans\, bakers\, photographers\, coffee roasters have to offer.
URL:https://elynevada.net/event/snake-valley-farmers-market/2023-09-16/
LOCATION:Baker Community Church Pavilion\, 315 Saval Ave.\, Baker\, NV\, 89311\, United States
CATEGORIES:Community
ATTACH;FMTTYPE=image/jpeg:https://elynevada.net/wp-content/uploads/2022/01/The-Heart-of-Great-Basin.jpeg
END:VEVENT
BEGIN:VEVENT
DTSTART;VALUE=DATE:20230923
DTEND;VALUE=DATE:20230924
DTSTAMP:20260425T150258
CREATED:20210331T035212Z
LAST-MODIFIED:20230805T002010Z
UID:10000390-1695427200-1695513599@elynevada.net
SUMMARY:Sagebrush Social Disc Golf Tournament
DESCRIPTION:Sagebrush Social Disc Golf Tournament\nDo you like disc golf? Do you consider yourself social? Are you a giving and caring person? Well then the Sagebrush Social Disc Golf Tournament at the Ward Mountain Disc Golf Course September 23\, 2023 is the event for you! And don’t worry; even if your skills are sub-par\, you’re as introverted as a baby turtle\, and fundraisers make you cringe harder than when someone says Nevada wrong and instead they say “Nevawduh”\, you are still more than welcome! \n$40 a Player: Call us at (775) 289-3720\, 9:00 a.m. – 5:00 p.m.\, Monday through Friday to register your team. YOU MUST REGISTER BEFORE THE EVENT. There will be no “Day Of” Registration. Registration CLOSES Sept. 22nd. \nThe tournament begins at 9:00 a.m. with a shotgun start.  There will be prizes for 1st place and Runner-Up in both Recreational and Advanced divisions. \nPlayer Pack Includes: Course Pin\, $20 in food vouchers\, 1 ticket on a Regular Nevada Northern Railway Excursion Train\, a special gift for all players\, and free refreshments. \nThis event is a non-sanctioned event-fundraiser\, with proceeds going toward continued course improvements. \nFollow Updates About This Event on Our Facebook HERE!\n\nDiscover More Things To Do in White Pine County HERE!
URL:https://elynevada.net/event/sagebrush-social-disc-golf-tournament/
LOCATION:Ward Mountain North\, Murry Summit Rt. 6\, Ely\, NV\, 89301\, United States
CATEGORIES:Community,Sports
ATTACH;FMTTYPE=image/jpeg:https://elynevada.net/wp-content/uploads/2021/03/MG_7041-2-1.jpg
END:VEVENT
BEGIN:VEVENT
DTSTART;TZID=UTC:20230923T090000
DTEND;TZID=UTC:20230923T120000
DTSTAMP:20260425T150258
CREATED:20230124T053958Z
LAST-MODIFIED:20230610T022724Z
UID:10000512-1695459600-1695470400@elynevada.net
SUMMARY:Snake Valley Farmers Market
DESCRIPTION:Snake Valley Farmers Market\nCome join us at the market located at the Baker Community Church Pavilion\, and discover what our local gardeners\, artisans\, bakers\, photographers\, coffee roasters have to offer.
URL:https://elynevada.net/event/snake-valley-farmers-market/2023-09-23/
LOCATION:Baker Community Church Pavilion\, 315 Saval Ave.\, Baker\, NV\, 89311\, United States
CATEGORIES:Community
ATTACH;FMTTYPE=image/jpeg:https://elynevada.net/wp-content/uploads/2022/01/The-Heart-of-Great-Basin.jpeg
END:VEVENT
BEGIN:VEVENT
DTSTART;TZID=UTC:20230930T090000
DTEND;TZID=UTC:20230930T120000
DTSTAMP:20260425T150258
CREATED:20230124T053958Z
LAST-MODIFIED:20230610T022724Z
UID:10000513-1696064400-1696075200@elynevada.net
SUMMARY:Snake Valley Farmers Market
DESCRIPTION:Snake Valley Farmers Market\nCome join us at the market located at the Baker Community Church Pavilion\, and discover what our local gardeners\, artisans\, bakers\, photographers\, coffee roasters have to offer.
URL:https://elynevada.net/event/snake-valley-farmers-market/2023-09-30/
LOCATION:Baker Community Church Pavilion\, 315 Saval Ave.\, Baker\, NV\, 89311\, United States
CATEGORIES:Community
ATTACH;FMTTYPE=image/jpeg:https://elynevada.net/wp-content/uploads/2022/01/The-Heart-of-Great-Basin.jpeg
END:VEVENT
END:VCALENDAR