BEGIN:VCALENDAR
VERSION:2.0
PRODID:-//Welcome To Ely - ECPv6.15.20//NONSGML v1.0//EN
CALSCALE:GREGORIAN
METHOD:PUBLISH
X-WR-CALNAME:Welcome To Ely
X-ORIGINAL-URL:https://elynevada.net
X-WR-CALDESC:Events for Welcome To Ely
REFRESH-INTERVAL;VALUE=DURATION:PT1H
X-Robots-Tag:noindex
X-PUBLISHED-TTL:PT1H
BEGIN:VTIMEZONE
TZID:America/Los_Angeles
BEGIN:DAYLIGHT
TZOFFSETFROM:-0800
TZOFFSETTO:-0700
TZNAME:PDT
DTSTART:20240310T100000
END:DAYLIGHT
BEGIN:STANDARD
TZOFFSETFROM:-0700
TZOFFSETTO:-0800
TZNAME:PST
DTSTART:20241103T090000
END:STANDARD
BEGIN:DAYLIGHT
TZOFFSETFROM:-0800
TZOFFSETTO:-0700
TZNAME:PDT
DTSTART:20250309T100000
END:DAYLIGHT
BEGIN:STANDARD
TZOFFSETFROM:-0700
TZOFFSETTO:-0800
TZNAME:PST
DTSTART:20251102T090000
END:STANDARD
BEGIN:DAYLIGHT
TZOFFSETFROM:-0800
TZOFFSETTO:-0700
TZNAME:PDT
DTSTART:20260308T100000
END:DAYLIGHT
BEGIN:STANDARD
TZOFFSETFROM:-0700
TZOFFSETTO:-0800
TZNAME:PST
DTSTART:20261101T090000
END:STANDARD
END:VTIMEZONE
BEGIN:VEVENT
DTSTART;TZID=America/Los_Angeles:20250102T154500
DTEND;TZID=America/Los_Angeles:20250102T164500
DTSTAMP:20260423T144151
CREATED:20240321T181611Z
LAST-MODIFIED:20240321T181612Z
UID:10002151-1735832700-1735836300@elynevada.net
SUMMARY:Atlas Club
DESCRIPTION:Atlas Club\nAges 8-10
URL:https://elynevada.net/event/atlas-club-2/2025-01-02/
LOCATION:White Pine County Library\, 950 Campton St\, Ely\, NV\, 89301\, United States
CATEGORIES:Community
ATTACH;FMTTYPE=image/jpeg:https://elynevada.net/wp-content/uploads/2024/02/liiiiiiiiiiiiiiiiibbbbbbbbbbbbbbbrrrrrrraaaaaaarrrrrrrrryyyyyyyyyyy.jpg
END:VEVENT
BEGIN:VEVENT
DTSTART;TZID=America/Los_Angeles:20250102T180000
DTEND;TZID=America/Los_Angeles:20250102T203000
DTSTAMP:20260423T144151
CREATED:20240405T001511Z
LAST-MODIFIED:20240405T001511Z
UID:10002614-1735840800-1735849800@elynevada.net
SUMMARY:Ely Elks Lodge Bingo
DESCRIPTION:Ely Elks Lodge Bingo\nBingo every first Thursday at the Ely Elks Lodge. Hot dogs and Chili are sold. Great time\, great people\, and BINGO!!!
URL:https://elynevada.net/event/ely-elks-lodge-bingo-2/2025-01-02/
LOCATION:Ely Elks Lodge\, 694 Campton St.\, Ely\, NV\, 89301\, United States
CATEGORIES:Community,Sports
ATTACH;FMTTYPE=image/png:https://elynevada.net/wp-content/uploads/2023/01/Ely-Elks-Lodge-Bingo.png
ORGANIZER;CN="Ely Elks Lodge":MAILTO:elyelks1469@att.net
END:VEVENT
BEGIN:VEVENT
DTSTART;TZID=America/Los_Angeles:20250106T153000
DTEND;TZID=America/Los_Angeles:20250106T170000
DTSTAMP:20260423T144151
CREATED:20240321T181441Z
LAST-MODIFIED:20240321T181442Z
UID:10002008-1736177400-1736182800@elynevada.net
SUMMARY:11&Up Club
DESCRIPTION:11&Up Club\n3:45 – 5 PM
URL:https://elynevada.net/event/11up-club-2/2025-01-06/
LOCATION:White Pine County Library\, 950 Campton St\, Ely\, NV\, 89301\, United States
CATEGORIES:Community
ATTACH;FMTTYPE=image/jpeg:https://elynevada.net/wp-content/uploads/2024/02/liiiiiiiiiiiiiiiiibbbbbbbbbbbbbbbrrrrrrraaaaaaarrrrrrrrryyyyyyyyyyy.jpg
END:VEVENT
BEGIN:VEVENT
DTSTART;TZID=America/Los_Angeles:20250106T153000
DTEND;TZID=America/Los_Angeles:20250106T180000
DTSTAMP:20260423T144151
CREATED:20240321T181428Z
LAST-MODIFIED:20240321T181428Z
UID:10001959-1736177400-1736186400@elynevada.net
SUMMARY:Roaring Readers
DESCRIPTION:Roaring Readers\nAges 5-7: 3:35-4:45 PM
URL:https://elynevada.net/event/roaring-readers-2/2025-01-06/
LOCATION:White Pine County Library\, 950 Campton St\, Ely\, NV\, 89301\, United States
CATEGORIES:Community
ATTACH;FMTTYPE=image/jpeg:https://elynevada.net/wp-content/uploads/2024/02/liiiiiiiiiiiiiiiiibbbbbbbbbbbbbbbrrrrrrraaaaaaarrrrrrrrryyyyyyyyyyy.jpg
END:VEVENT
BEGIN:VEVENT
DTSTART;TZID=America/Los_Angeles:20250106T154500
DTEND;TZID=America/Los_Angeles:20250106T164500
DTSTAMP:20260423T144151
CREATED:20240321T181611Z
LAST-MODIFIED:20240321T181612Z
UID:10002152-1736178300-1736181900@elynevada.net
SUMMARY:Atlas Club
DESCRIPTION:Atlas Club\nAges 8-10
URL:https://elynevada.net/event/atlas-club-2/2025-01-06/
LOCATION:White Pine County Library\, 950 Campton St\, Ely\, NV\, 89301\, United States
CATEGORIES:Community
ATTACH;FMTTYPE=image/jpeg:https://elynevada.net/wp-content/uploads/2024/02/liiiiiiiiiiiiiiiiibbbbbbbbbbbbbbbrrrrrrraaaaaaarrrrrrrrryyyyyyyyyyy.jpg
END:VEVENT
BEGIN:VEVENT
DTSTART;TZID=America/Los_Angeles:20250108T160000
DTEND;TZID=America/Los_Angeles:20250108T230000
DTSTAMP:20260423T144151
CREATED:20221214T053838Z
LAST-MODIFIED:20241205T012821Z
UID:10003082-1736352000-1736377200@elynevada.net
SUMMARY:Annual Winter Weeds Conference
DESCRIPTION:Annual Winter Weeds Conference\nThe Eastern Nevada Landscape Coalition and Tri-County Weed Control invite you to attend the Annual Winter Weeds Conference. This conference is for private landowners\, local officials\, state and federal agency officials and others who have responsibilities for vegetation management. Topics may include Cooperative Weed Management Areas (CWMAs)\, biocontrol\, Early Detection Rapid Response EDRR)\, Industry\, Safety\, and Weed Ecology to name a few.\nContinuing Education Units (CEUs) required for ongoing pesticide applicator certification with the Nevada Department of Agriculture (NDA) will be offered at this conference and all future Winter Weeds Conferences. NDA will administer the pesticide applicators license exam the final day of the conference. \nSeveral Confirmed Conference Topics:\n1. How Herbicides Work Influences Their Selection\n2. Strategies and Tools for Effective Early Detection Rapid Response\n3. Noxious Weed Control on Banks and Restoration Sites\n4. Pinyon Juniper Thinning\, Removal\, and Reseeding in the Great Basin\n5. Partnering with ENLC and Improving Landscape Health in the BLM Carson City District Office \nOn-site registration will be available at a higher rate. Please feel free to contact the ENLC office with any question about the conference at 775-289-7974. \nDiscover More January 2023 Events in White Pine County HERE!
URL:https://elynevada.net/event/annual-winter-weeds-conference/2025-01-08/
LOCATION:Bristlecone Convention Center\, 150 Sixth Street\, Ely\, NV\, 89301\, United States
CATEGORIES:Community,Conference
ATTACH;FMTTYPE=image/jpeg:https://elynevada.net/wp-content/uploads/2022/12/Annual-Winter-Weeds-Conference.jpg
ORGANIZER;CN="Eastern Nevada Landscape Coalition":MAILTO:execdir@envlc.org
END:VEVENT
BEGIN:VEVENT
DTSTART;TZID=America/Los_Angeles:20250109T080000
DTEND;TZID=America/Los_Angeles:20250109T150000
DTSTAMP:20260423T144151
CREATED:20221214T053838Z
LAST-MODIFIED:20241205T012821Z
UID:10003083-1736409600-1736434800@elynevada.net
SUMMARY:Annual Winter Weeds Conference
DESCRIPTION:Annual Winter Weeds Conference\nThe Eastern Nevada Landscape Coalition and Tri-County Weed Control invite you to attend the Annual Winter Weeds Conference. This conference is for private landowners\, local officials\, state and federal agency officials and others who have responsibilities for vegetation management. Topics may include Cooperative Weed Management Areas (CWMAs)\, biocontrol\, Early Detection Rapid Response EDRR)\, Industry\, Safety\, and Weed Ecology to name a few.\nContinuing Education Units (CEUs) required for ongoing pesticide applicator certification with the Nevada Department of Agriculture (NDA) will be offered at this conference and all future Winter Weeds Conferences. NDA will administer the pesticide applicators license exam the final day of the conference. \nSeveral Confirmed Conference Topics:\n1. How Herbicides Work Influences Their Selection\n2. Strategies and Tools for Effective Early Detection Rapid Response\n3. Noxious Weed Control on Banks and Restoration Sites\n4. Pinyon Juniper Thinning\, Removal\, and Reseeding in the Great Basin\n5. Partnering with ENLC and Improving Landscape Health in the BLM Carson City District Office \nOn-site registration will be available at a higher rate. Please feel free to contact the ENLC office with any question about the conference at 775-289-7974. \nDiscover More January 2023 Events in White Pine County HERE!
URL:https://elynevada.net/event/annual-winter-weeds-conference/2025-01-09/
LOCATION:Bristlecone Convention Center\, 150 Sixth Street\, Ely\, NV\, 89301\, United States
CATEGORIES:Community,Conference
ATTACH;FMTTYPE=image/jpeg:https://elynevada.net/wp-content/uploads/2022/12/Annual-Winter-Weeds-Conference.jpg
ORGANIZER;CN="Eastern Nevada Landscape Coalition":MAILTO:execdir@envlc.org
END:VEVENT
BEGIN:VEVENT
DTSTART;TZID=America/Los_Angeles:20250109T154500
DTEND;TZID=America/Los_Angeles:20250109T164500
DTSTAMP:20260423T144151
CREATED:20240321T181611Z
LAST-MODIFIED:20240321T181612Z
UID:10002153-1736437500-1736441100@elynevada.net
SUMMARY:Atlas Club
DESCRIPTION:Atlas Club\nAges 8-10
URL:https://elynevada.net/event/atlas-club-2/2025-01-09/
LOCATION:White Pine County Library\, 950 Campton St\, Ely\, NV\, 89301\, United States
CATEGORIES:Community
ATTACH;FMTTYPE=image/jpeg:https://elynevada.net/wp-content/uploads/2024/02/liiiiiiiiiiiiiiiiibbbbbbbbbbbbbbbrrrrrrraaaaaaarrrrrrrrryyyyyyyyyyy.jpg
END:VEVENT
BEGIN:VEVENT
DTSTART;TZID=America/Los_Angeles:20250113T153000
DTEND;TZID=America/Los_Angeles:20250113T170000
DTSTAMP:20260423T144151
CREATED:20240321T181441Z
LAST-MODIFIED:20240321T181442Z
UID:10002009-1736782200-1736787600@elynevada.net
SUMMARY:11&Up Club
DESCRIPTION:11&Up Club\n3:45 – 5 PM
URL:https://elynevada.net/event/11up-club-2/2025-01-13/
LOCATION:White Pine County Library\, 950 Campton St\, Ely\, NV\, 89301\, United States
CATEGORIES:Community
ATTACH;FMTTYPE=image/jpeg:https://elynevada.net/wp-content/uploads/2024/02/liiiiiiiiiiiiiiiiibbbbbbbbbbbbbbbrrrrrrraaaaaaarrrrrrrrryyyyyyyyyyy.jpg
END:VEVENT
BEGIN:VEVENT
DTSTART;TZID=America/Los_Angeles:20250113T153000
DTEND;TZID=America/Los_Angeles:20250113T180000
DTSTAMP:20260423T144151
CREATED:20240321T181428Z
LAST-MODIFIED:20240321T181428Z
UID:10001960-1736782200-1736791200@elynevada.net
SUMMARY:Roaring Readers
DESCRIPTION:Roaring Readers\nAges 5-7: 3:35-4:45 PM
URL:https://elynevada.net/event/roaring-readers-2/2025-01-13/
LOCATION:White Pine County Library\, 950 Campton St\, Ely\, NV\, 89301\, United States
CATEGORIES:Community
ATTACH;FMTTYPE=image/jpeg:https://elynevada.net/wp-content/uploads/2024/02/liiiiiiiiiiiiiiiiibbbbbbbbbbbbbbbrrrrrrraaaaaaarrrrrrrrryyyyyyyyyyy.jpg
END:VEVENT
BEGIN:VEVENT
DTSTART;TZID=America/Los_Angeles:20250113T154500
DTEND;TZID=America/Los_Angeles:20250113T164500
DTSTAMP:20260423T144151
CREATED:20240321T181611Z
LAST-MODIFIED:20240321T181612Z
UID:10002154-1736783100-1736786700@elynevada.net
SUMMARY:Atlas Club
DESCRIPTION:Atlas Club\nAges 8-10
URL:https://elynevada.net/event/atlas-club-2/2025-01-13/
LOCATION:White Pine County Library\, 950 Campton St\, Ely\, NV\, 89301\, United States
CATEGORIES:Community
ATTACH;FMTTYPE=image/jpeg:https://elynevada.net/wp-content/uploads/2024/02/liiiiiiiiiiiiiiiiibbbbbbbbbbbbbbbrrrrrrraaaaaaarrrrrrrrryyyyyyyyyyy.jpg
END:VEVENT
BEGIN:VEVENT
DTSTART;TZID=America/Los_Angeles:20250116T154500
DTEND;TZID=America/Los_Angeles:20250116T164500
DTSTAMP:20260423T144151
CREATED:20240321T181611Z
LAST-MODIFIED:20240321T181612Z
UID:10002155-1737042300-1737045900@elynevada.net
SUMMARY:Atlas Club
DESCRIPTION:Atlas Club\nAges 8-10
URL:https://elynevada.net/event/atlas-club-2/2025-01-16/
LOCATION:White Pine County Library\, 950 Campton St\, Ely\, NV\, 89301\, United States
CATEGORIES:Community
ATTACH;FMTTYPE=image/jpeg:https://elynevada.net/wp-content/uploads/2024/02/liiiiiiiiiiiiiiiiibbbbbbbbbbbbbbbrrrrrrraaaaaaarrrrrrrrryyyyyyyyyyy.jpg
END:VEVENT
BEGIN:VEVENT
DTSTART;VALUE=DATE:20250117
DTEND;VALUE=DATE:20250120
DTSTAMP:20260423T144151
CREATED:20241203T180953Z
LAST-MODIFIED:20250115T234158Z
UID:10003080-1737072000-1737331199@elynevada.net
SUMMARY:Fire & Ice Winter Festival 2025
DESCRIPTION:Fire & Ice Winter Festival – 2025\nIt’s here: The Fire and Ice Winter Festival – 2025 celebrates everything White Pine County offers during the winter months. \nThe community wide festival will once again have multiple events throughout the area for people of all ages. Locations include Nevada Northern Railway\, downtown businesses\, and Ward Mtn Recreation Area\, and Broadbent Park. Bring the entire family down for activities around sports\, arts\, food and drink\, tournaments\, live music and more. Snow Sculptures are entirely dependent on the weather\, but keep your fingers crossed! Teams interested in competing should contact the convention center at (775) 289-3720. \n  \nThe Schedule of Events: \nFriday January 17th – \n9am-4:30pm\, Desert Rose Ceramics: Open Ceramics Painting \n11am-4:30pm: White Pine Public Musuem is Open! \n3:30pm-4:30pm\, Downtown Ely: Mural Walking Tour \n6:30pm\, Bristlecone Convention Center: FREE Concert\, feat. Blu Egyptian \n\nSaturday\, January 18th – \n8am\, Ward Mtn. Recreation Area: Ely Outdoor Enthusiasts Bristlecone Birkebeiner Winter Fest \n9am-4:30pm\, Desert Rose Ceramics: Open Ceramics Painting \n11am-4:30pm: White Pine Public Musuem is Open! \n12:00pm-5:00pm\, Shooters Bar & Grill: Pool Tournament \n1:00pm\, Nevada Northern Railway: Steam Train Excursion through Robinson Canyon \n1:00pm-4:00pm\, Sunset Lanes Bowling Center: Bowling Tournament \n1:30pm\, Ely VFW Post: Darts Tournament \n2:00pm\, Ely Central Theater: Feature Length Movie (TBA) \n4:30pm-8:00pm\, Outpost Bar: Pool Tournament \n6:00pm\, Nevada Northern Railway: Fireworks Off the Back of the Train \n7:00pm\, Nevada Northern Railway: Art Sculpture Bonfire\, A Food Truck Will Be Parked & Open \n7:00pm\, Ely Central Theater: Feature Length Movie (TBA) \n8:00pm\, Outpost Bar: Karaoke!!! \n\nSunday\, January 19th – \n8:00am\, Broadbent Park: Art Contest Begins!!! \n9:00am\, Cave Lake State Park: Morning Hike \n9am-4:30pm\, Desert Rose Ceramics: Open Ceramics Painting \n11am-4:30pm: White Pine Public Musuem is Open! \n11:00am-3:00pm\, Broadbent Park: A Food Truck Will Be Parked & Open \n11:00am-3:00pm\, Broadbent Park: Ice Horseshoe Tournament \n11:00am-3:00pm\, Broadbent Park: Cornhole Tournament\, Must Register Before Event\, Call (775) 289-3720 \n2:00pm\, Broadbent Park: MASSIVE Art Contest Ends & Displays Are Ready For Judging! \n2:00pm\, Ely Central Theater: Feature Length Movie (TBA) \n5:30pm\, Broadbent Park: Fireworks Display presented by Great Basin Pyrotechnics \n6:30pm\, Veterans Park\, Ely: Nighttime Glow Disc Golf Tournament\, Sign-Up in Advance\, Call (775) 289-3720 \n7:00pm\, Ely Central Theater: Feature Length Movie (TBA) \n8:00pm\, 2053 Campton St\, Ely: Beautiful Losers Free House Concert Party \n  \nMore Info about the Bristlecone Birkebeiner can be found HERE!\nMore Info for the Entire Festival Can Be Found HERE!
URL:https://elynevada.net/event/fire-ice-winter-festival-2025/
LOCATION:Ely\, NV\, 89301\, United States
CATEGORIES:Arts & Culture,Community,Concert,History,Sports
ATTACH;FMTTYPE=image/png:https://elynevada.net/wp-content/uploads/2024/12/Fire-and-Ice-2025_Facebook-Cover.png
END:VEVENT
BEGIN:VEVENT
DTSTART;TZID=America/Los_Angeles:20250120T153000
DTEND;TZID=America/Los_Angeles:20250120T170000
DTSTAMP:20260423T144151
CREATED:20240321T181441Z
LAST-MODIFIED:20240321T181442Z
UID:10002010-1737387000-1737392400@elynevada.net
SUMMARY:11&Up Club
DESCRIPTION:11&Up Club\n3:45 – 5 PM
URL:https://elynevada.net/event/11up-club-2/2025-01-20/
LOCATION:White Pine County Library\, 950 Campton St\, Ely\, NV\, 89301\, United States
CATEGORIES:Community
ATTACH;FMTTYPE=image/jpeg:https://elynevada.net/wp-content/uploads/2024/02/liiiiiiiiiiiiiiiiibbbbbbbbbbbbbbbrrrrrrraaaaaaarrrrrrrrryyyyyyyyyyy.jpg
END:VEVENT
BEGIN:VEVENT
DTSTART;TZID=America/Los_Angeles:20250120T153000
DTEND;TZID=America/Los_Angeles:20250120T180000
DTSTAMP:20260423T144151
CREATED:20240321T181428Z
LAST-MODIFIED:20240321T181428Z
UID:10001961-1737387000-1737396000@elynevada.net
SUMMARY:Roaring Readers
DESCRIPTION:Roaring Readers\nAges 5-7: 3:35-4:45 PM
URL:https://elynevada.net/event/roaring-readers-2/2025-01-20/
LOCATION:White Pine County Library\, 950 Campton St\, Ely\, NV\, 89301\, United States
CATEGORIES:Community
ATTACH;FMTTYPE=image/jpeg:https://elynevada.net/wp-content/uploads/2024/02/liiiiiiiiiiiiiiiiibbbbbbbbbbbbbbbrrrrrrraaaaaaarrrrrrrrryyyyyyyyyyy.jpg
END:VEVENT
BEGIN:VEVENT
DTSTART;TZID=America/Los_Angeles:20250120T154500
DTEND;TZID=America/Los_Angeles:20250120T164500
DTSTAMP:20260423T144151
CREATED:20240321T181611Z
LAST-MODIFIED:20240321T181612Z
UID:10002156-1737387900-1737391500@elynevada.net
SUMMARY:Atlas Club
DESCRIPTION:Atlas Club\nAges 8-10
URL:https://elynevada.net/event/atlas-club-2/2025-01-20/
LOCATION:White Pine County Library\, 950 Campton St\, Ely\, NV\, 89301\, United States
CATEGORIES:Community
ATTACH;FMTTYPE=image/jpeg:https://elynevada.net/wp-content/uploads/2024/02/liiiiiiiiiiiiiiiiibbbbbbbbbbbbbbbrrrrrrraaaaaaarrrrrrrrryyyyyyyyyyy.jpg
END:VEVENT
BEGIN:VEVENT
DTSTART;TZID=America/Los_Angeles:20250123T154500
DTEND;TZID=America/Los_Angeles:20250123T164500
DTSTAMP:20260423T144151
CREATED:20240321T181611Z
LAST-MODIFIED:20240321T181612Z
UID:10002157-1737647100-1737650700@elynevada.net
SUMMARY:Atlas Club
DESCRIPTION:Atlas Club\nAges 8-10
URL:https://elynevada.net/event/atlas-club-2/2025-01-23/
LOCATION:White Pine County Library\, 950 Campton St\, Ely\, NV\, 89301\, United States
CATEGORIES:Community
ATTACH;FMTTYPE=image/jpeg:https://elynevada.net/wp-content/uploads/2024/02/liiiiiiiiiiiiiiiiibbbbbbbbbbbbbbbrrrrrrraaaaaaarrrrrrrrryyyyyyyyyyy.jpg
END:VEVENT
BEGIN:VEVENT
DTSTART;TZID=America/Los_Angeles:20250126T120000
DTEND;TZID=America/Los_Angeles:20250126T170000
DTSTAMP:20260423T144151
CREATED:20250107T205751Z
LAST-MODIFIED:20250107T205752Z
UID:10003121-1737892800-1737910800@elynevada.net
SUMMARY:GET ROWDY: NFL Conference Championship Games
DESCRIPTION:GET ROWDY: NFL Conference Championship Games\nWatch the NFL Conference Championships on the Big Screen in the Bristlecone General Store. Kick-off is at noon.
URL:https://elynevada.net/event/get-rowdy-nfl-conference-championship-games/
LOCATION:Bristlecone General Store\, 115 S. Baker Ave.\, Baker\, NV\, 89311\, United States
CATEGORIES:Community,Sports
ATTACH;FMTTYPE=image/jpeg:https://elynevada.net/wp-content/uploads/2025/01/BGS-Get-Rowdy-Jan-2025.jpg
ORGANIZER;CN="Bristlecone General Store":MAILTO:stay@stargazernevada.com
END:VEVENT
BEGIN:VEVENT
DTSTART;TZID=America/Los_Angeles:20250127T153000
DTEND;TZID=America/Los_Angeles:20250127T170000
DTSTAMP:20260423T144152
CREATED:20240321T181441Z
LAST-MODIFIED:20240321T181442Z
UID:10002011-1737991800-1737997200@elynevada.net
SUMMARY:11&Up Club
DESCRIPTION:11&Up Club\n3:45 – 5 PM
URL:https://elynevada.net/event/11up-club-2/2025-01-27/
LOCATION:White Pine County Library\, 950 Campton St\, Ely\, NV\, 89301\, United States
CATEGORIES:Community
ATTACH;FMTTYPE=image/jpeg:https://elynevada.net/wp-content/uploads/2024/02/liiiiiiiiiiiiiiiiibbbbbbbbbbbbbbbrrrrrrraaaaaaarrrrrrrrryyyyyyyyyyy.jpg
END:VEVENT
BEGIN:VEVENT
DTSTART;TZID=America/Los_Angeles:20250127T154500
DTEND;TZID=America/Los_Angeles:20250127T164500
DTSTAMP:20260423T144152
CREATED:20240321T181611Z
LAST-MODIFIED:20240321T181612Z
UID:10002158-1737992700-1737996300@elynevada.net
SUMMARY:Atlas Club
DESCRIPTION:Atlas Club\nAges 8-10
URL:https://elynevada.net/event/atlas-club-2/2025-01-27/
LOCATION:White Pine County Library\, 950 Campton St\, Ely\, NV\, 89301\, United States
CATEGORIES:Community
ATTACH;FMTTYPE=image/jpeg:https://elynevada.net/wp-content/uploads/2024/02/liiiiiiiiiiiiiiiiibbbbbbbbbbbbbbbrrrrrrraaaaaaarrrrrrrrryyyyyyyyyyy.jpg
END:VEVENT
BEGIN:VEVENT
DTSTART;VALUE=DATE:20250128
DTEND;VALUE=DATE:20250129
DTSTAMP:20260423T144152
CREATED:20241205T014252Z
LAST-MODIFIED:20241205T014254Z
UID:10003084-1738022400-1738108799@elynevada.net
SUMMARY:National Plan for Vacation Day
DESCRIPTION:National Plan for Vacation Day\n“National Plan for Vacation Day\, on the last Tuesday in January\, reminds us to plan our vacation at the start of the year for the rest of the year. The early bird gets to pack their bags and travel away to a little fun and relaxation!” \nPlan your White Pine County Road Trip Today! Learn how to observe National Plan for Vacation Day here: https://bit.ly/4gaU8P0 \nDiscover What You Can Do In White Pine HERE!
URL:https://elynevada.net/event/national-plan-for-vacation-day/
LOCATION:NV
CATEGORIES:Arts & Culture,Community,Concert,History,Races,Sports
ATTACH;FMTTYPE=image/jpeg:https://elynevada.net/wp-content/uploads/2024/12/VacationTeaser.jpg
END:VEVENT
BEGIN:VEVENT
DTSTART;TZID=America/Los_Angeles:20250131T170000
DTEND;TZID=America/Los_Angeles:20250131T210000
DTSTAMP:20260423T144152
CREATED:20250107T210247Z
LAST-MODIFIED:20250107T210248Z
UID:10003122-1738342800-1738357200@elynevada.net
SUMMARY:National Big Wig Day Happy Hour
DESCRIPTION:National Big Wig Day Happy Hour\nWear your finest wig and come celebrate Ted’s 80th Birthday while putting the FUN Fundraising. This event raises awareness and money for cancer research\, and for those who need wigs after an illness.
URL:https://elynevada.net/event/national-big-wig-day-happy-hour/
LOCATION:Bristlecone General Store\, 115 S. Baker Ave.\, Baker\, NV\, 89311\, United States
CATEGORIES:Arts & Culture,Community,Fundraiser,Party
ATTACH;FMTTYPE=image/jpeg:https://elynevada.net/wp-content/uploads/2025/01/Big-Wig-Thing-Baker.jpg
ORGANIZER;CN="Bristlecone General Store":MAILTO:stay@stargazernevada.com
END:VEVENT
END:VCALENDAR