BEGIN:VCALENDAR
VERSION:2.0
PRODID:-//Welcome To Ely - ECPv6.15.20//NONSGML v1.0//EN
CALSCALE:GREGORIAN
METHOD:PUBLISH
X-ORIGINAL-URL:https://elynevada.net
X-WR-CALDESC:Events for Welcome To Ely
REFRESH-INTERVAL;VALUE=DURATION:PT1H
X-Robots-Tag:noindex
X-PUBLISHED-TTL:PT1H
BEGIN:VTIMEZONE
TZID:America/Los_Angeles
BEGIN:DAYLIGHT
TZOFFSETFROM:-0800
TZOFFSETTO:-0700
TZNAME:PDT
DTSTART:20240310T100000
END:DAYLIGHT
BEGIN:STANDARD
TZOFFSETFROM:-0700
TZOFFSETTO:-0800
TZNAME:PST
DTSTART:20241103T090000
END:STANDARD
BEGIN:DAYLIGHT
TZOFFSETFROM:-0800
TZOFFSETTO:-0700
TZNAME:PDT
DTSTART:20250309T100000
END:DAYLIGHT
BEGIN:STANDARD
TZOFFSETFROM:-0700
TZOFFSETTO:-0800
TZNAME:PST
DTSTART:20251102T090000
END:STANDARD
BEGIN:DAYLIGHT
TZOFFSETFROM:-0800
TZOFFSETTO:-0700
TZNAME:PDT
DTSTART:20260308T100000
END:DAYLIGHT
BEGIN:STANDARD
TZOFFSETFROM:-0700
TZOFFSETTO:-0800
TZNAME:PST
DTSTART:20261101T090000
END:STANDARD
END:VTIMEZONE
BEGIN:VEVENT
DTSTART;TZID=America/Los_Angeles:20250201T173000
DTEND;TZID=America/Los_Angeles:20250201T220000
DTSTAMP:20260423T131849
CREATED:20241205T030911Z
LAST-MODIFIED:20250114T204210Z
UID:10003123-1738431000-1738447200@elynevada.net
SUMMARY:Elks Annual Crab Crack
DESCRIPTION:Elks Annual Crab Crack\nMake sure you’re not wearing your Saturday best during this year’s Crab Crack on February 1st and March 8th at the Elks Annual Crab Crack\, because attempting to be dainty is a losing strategy at this type of event. For most people\, this is another great gathering at the table with some friends and family. \nThis event serves 500 pounds of crab that is shipped to Ocean Beauty Distributors in Salt Lake from Fisheries in Astoria\, Oregon. Volunteers from the lodge drive to Salt Lake to pick up the frozen crab on Wednesday before the event. The crab is thawed and served at just the right temperature. Along with the crab\, 60 pounds of coleslaw and 50 loaves of garlic bread\, cocktail sauce and 39 pounds of melted butter is also served with dinner. \nYou arrive to your seat\, and plate of crab legs\, a “crab cracker”\, and bib awaits each guest. \n$60 per ticket \n$85 for steak and crab \nYou see many guests holding a conversation while cracking open crab legs\, pulling the meat off with their hands popping it in their mouth and continuing on their journey of disassembling a crab leg for all of the meat it has to offer. Some choose to wear the bib that is provided\, and others try to maintain their fashion trend by opting out on the bib option. \nContact the Ely Elks for more information and tickets at (775) 293 – 2736.
URL:https://elynevada.net/event/elks-annual-crab-crack/2025-02-01/
LOCATION:Ely Elks Lodge\, 694 Campton St.\, Ely\, NV\, 89301\, United States
CATEGORIES:Community
ATTACH;FMTTYPE=image/jpeg:https://elynevada.net/wp-content/uploads/2024/12/Crab-Crack-First-one-2024.jpg
ORGANIZER;CN="Ely Elks Lodge":MAILTO:elyelks1469@att.net
END:VEVENT
BEGIN:VEVENT
DTSTART;TZID=America/Los_Angeles:20250203T153000
DTEND;TZID=America/Los_Angeles:20250203T170000
DTSTAMP:20260423T131849
CREATED:20240321T181441Z
LAST-MODIFIED:20240321T181442Z
UID:10002012-1738596600-1738602000@elynevada.net
SUMMARY:11&Up Club
DESCRIPTION:11&Up Club\n3:45 – 5 PM
URL:https://elynevada.net/event/11up-club-2/2025-02-03/
LOCATION:White Pine County Library\, 950 Campton St\, Ely\, NV\, 89301\, United States
CATEGORIES:Community
ATTACH;FMTTYPE=image/jpeg:https://elynevada.net/wp-content/uploads/2024/02/liiiiiiiiiiiiiiiiibbbbbbbbbbbbbbbrrrrrrraaaaaaarrrrrrrrryyyyyyyyyyy.jpg
END:VEVENT
BEGIN:VEVENT
DTSTART;TZID=America/Los_Angeles:20250204T100000
DTEND;TZID=America/Los_Angeles:20250204T110000
DTSTAMP:20260423T131849
CREATED:20250227T234924Z
LAST-MODIFIED:20250227T234925Z
UID:10003754-1738663200-1738666800@elynevada.net
SUMMARY:Leaping Learners
DESCRIPTION:Leaping Learners\nAges 3 – 4 \nA Traditional Preschool Story Hour \n10am – 11am
URL:https://elynevada.net/event/leaping-learners-3/2025-02-04/
LOCATION:White Pine County Library\, 950 Campton St\, Ely\, NV\, 89301\, United States
CATEGORIES:Community
ATTACH;FMTTYPE=image/jpeg:https://elynevada.net/wp-content/uploads/2024/02/liiiiiiiiiiiiiiiiibbbbbbbbbbbbbbbrrrrrrraaaaaaarrrrrrrrryyyyyyyyyyy.jpg
END:VEVENT
BEGIN:VEVENT
DTSTART;TZID=America/Los_Angeles:20250205T180000
DTEND;TZID=America/Los_Angeles:20250205T210000
DTSTAMP:20260423T131849
CREATED:20241219T192749Z
LAST-MODIFIED:20241219T192750Z
UID:10003108-1738778400-1738789200@elynevada.net
SUMMARY:Convening of Arts Organizations & Businesses
DESCRIPTION:Convening of Arts Organizations & Businesses\nThis year\, we will be hosting our first convening of arts enthusiasts\, organizations\, and businesses. Get together with several like-minded groups/community members who adore White Pine County’s arts assets. Share who you are\, what you do\, and discover what’s to come in White Pine’s arts. \n6:00PM at the Bristlecone Convention Center \nFood and Drinks Will Be Provided \nWe’ll see you here for the Convening of Arts Organizations and Businesses!
URL:https://elynevada.net/event/convening-of-arts-organizations-businesses/
LOCATION:Bristlecone Convention Center\, 150 Sixth Street\, Ely\, NV\, 89301\, United States
CATEGORIES:Arts & Culture,Community,Conference
ATTACH;FMTTYPE=image/jpeg:https://elynevada.net/wp-content/uploads/2024/12/Convening-of-Arts-Organizations-and-Businesses-2025-Facebook-Cover.jpg
ORGANIZER;CN="White PIne County Tourism and Recreation":MAILTO:nicole.collard@elynevada.net
END:VEVENT
BEGIN:VEVENT
DTSTART;TZID=America/Los_Angeles:20250206T120000
DTEND;TZID=America/Los_Angeles:20250206T130000
DTSTAMP:20260423T131849
CREATED:20250227T235930Z
LAST-MODIFIED:20250227T235931Z
UID:10003824-1738843200-1738846800@elynevada.net
SUMMARY:All Abilities Club
DESCRIPTION:All Abilities Club\nAdults with special needs welcome the community to join them in a club where everyone is welcome \n1st Thursday of Every Month \n12pm – 1pm
URL:https://elynevada.net/event/all-abilities-club/2025-02-06/
LOCATION:White Pine County Library\, 950 Campton St\, Ely\, NV\, 89301\, United States
CATEGORIES:Community
ATTACH;FMTTYPE=image/jpeg:https://elynevada.net/wp-content/uploads/2024/02/liiiiiiiiiiiiiiiiibbbbbbbbbbbbbbbrrrrrrraaaaaaarrrrrrrrryyyyyyyyyyy.jpg
END:VEVENT
BEGIN:VEVENT
DTSTART;TZID=America/Los_Angeles:20250206T180000
DTEND;TZID=America/Los_Angeles:20250206T203000
DTSTAMP:20260423T131849
CREATED:20240405T001511Z
LAST-MODIFIED:20240405T001511Z
UID:10002557-1738864800-1738873800@elynevada.net
SUMMARY:Ely Elks Lodge Bingo
DESCRIPTION:Ely Elks Lodge Bingo\nBingo every first Thursday at the Ely Elks Lodge. Hot dogs and Chili are sold. Great time\, great people\, and BINGO!!!
URL:https://elynevada.net/event/ely-elks-lodge-bingo-2/2025-02-06/
LOCATION:Ely Elks Lodge\, 694 Campton St.\, Ely\, NV\, 89301\, United States
CATEGORIES:Community,Sports
ATTACH;FMTTYPE=image/png:https://elynevada.net/wp-content/uploads/2023/01/Ely-Elks-Lodge-Bingo.png
ORGANIZER;CN="Ely Elks Lodge":MAILTO:elyelks1469@att.net
END:VEVENT
BEGIN:VEVENT
DTSTART;TZID=America/Los_Angeles:20250210T153000
DTEND;TZID=America/Los_Angeles:20250210T170000
DTSTAMP:20260423T131849
CREATED:20240321T181441Z
LAST-MODIFIED:20240321T181442Z
UID:10002013-1739201400-1739206800@elynevada.net
SUMMARY:11&Up Club
DESCRIPTION:11&Up Club\n3:45 – 5 PM
URL:https://elynevada.net/event/11up-club-2/2025-02-10/
LOCATION:White Pine County Library\, 950 Campton St\, Ely\, NV\, 89301\, United States
CATEGORIES:Community
ATTACH;FMTTYPE=image/jpeg:https://elynevada.net/wp-content/uploads/2024/02/liiiiiiiiiiiiiiiiibbbbbbbbbbbbbbbrrrrrrraaaaaaarrrrrrrrryyyyyyyyyyy.jpg
END:VEVENT
BEGIN:VEVENT
DTSTART;TZID=America/Los_Angeles:20250211T100000
DTEND;TZID=America/Los_Angeles:20250211T110000
DTSTAMP:20260423T131849
CREATED:20250227T234924Z
LAST-MODIFIED:20250227T234925Z
UID:10003755-1739268000-1739271600@elynevada.net
SUMMARY:Leaping Learners
DESCRIPTION:Leaping Learners\nAges 3 – 4 \nA Traditional Preschool Story Hour \n10am – 11am
URL:https://elynevada.net/event/leaping-learners-3/2025-02-11/
LOCATION:White Pine County Library\, 950 Campton St\, Ely\, NV\, 89301\, United States
CATEGORIES:Community
ATTACH;FMTTYPE=image/jpeg:https://elynevada.net/wp-content/uploads/2024/02/liiiiiiiiiiiiiiiiibbbbbbbbbbbbbbbrrrrrrraaaaaaarrrrrrrrryyyyyyyyyyy.jpg
END:VEVENT
BEGIN:VEVENT
DTSTART;TZID=America/Los_Angeles:20250218T100000
DTEND;TZID=America/Los_Angeles:20250218T110000
DTSTAMP:20260423T131849
CREATED:20250227T234924Z
LAST-MODIFIED:20250227T234925Z
UID:10003756-1739872800-1739876400@elynevada.net
SUMMARY:Leaping Learners
DESCRIPTION:Leaping Learners\nAges 3 – 4 \nA Traditional Preschool Story Hour \n10am – 11am
URL:https://elynevada.net/event/leaping-learners-3/2025-02-18/
LOCATION:White Pine County Library\, 950 Campton St\, Ely\, NV\, 89301\, United States
CATEGORIES:Community
ATTACH;FMTTYPE=image/jpeg:https://elynevada.net/wp-content/uploads/2024/02/liiiiiiiiiiiiiiiiibbbbbbbbbbbbbbbrrrrrrraaaaaaarrrrrrrrryyyyyyyyyyy.jpg
END:VEVENT
BEGIN:VEVENT
DTSTART;TZID=America/Los_Angeles:20250222T080000
DTEND;TZID=America/Los_Angeles:20250222T150000
DTSTAMP:20260423T131849
CREATED:20241205T022124Z
LAST-MODIFIED:20250123T000859Z
UID:10003085-1740211200-1740236400@elynevada.net
SUMMARY:Rotary Ice Fishing Derby
DESCRIPTION:Rotary Ice Fishing Derby – 2025\nThe ice fishing event of the year is right here in White Pine on February 22nd! Join the community and others for the 2025 Rotary Club of Ely Ice Fishing Derby at Comins Lake. \nEntry is $45. The VIP entry is $20 extra\, which enters you in a second drawing if you catch a tagged fish. \nRotary Ice Fishing Derby Pre-Registration will be the day before from 4:30pm – 7:30pm at the Bristlecone Convention Center. \nThe Registration Form can be found HERE! \nRules for this year can be found HERE! \nFishing begins at Comins Lake at 8:00 a.m. to 3:00 p.m. on February the 22nd. \nWhen snow has fallen here in the high desert\, Ely’s Winter Season is in full swing. Our backcountry terrain has already become legendary to snowmobilers and skiers\, but did you know that White Pine County is the southernmost point in the state for consistent ice fishing? It also happens to be home to some trout and pike populations. If you’ve never given ice fishing a try\, there’s no better time to get outside and drop a line. \nThere’s Illipah Reservoir\, which covers up to 70 surface acres with a maximum depth of 50 feet. Illipah actually receives the most ice in the area\, even in drier winters. \nOf course\, there’s Comins where this year’s Ice Fishing Derby takes place. At capacity\, it covers 401 surface acres\, has a maximum depth of 14 feet\, and an average depth of about 8 feet. \nDiscover More Ice Fishing Opportunities in White Pine County HERE!
URL:https://elynevada.net/event/rotary-ice-fishing-derby/
LOCATION:Comins Lake\, Lake in Nevada\, Ely\, NV\, United States
CATEGORIES:Community,Sports
ATTACH;FMTTYPE=image/jpeg:https://elynevada.net/wp-content/uploads/2024/12/Rotary-Club-Ice-Fishing-Derby-2025.jpg
ORGANIZER;CN="Ely Rotary Club":MAILTO:elyrotary@gmail.com
END:VEVENT
BEGIN:VEVENT
DTSTART;TZID=America/Los_Angeles:20250222T173000
DTEND;TZID=America/Los_Angeles:20250222T200000
DTSTAMP:20260423T131849
CREATED:20250210T232825Z
LAST-MODIFIED:20250210T232826Z
UID:10003430-1740245400-1740254400@elynevada.net
SUMMARY:MOVIE NIGHT: Wicked -- Sing-Along Version
DESCRIPTION:MOVIE NIGHT: Wicked — Sing-Along Version\nMovie night at the Bristlecone General Store! \nSAT. FEB 22nd. 5:30pm. ‘WICKED’ MOVIE NIGHT Sing-Along Version \nWear pink or green! Movie: Free. UNLIMITED Popcorn $5. \nThis movie is thrillifying and scandalacious! Show your braverism and sing-along or just rejoicify and watch the hoi polloi on the big screen. Everyone deserves a chance to fly!
URL:https://elynevada.net/event/movie-night-wicked-sing-along-version/
LOCATION:Bristlecone General Store\, 115 S. Baker Ave.\, Baker\, NV\, 89311\, United States
CATEGORIES:Arts & Culture,Community
ATTACH;FMTTYPE=image/jpeg:https://elynevada.net/wp-content/uploads/2025/02/Wicked-Movie-Night-in-Baker.jpg
ORGANIZER;CN="Bristlecone General Store":MAILTO:stay@stargazernevada.com
END:VEVENT
BEGIN:VEVENT
DTSTART;TZID=America/Los_Angeles:20250225T100000
DTEND;TZID=America/Los_Angeles:20250225T110000
DTSTAMP:20260423T131849
CREATED:20250227T234924Z
LAST-MODIFIED:20250227T234925Z
UID:10003757-1740477600-1740481200@elynevada.net
SUMMARY:Leaping Learners
DESCRIPTION:Leaping Learners\nAges 3 – 4 \nA Traditional Preschool Story Hour \n10am – 11am
URL:https://elynevada.net/event/leaping-learners-3/2025-02-25/
LOCATION:White Pine County Library\, 950 Campton St\, Ely\, NV\, 89301\, United States
CATEGORIES:Community
ATTACH;FMTTYPE=image/jpeg:https://elynevada.net/wp-content/uploads/2024/02/liiiiiiiiiiiiiiiiibbbbbbbbbbbbbbbrrrrrrraaaaaaarrrrrrrrryyyyyyyyyyy.jpg
END:VEVENT
BEGIN:VEVENT
DTSTART;TZID=America/Los_Angeles:20250226T180000
DTEND;TZID=America/Los_Angeles:20250226T210000
DTSTAMP:20260423T131849
CREATED:20240130T070358Z
LAST-MODIFIED:20241219T185049Z
UID:10000711-1740592800-1740603600@elynevada.net
SUMMARY:Annual Convening of Outdoor Organizations & Businesses
DESCRIPTION:Annual Convening of Outdoor Organizations & Businesses\nWe are hosting a meeting for all outdoor enthusiasts\, organizations\, and businesses. Get together with several like-minded groups/community members who enjoy White Pine County’s open air. Share who you are\, what you do\, and discover what’s to come in White Pine outdoor recreation.\n\n6:00PM at the Bristlecone Convention Center\n\nFood and Drinks Will Be Provided\n\nWe’ll see you here for our Annual Convening of Outdoor Organizations & Businesses!
URL:https://elynevada.net/event/annual-convening-of-outdoor-organizations-businesses/
LOCATION:Bristlecone Convention Center\, 150 Sixth Street\, Ely\, NV\, 89301\, United States
CATEGORIES:Community,Conference
ATTACH;FMTTYPE=image/jpeg:https://elynevada.net/wp-content/uploads/2024/01/Annual-Convening-of-Outdoor-Organizations-and-Businesses-2025-Facebook-Cover.jpg
ORGANIZER;CN="White PIne County Tourism and Recreation":MAILTO:nicole.collard@elynevada.net
END:VEVENT
END:VCALENDAR