BEGIN:VCALENDAR
VERSION:2.0
PRODID:-//Welcome To Ely - ECPv6.15.20//NONSGML v1.0//EN
CALSCALE:GREGORIAN
METHOD:PUBLISH
X-WR-CALNAME:Welcome To Ely
X-ORIGINAL-URL:https://elynevada.net
X-WR-CALDESC:Events for Welcome To Ely
REFRESH-INTERVAL;VALUE=DURATION:PT1H
X-Robots-Tag:noindex
X-PUBLISHED-TTL:PT1H
BEGIN:VTIMEZONE
TZID:America/Los_Angeles
BEGIN:DAYLIGHT
TZOFFSETFROM:-0800
TZOFFSETTO:-0700
TZNAME:PDT
DTSTART:20270314T100000
END:DAYLIGHT
BEGIN:STANDARD
TZOFFSETFROM:-0700
TZOFFSETTO:-0800
TZNAME:PST
DTSTART:20271107T090000
END:STANDARD
BEGIN:DAYLIGHT
TZOFFSETFROM:-0800
TZOFFSETTO:-0700
TZNAME:PDT
DTSTART:20280312T100000
END:DAYLIGHT
BEGIN:STANDARD
TZOFFSETFROM:-0700
TZOFFSETTO:-0800
TZNAME:PST
DTSTART:20281105T090000
END:STANDARD
BEGIN:DAYLIGHT
TZOFFSETFROM:-0800
TZOFFSETTO:-0700
TZNAME:PDT
DTSTART:20290311T100000
END:DAYLIGHT
BEGIN:STANDARD
TZOFFSETFROM:-0700
TZOFFSETTO:-0800
TZNAME:PST
DTSTART:20291104T090000
END:STANDARD
END:VTIMEZONE
BEGIN:VEVENT
DTSTART;TZID=America/Los_Angeles:20280601T170000
DTEND;TZID=America/Los_Angeles:20280601T180000
DTSTAMP:20260424T084336
CREATED:20260127T211512Z
LAST-MODIFIED:20260127T211513Z
UID:10004666-1843491600-1843495200@elynevada.net
SUMMARY:BeFitEly Step & Sculpt
DESCRIPTION:BeFitEly Step & Sculpt\nModern cardio step aerobics meets strength sculpting \nGet your heart pumping with dynamic step aerobics while building lean muscle with targeted sculpting exercises using weights. This high-energy class combines the best of both worlds for a complete workout experience. \n\nCardio step aerobics\nSculpting with weights\nHigh-energy music\nAll fitness levels welcome\n\n  \nNo Sign Up – Just Come to Class. Learn more at BeFitEly.com
URL:https://elynevada.net/event/befitely-step-sculpt/2028-06-01/
LOCATION:740 Autlman Street\, 740 Aultman Street\, Ely\, NV\, 89301\, United States
CATEGORIES:Community,Sports
ATTACH;FMTTYPE=image/jpeg:https://elynevada.net/wp-content/uploads/2026/01/BeFitEly-Step-Sculpt.jpg
ORGANIZER;CN="BeFitEly":MAILTO:info@allaboardely.com
END:VEVENT
BEGIN:VEVENT
DTSTART;TZID=America/Los_Angeles:20280601T180000
DTEND;TZID=America/Los_Angeles:20280601T203000
DTSTAMP:20260424T084336
CREATED:20240405T001511Z
LAST-MODIFIED:20240405T001511Z
UID:10002648-1843495200-1843504200@elynevada.net
SUMMARY:Ely Elks Lodge Bingo
DESCRIPTION:Ely Elks Lodge Bingo\nBingo every first Thursday at the Ely Elks Lodge. Hot dogs and Chili are sold. Great time\, great people\, and BINGO!!!
URL:https://elynevada.net/event/ely-elks-lodge-bingo-2/2028-06-01/
LOCATION:Ely Elks Lodge\, 694 Campton St.\, Ely\, NV\, 89301\, United States
CATEGORIES:Community,Sports
ATTACH;FMTTYPE=image/png:https://elynevada.net/wp-content/uploads/2023/01/Ely-Elks-Lodge-Bingo.png
ORGANIZER;CN="Ely Elks Lodge":MAILTO:elyelks1469@att.net
END:VEVENT
BEGIN:VEVENT
DTSTART;TZID=America/Los_Angeles:20280606T170000
DTEND;TZID=America/Los_Angeles:20280606T180000
DTSTAMP:20260424T084336
CREATED:20260127T211512Z
LAST-MODIFIED:20260127T211513Z
UID:10004667-1843923600-1843927200@elynevada.net
SUMMARY:BeFitEly Step & Sculpt
DESCRIPTION:BeFitEly Step & Sculpt\nModern cardio step aerobics meets strength sculpting \nGet your heart pumping with dynamic step aerobics while building lean muscle with targeted sculpting exercises using weights. This high-energy class combines the best of both worlds for a complete workout experience. \n\nCardio step aerobics\nSculpting with weights\nHigh-energy music\nAll fitness levels welcome\n\n  \nNo Sign Up – Just Come to Class. Learn more at BeFitEly.com
URL:https://elynevada.net/event/befitely-step-sculpt/2028-06-06/
LOCATION:740 Autlman Street\, 740 Aultman Street\, Ely\, NV\, 89301\, United States
CATEGORIES:Community,Sports
ATTACH;FMTTYPE=image/jpeg:https://elynevada.net/wp-content/uploads/2026/01/BeFitEly-Step-Sculpt.jpg
ORGANIZER;CN="BeFitEly":MAILTO:info@allaboardely.com
END:VEVENT
BEGIN:VEVENT
DTSTART;TZID=America/Los_Angeles:20280608T170000
DTEND;TZID=America/Los_Angeles:20280608T180000
DTSTAMP:20260424T084336
CREATED:20260127T211512Z
LAST-MODIFIED:20260127T211513Z
UID:10004668-1844096400-1844100000@elynevada.net
SUMMARY:BeFitEly Step & Sculpt
DESCRIPTION:BeFitEly Step & Sculpt\nModern cardio step aerobics meets strength sculpting \nGet your heart pumping with dynamic step aerobics while building lean muscle with targeted sculpting exercises using weights. This high-energy class combines the best of both worlds for a complete workout experience. \n\nCardio step aerobics\nSculpting with weights\nHigh-energy music\nAll fitness levels welcome\n\n  \nNo Sign Up – Just Come to Class. Learn more at BeFitEly.com
URL:https://elynevada.net/event/befitely-step-sculpt/2028-06-08/
LOCATION:740 Autlman Street\, 740 Aultman Street\, Ely\, NV\, 89301\, United States
CATEGORIES:Community,Sports
ATTACH;FMTTYPE=image/jpeg:https://elynevada.net/wp-content/uploads/2026/01/BeFitEly-Step-Sculpt.jpg
ORGANIZER;CN="BeFitEly":MAILTO:info@allaboardely.com
END:VEVENT
BEGIN:VEVENT
DTSTART;TZID=America/Los_Angeles:20280613T170000
DTEND;TZID=America/Los_Angeles:20280613T180000
DTSTAMP:20260424T084336
CREATED:20260127T211512Z
LAST-MODIFIED:20260127T211513Z
UID:10004669-1844528400-1844532000@elynevada.net
SUMMARY:BeFitEly Step & Sculpt
DESCRIPTION:BeFitEly Step & Sculpt\nModern cardio step aerobics meets strength sculpting \nGet your heart pumping with dynamic step aerobics while building lean muscle with targeted sculpting exercises using weights. This high-energy class combines the best of both worlds for a complete workout experience. \n\nCardio step aerobics\nSculpting with weights\nHigh-energy music\nAll fitness levels welcome\n\n  \nNo Sign Up – Just Come to Class. Learn more at BeFitEly.com
URL:https://elynevada.net/event/befitely-step-sculpt/2028-06-13/
LOCATION:740 Autlman Street\, 740 Aultman Street\, Ely\, NV\, 89301\, United States
CATEGORIES:Community,Sports
ATTACH;FMTTYPE=image/jpeg:https://elynevada.net/wp-content/uploads/2026/01/BeFitEly-Step-Sculpt.jpg
ORGANIZER;CN="BeFitEly":MAILTO:info@allaboardely.com
END:VEVENT
BEGIN:VEVENT
DTSTART;TZID=America/Los_Angeles:20280615T170000
DTEND;TZID=America/Los_Angeles:20280615T180000
DTSTAMP:20260424T084336
CREATED:20260127T211512Z
LAST-MODIFIED:20260127T211513Z
UID:10004670-1844701200-1844704800@elynevada.net
SUMMARY:BeFitEly Step & Sculpt
DESCRIPTION:BeFitEly Step & Sculpt\nModern cardio step aerobics meets strength sculpting \nGet your heart pumping with dynamic step aerobics while building lean muscle with targeted sculpting exercises using weights. This high-energy class combines the best of both worlds for a complete workout experience. \n\nCardio step aerobics\nSculpting with weights\nHigh-energy music\nAll fitness levels welcome\n\n  \nNo Sign Up – Just Come to Class. Learn more at BeFitEly.com
URL:https://elynevada.net/event/befitely-step-sculpt/2028-06-15/
LOCATION:740 Autlman Street\, 740 Aultman Street\, Ely\, NV\, 89301\, United States
CATEGORIES:Community,Sports
ATTACH;FMTTYPE=image/jpeg:https://elynevada.net/wp-content/uploads/2026/01/BeFitEly-Step-Sculpt.jpg
ORGANIZER;CN="BeFitEly":MAILTO:info@allaboardely.com
END:VEVENT
BEGIN:VEVENT
DTSTART;TZID=America/Los_Angeles:20280620T170000
DTEND;TZID=America/Los_Angeles:20280620T180000
DTSTAMP:20260424T084336
CREATED:20260127T211512Z
LAST-MODIFIED:20260127T211513Z
UID:10004671-1845133200-1845136800@elynevada.net
SUMMARY:BeFitEly Step & Sculpt
DESCRIPTION:BeFitEly Step & Sculpt\nModern cardio step aerobics meets strength sculpting \nGet your heart pumping with dynamic step aerobics while building lean muscle with targeted sculpting exercises using weights. This high-energy class combines the best of both worlds for a complete workout experience. \n\nCardio step aerobics\nSculpting with weights\nHigh-energy music\nAll fitness levels welcome\n\n  \nNo Sign Up – Just Come to Class. Learn more at BeFitEly.com
URL:https://elynevada.net/event/befitely-step-sculpt/2028-06-20/
LOCATION:740 Autlman Street\, 740 Aultman Street\, Ely\, NV\, 89301\, United States
CATEGORIES:Community,Sports
ATTACH;FMTTYPE=image/jpeg:https://elynevada.net/wp-content/uploads/2026/01/BeFitEly-Step-Sculpt.jpg
ORGANIZER;CN="BeFitEly":MAILTO:info@allaboardely.com
END:VEVENT
BEGIN:VEVENT
DTSTART;TZID=America/Los_Angeles:20280622T170000
DTEND;TZID=America/Los_Angeles:20280622T180000
DTSTAMP:20260424T084336
CREATED:20260127T211512Z
LAST-MODIFIED:20260127T211513Z
UID:10004672-1845306000-1845309600@elynevada.net
SUMMARY:BeFitEly Step & Sculpt
DESCRIPTION:BeFitEly Step & Sculpt\nModern cardio step aerobics meets strength sculpting \nGet your heart pumping with dynamic step aerobics while building lean muscle with targeted sculpting exercises using weights. This high-energy class combines the best of both worlds for a complete workout experience. \n\nCardio step aerobics\nSculpting with weights\nHigh-energy music\nAll fitness levels welcome\n\n  \nNo Sign Up – Just Come to Class. Learn more at BeFitEly.com
URL:https://elynevada.net/event/befitely-step-sculpt/2028-06-22/
LOCATION:740 Autlman Street\, 740 Aultman Street\, Ely\, NV\, 89301\, United States
CATEGORIES:Community,Sports
ATTACH;FMTTYPE=image/jpeg:https://elynevada.net/wp-content/uploads/2026/01/BeFitEly-Step-Sculpt.jpg
ORGANIZER;CN="BeFitEly":MAILTO:info@allaboardely.com
END:VEVENT
BEGIN:VEVENT
DTSTART;TZID=America/Los_Angeles:20280627T170000
DTEND;TZID=America/Los_Angeles:20280627T180000
DTSTAMP:20260424T084336
CREATED:20260127T211512Z
LAST-MODIFIED:20260127T211513Z
UID:10004673-1845738000-1845741600@elynevada.net
SUMMARY:BeFitEly Step & Sculpt
DESCRIPTION:BeFitEly Step & Sculpt\nModern cardio step aerobics meets strength sculpting \nGet your heart pumping with dynamic step aerobics while building lean muscle with targeted sculpting exercises using weights. This high-energy class combines the best of both worlds for a complete workout experience. \n\nCardio step aerobics\nSculpting with weights\nHigh-energy music\nAll fitness levels welcome\n\n  \nNo Sign Up – Just Come to Class. Learn more at BeFitEly.com
URL:https://elynevada.net/event/befitely-step-sculpt/2028-06-27/
LOCATION:740 Autlman Street\, 740 Aultman Street\, Ely\, NV\, 89301\, United States
CATEGORIES:Community,Sports
ATTACH;FMTTYPE=image/jpeg:https://elynevada.net/wp-content/uploads/2026/01/BeFitEly-Step-Sculpt.jpg
ORGANIZER;CN="BeFitEly":MAILTO:info@allaboardely.com
END:VEVENT
BEGIN:VEVENT
DTSTART;TZID=America/Los_Angeles:20280629T170000
DTEND;TZID=America/Los_Angeles:20280629T180000
DTSTAMP:20260424T084336
CREATED:20260127T211512Z
LAST-MODIFIED:20260127T211513Z
UID:10004674-1845910800-1845914400@elynevada.net
SUMMARY:BeFitEly Step & Sculpt
DESCRIPTION:BeFitEly Step & Sculpt\nModern cardio step aerobics meets strength sculpting \nGet your heart pumping with dynamic step aerobics while building lean muscle with targeted sculpting exercises using weights. This high-energy class combines the best of both worlds for a complete workout experience. \n\nCardio step aerobics\nSculpting with weights\nHigh-energy music\nAll fitness levels welcome\n\n  \nNo Sign Up – Just Come to Class. Learn more at BeFitEly.com
URL:https://elynevada.net/event/befitely-step-sculpt/2028-06-29/
LOCATION:740 Autlman Street\, 740 Aultman Street\, Ely\, NV\, 89301\, United States
CATEGORIES:Community,Sports
ATTACH;FMTTYPE=image/jpeg:https://elynevada.net/wp-content/uploads/2026/01/BeFitEly-Step-Sculpt.jpg
ORGANIZER;CN="BeFitEly":MAILTO:info@allaboardely.com
END:VEVENT
END:VCALENDAR