BEGIN:VCALENDAR
VERSION:2.0
PRODID:-//Welcome To Ely - ECPv6.15.20//NONSGML v1.0//EN
CALSCALE:GREGORIAN
METHOD:PUBLISH
X-ORIGINAL-URL:https://elynevada.net
X-WR-CALDESC:Events for Welcome To Ely
REFRESH-INTERVAL;VALUE=DURATION:PT1H
X-Robots-Tag:noindex
X-PUBLISHED-TTL:PT1H
BEGIN:VTIMEZONE
TZID:America/Los_Angeles
BEGIN:DAYLIGHT
TZOFFSETFROM:-0800
TZOFFSETTO:-0700
TZNAME:PDT
DTSTART:20270314T100000
END:DAYLIGHT
BEGIN:STANDARD
TZOFFSETFROM:-0700
TZOFFSETTO:-0800
TZNAME:PST
DTSTART:20271107T090000
END:STANDARD
BEGIN:DAYLIGHT
TZOFFSETFROM:-0800
TZOFFSETTO:-0700
TZNAME:PDT
DTSTART:20280312T100000
END:DAYLIGHT
BEGIN:STANDARD
TZOFFSETFROM:-0700
TZOFFSETTO:-0800
TZNAME:PST
DTSTART:20281105T090000
END:STANDARD
BEGIN:DAYLIGHT
TZOFFSETFROM:-0800
TZOFFSETTO:-0700
TZNAME:PDT
DTSTART:20290311T100000
END:DAYLIGHT
BEGIN:STANDARD
TZOFFSETFROM:-0700
TZOFFSETTO:-0800
TZNAME:PST
DTSTART:20291104T090000
END:STANDARD
END:VTIMEZONE
BEGIN:VEVENT
DTSTART;TZID=America/Los_Angeles:20280905T170000
DTEND;TZID=America/Los_Angeles:20280905T180000
DTSTAMP:20260424T142657
CREATED:20260127T211512Z
LAST-MODIFIED:20260127T211513Z
UID:10004693-1851786000-1851789600@elynevada.net
SUMMARY:BeFitEly Step & Sculpt
DESCRIPTION:BeFitEly Step & Sculpt\nModern cardio step aerobics meets strength sculpting \nGet your heart pumping with dynamic step aerobics while building lean muscle with targeted sculpting exercises using weights. This high-energy class combines the best of both worlds for a complete workout experience. \n\nCardio step aerobics\nSculpting with weights\nHigh-energy music\nAll fitness levels welcome\n\n  \nNo Sign Up – Just Come to Class. Learn more at BeFitEly.com
URL:https://elynevada.net/event/befitely-step-sculpt/2028-09-05/
LOCATION:740 Autlman Street\, 740 Aultman Street\, Ely\, NV\, 89301\, United States
CATEGORIES:Community,Sports
ATTACH;FMTTYPE=image/jpeg:https://elynevada.net/wp-content/uploads/2026/01/BeFitEly-Step-Sculpt.jpg
ORGANIZER;CN="BeFitEly":MAILTO:info@allaboardely.com
END:VEVENT
BEGIN:VEVENT
DTSTART;TZID=America/Los_Angeles:20280907T170000
DTEND;TZID=America/Los_Angeles:20280907T180000
DTSTAMP:20260424T142657
CREATED:20260127T211512Z
LAST-MODIFIED:20260127T211513Z
UID:10004694-1851958800-1851962400@elynevada.net
SUMMARY:BeFitEly Step & Sculpt
DESCRIPTION:BeFitEly Step & Sculpt\nModern cardio step aerobics meets strength sculpting \nGet your heart pumping with dynamic step aerobics while building lean muscle with targeted sculpting exercises using weights. This high-energy class combines the best of both worlds for a complete workout experience. \n\nCardio step aerobics\nSculpting with weights\nHigh-energy music\nAll fitness levels welcome\n\n  \nNo Sign Up – Just Come to Class. Learn more at BeFitEly.com
URL:https://elynevada.net/event/befitely-step-sculpt/2028-09-07/
LOCATION:740 Autlman Street\, 740 Aultman Street\, Ely\, NV\, 89301\, United States
CATEGORIES:Community,Sports
ATTACH;FMTTYPE=image/jpeg:https://elynevada.net/wp-content/uploads/2026/01/BeFitEly-Step-Sculpt.jpg
ORGANIZER;CN="BeFitEly":MAILTO:info@allaboardely.com
END:VEVENT
BEGIN:VEVENT
DTSTART;TZID=America/Los_Angeles:20280907T180000
DTEND;TZID=America/Los_Angeles:20280907T203000
DTSTAMP:20260424T142657
CREATED:20240405T001511Z
LAST-MODIFIED:20240405T001511Z
UID:10002650-1851962400-1851971400@elynevada.net
SUMMARY:Ely Elks Lodge Bingo
DESCRIPTION:Ely Elks Lodge Bingo\nBingo every first Thursday at the Ely Elks Lodge. Hot dogs and Chili are sold. Great time\, great people\, and BINGO!!!
URL:https://elynevada.net/event/ely-elks-lodge-bingo-2/2028-09-07/
LOCATION:Ely Elks Lodge\, 694 Campton St.\, Ely\, NV\, 89301\, United States
CATEGORIES:Community,Sports
ATTACH;FMTTYPE=image/png:https://elynevada.net/wp-content/uploads/2023/01/Ely-Elks-Lodge-Bingo.png
ORGANIZER;CN="Ely Elks Lodge":MAILTO:elyelks1469@att.net
END:VEVENT
BEGIN:VEVENT
DTSTART;TZID=America/Los_Angeles:20280912T170000
DTEND;TZID=America/Los_Angeles:20280912T180000
DTSTAMP:20260424T142657
CREATED:20260127T211512Z
LAST-MODIFIED:20260127T211513Z
UID:10004695-1852390800-1852394400@elynevada.net
SUMMARY:BeFitEly Step & Sculpt
DESCRIPTION:BeFitEly Step & Sculpt\nModern cardio step aerobics meets strength sculpting \nGet your heart pumping with dynamic step aerobics while building lean muscle with targeted sculpting exercises using weights. This high-energy class combines the best of both worlds for a complete workout experience. \n\nCardio step aerobics\nSculpting with weights\nHigh-energy music\nAll fitness levels welcome\n\n  \nNo Sign Up – Just Come to Class. Learn more at BeFitEly.com
URL:https://elynevada.net/event/befitely-step-sculpt/2028-09-12/
LOCATION:740 Autlman Street\, 740 Aultman Street\, Ely\, NV\, 89301\, United States
CATEGORIES:Community,Sports
ATTACH;FMTTYPE=image/jpeg:https://elynevada.net/wp-content/uploads/2026/01/BeFitEly-Step-Sculpt.jpg
ORGANIZER;CN="BeFitEly":MAILTO:info@allaboardely.com
END:VEVENT
BEGIN:VEVENT
DTSTART;TZID=America/Los_Angeles:20280914T170000
DTEND;TZID=America/Los_Angeles:20280914T180000
DTSTAMP:20260424T142657
CREATED:20260127T211512Z
LAST-MODIFIED:20260127T211513Z
UID:10004696-1852563600-1852567200@elynevada.net
SUMMARY:BeFitEly Step & Sculpt
DESCRIPTION:BeFitEly Step & Sculpt\nModern cardio step aerobics meets strength sculpting \nGet your heart pumping with dynamic step aerobics while building lean muscle with targeted sculpting exercises using weights. This high-energy class combines the best of both worlds for a complete workout experience. \n\nCardio step aerobics\nSculpting with weights\nHigh-energy music\nAll fitness levels welcome\n\n  \nNo Sign Up – Just Come to Class. Learn more at BeFitEly.com
URL:https://elynevada.net/event/befitely-step-sculpt/2028-09-14/
LOCATION:740 Autlman Street\, 740 Aultman Street\, Ely\, NV\, 89301\, United States
CATEGORIES:Community,Sports
ATTACH;FMTTYPE=image/jpeg:https://elynevada.net/wp-content/uploads/2026/01/BeFitEly-Step-Sculpt.jpg
ORGANIZER;CN="BeFitEly":MAILTO:info@allaboardely.com
END:VEVENT
BEGIN:VEVENT
DTSTART;TZID=America/Los_Angeles:20280919T170000
DTEND;TZID=America/Los_Angeles:20280919T180000
DTSTAMP:20260424T142657
CREATED:20260127T211512Z
LAST-MODIFIED:20260127T211513Z
UID:10004697-1852995600-1852999200@elynevada.net
SUMMARY:BeFitEly Step & Sculpt
DESCRIPTION:BeFitEly Step & Sculpt\nModern cardio step aerobics meets strength sculpting \nGet your heart pumping with dynamic step aerobics while building lean muscle with targeted sculpting exercises using weights. This high-energy class combines the best of both worlds for a complete workout experience. \n\nCardio step aerobics\nSculpting with weights\nHigh-energy music\nAll fitness levels welcome\n\n  \nNo Sign Up – Just Come to Class. Learn more at BeFitEly.com
URL:https://elynevada.net/event/befitely-step-sculpt/2028-09-19/
LOCATION:740 Autlman Street\, 740 Aultman Street\, Ely\, NV\, 89301\, United States
CATEGORIES:Community,Sports
ATTACH;FMTTYPE=image/jpeg:https://elynevada.net/wp-content/uploads/2026/01/BeFitEly-Step-Sculpt.jpg
ORGANIZER;CN="BeFitEly":MAILTO:info@allaboardely.com
END:VEVENT
BEGIN:VEVENT
DTSTART;TZID=America/Los_Angeles:20280921T170000
DTEND;TZID=America/Los_Angeles:20280921T180000
DTSTAMP:20260424T142657
CREATED:20260127T211512Z
LAST-MODIFIED:20260127T211513Z
UID:10004698-1853168400-1853172000@elynevada.net
SUMMARY:BeFitEly Step & Sculpt
DESCRIPTION:BeFitEly Step & Sculpt\nModern cardio step aerobics meets strength sculpting \nGet your heart pumping with dynamic step aerobics while building lean muscle with targeted sculpting exercises using weights. This high-energy class combines the best of both worlds for a complete workout experience. \n\nCardio step aerobics\nSculpting with weights\nHigh-energy music\nAll fitness levels welcome\n\n  \nNo Sign Up – Just Come to Class. Learn more at BeFitEly.com
URL:https://elynevada.net/event/befitely-step-sculpt/2028-09-21/
LOCATION:740 Autlman Street\, 740 Aultman Street\, Ely\, NV\, 89301\, United States
CATEGORIES:Community,Sports
ATTACH;FMTTYPE=image/jpeg:https://elynevada.net/wp-content/uploads/2026/01/BeFitEly-Step-Sculpt.jpg
ORGANIZER;CN="BeFitEly":MAILTO:info@allaboardely.com
END:VEVENT
BEGIN:VEVENT
DTSTART;TZID=America/Los_Angeles:20280926T170000
DTEND;TZID=America/Los_Angeles:20280926T180000
DTSTAMP:20260424T142657
CREATED:20260127T211512Z
LAST-MODIFIED:20260127T211513Z
UID:10004699-1853600400-1853604000@elynevada.net
SUMMARY:BeFitEly Step & Sculpt
DESCRIPTION:BeFitEly Step & Sculpt\nModern cardio step aerobics meets strength sculpting \nGet your heart pumping with dynamic step aerobics while building lean muscle with targeted sculpting exercises using weights. This high-energy class combines the best of both worlds for a complete workout experience. \n\nCardio step aerobics\nSculpting with weights\nHigh-energy music\nAll fitness levels welcome\n\n  \nNo Sign Up – Just Come to Class. Learn more at BeFitEly.com
URL:https://elynevada.net/event/befitely-step-sculpt/2028-09-26/
LOCATION:740 Autlman Street\, 740 Aultman Street\, Ely\, NV\, 89301\, United States
CATEGORIES:Community,Sports
ATTACH;FMTTYPE=image/jpeg:https://elynevada.net/wp-content/uploads/2026/01/BeFitEly-Step-Sculpt.jpg
ORGANIZER;CN="BeFitEly":MAILTO:info@allaboardely.com
END:VEVENT
BEGIN:VEVENT
DTSTART;TZID=America/Los_Angeles:20280928T170000
DTEND;TZID=America/Los_Angeles:20280928T180000
DTSTAMP:20260424T142657
CREATED:20260127T211512Z
LAST-MODIFIED:20260127T211513Z
UID:10004700-1853773200-1853776800@elynevada.net
SUMMARY:BeFitEly Step & Sculpt
DESCRIPTION:BeFitEly Step & Sculpt\nModern cardio step aerobics meets strength sculpting \nGet your heart pumping with dynamic step aerobics while building lean muscle with targeted sculpting exercises using weights. This high-energy class combines the best of both worlds for a complete workout experience. \n\nCardio step aerobics\nSculpting with weights\nHigh-energy music\nAll fitness levels welcome\n\n  \nNo Sign Up – Just Come to Class. Learn more at BeFitEly.com
URL:https://elynevada.net/event/befitely-step-sculpt/2028-09-28/
LOCATION:740 Autlman Street\, 740 Aultman Street\, Ely\, NV\, 89301\, United States
CATEGORIES:Community,Sports
ATTACH;FMTTYPE=image/jpeg:https://elynevada.net/wp-content/uploads/2026/01/BeFitEly-Step-Sculpt.jpg
ORGANIZER;CN="BeFitEly":MAILTO:info@allaboardely.com
END:VEVENT
END:VCALENDAR