BEGIN:VCALENDAR
VERSION:2.0
PRODID:-//Welcome To Ely - ECPv6.15.20//NONSGML v1.0//EN
CALSCALE:GREGORIAN
METHOD:PUBLISH
X-ORIGINAL-URL:https://elynevada.net
X-WR-CALDESC:Events for Welcome To Ely
REFRESH-INTERVAL;VALUE=DURATION:PT1H
X-Robots-Tag:noindex
X-PUBLISHED-TTL:PT1H
BEGIN:VTIMEZONE
TZID:UTC
BEGIN:STANDARD
TZOFFSETFROM:+0000
TZOFFSETTO:+0000
TZNAME:UTC
DTSTART:20220101T000000
END:STANDARD
END:VTIMEZONE
BEGIN:VEVENT
DTSTART;TZID=UTC:20231011T000000
DTEND;TZID=UTC:20231016T235900
DTSTAMP:20260425T163552
CREATED:20230609T011613Z
LAST-MODIFIED:20230609T011642Z
UID:10000560-1696982400-1697500740@elynevada.net
SUMMARY:Ring of Fire Eclipse Festival
DESCRIPTION:Ring of Fire Eclipse Festival\nThe Great American Solar Eclipse is Oct. 14 and White Pine County is in the path of totality for a perfect “Ring of Fire”! Be here for our Ring of Fire Eclipse Festival! \nDiscover the best locations to view the eclipse\, schedule of events\, where to stay\, and all details about our Ring of Fire Festival HERE!\nThe entire county is getting involved for our Ring of Fire Festival! It’s an all-hands-on-deck celebration from Schellbourne to Baker. \nAn annular solar eclipse is when the Moon passes between the Sun and Earth. Such an eclipse raced across the western U.S. back in 2012. This year\, the path for a perfect “Ring of Fire” is here in White Pine County. Learn more for 2023’s Annular Eclipse HERE! \nFestival Events\nOct. 11 – Oct. 16\, 2023 \nWednesday\, Oct. 11\nEly – Great Basin Trails Alliance Group Ride \nFriday\, Oct. 13\nEly – Great Basin Trails Alliance Group Ride\nEly – White Pine Public Museum Aliens\, UFO Event \nSaturday\, Oct. 14\n9:00 A.M. Eclipse\nEly – Lions Club Punkin’ Chunkin’ – 11am -4pm\nEly – White Pine Chamber of Commerce Pub Crawl –5pm-7pm\nEly – Open House Event at Yelland Field – All Day \nMonday\, Oct 16\nEly – Great Basin Trails Alliance Group Ride
URL:https://elynevada.net/event/ring-of-fire-eclipse-festival/
LOCATION:Ely\, NV\, 89301\, United States
CATEGORIES:Arts & Culture,Community,History
ATTACH;FMTTYPE=image/png:https://elynevada.net/wp-content/uploads/2023/06/2-Eclipse-Logo-Color-No-Text.png
ORGANIZER;CN="White PIne County Tourism and Recreation":MAILTO:nicole.collard@elynevada.net
END:VEVENT
BEGIN:VEVENT
DTSTART;TZID=UTC:20231014T090000
DTEND;TZID=UTC:20231014T120000
DTSTAMP:20260425T163552
CREATED:20230124T053958Z
LAST-MODIFIED:20230610T022724Z
UID:10000515-1697274000-1697284800@elynevada.net
SUMMARY:Snake Valley Farmers Market
DESCRIPTION:Snake Valley Farmers Market\nCome join us at the market located at the Baker Community Church Pavilion\, and discover what our local gardeners\, artisans\, bakers\, photographers\, coffee roasters have to offer.
URL:https://elynevada.net/event/snake-valley-farmers-market/2023-10-14/
LOCATION:Baker Community Church Pavilion\, 315 Saval Ave.\, Baker\, NV\, 89311\, United States
CATEGORIES:Community
ATTACH;FMTTYPE=image/jpeg:https://elynevada.net/wp-content/uploads/2022/01/The-Heart-of-Great-Basin.jpeg
END:VEVENT
BEGIN:VEVENT
DTSTART;TZID=UTC:20231014T100000
DTEND;TZID=UTC:20231014T170000
DTSTAMP:20260425T163552
CREATED:20220816T050145Z
LAST-MODIFIED:20230815T010800Z
UID:10000473-1697277600-1697302800@elynevada.net
SUMMARY:Lions Club Punkin' Chunkin'
DESCRIPTION:Lions Club Punkin’ Chunkin’\nThe Ely Lions Club’s Punkin Chunkin’ returns to White Pine County once again! And\, once again\, expect fun\, food\, games\, prizes\, and an exciting time. Fun for the whole family! \nThis year\, the Punkin’ Chunkin’ has gone Medieval! \nPumpkins will fly\, knights will battle and the skies will darken as Punkin Chunkin’ returns to Ely\, Nevada.\nCelebrating its 10th event\, Punkin Chunkin’ 2023 will feature its traditional assortment of food\, music\, feats of strength\, games\, bounce houses.\nIn addition\, armored knights will fight and a renaissance faire atmosphere will permeate the air\, with a costume contest and prizes.\nAn annular eclipse will mark the commencement of the festivities!\nYou don’t want to miss this full day of autumnal activities and medieval merriment!\n\nAlso expect the usual pumpkin patch\, Punkin’ Chunkin’ throwing contest\, pumpkin drops\, bounce house and carnival games\, and music and food. Hope to see you this October! \nDiscover More Events of White Pine County HERE!
URL:https://elynevada.net/event/lions-club-punkin-chunkin/
LOCATION:Veteran’s Memorial Park\, 801 Clark Street\, Ely\, NV\, 89301\, United States
CATEGORIES:Arts & Culture,Community,Sports
ATTACH;FMTTYPE=image/jpeg:https://elynevada.net/wp-content/uploads/2022/08/Punkin-Chunkin_2023_1640x856.jpg
ORGANIZER;CN="Ely Lions Club":MAILTO:elylions@hotmail.com
END:VEVENT
END:VCALENDAR