BEGIN:VCALENDAR
VERSION:2.0
PRODID:-//Welcome To Ely - ECPv6.15.20//NONSGML v1.0//EN
CALSCALE:GREGORIAN
METHOD:PUBLISH
X-ORIGINAL-URL:https://elynevada.net
X-WR-CALDESC:Events for Welcome To Ely
REFRESH-INTERVAL;VALUE=DURATION:PT1H
X-Robots-Tag:noindex
X-PUBLISHED-TTL:PT1H
BEGIN:VTIMEZONE
TZID:UTC
BEGIN:STANDARD
TZOFFSETFROM:+0000
TZOFFSETTO:+0000
TZNAME:UTC
DTSTART:20230101T000000
END:STANDARD
END:VTIMEZONE
BEGIN:VEVENT
DTSTART;TZID=UTC:20240127T080000
DTEND;TZID=UTC:20240127T150000
DTSTAMP:20260425T034313
CREATED:20221104T054921Z
LAST-MODIFIED:20240119T061439Z
UID:10000494-1706342400-1706367600@elynevada.net
SUMMARY:Rotary Club Ice Derby - 2024
DESCRIPTION:CANCELLED DUE TO UNSAFE CONDITIONS\nRotary Club Ice Fishing Derby – 2024\nThe ice fishing event of the year is right here in White Pine County on January 28th! Join the community and others for the 2023 Rotary Club of Ely Ice Fishing Derby at Comins Lake. \nEntry is $45. The VIP entry is $20 extra\, which enters you in a second drawing if you catch a tagged fish. \nPre-Registration will be during 4:30pm – 7:30pm at the Bristlecone Convention Center. The Registration Form Found HERE! \nThe fishing begins at Comins Lake at 8:00 a.m. to 3:00 p.m. on January the 28th.
URL:https://elynevada.net/event/rotary-club-ice-derby-2023/
LOCATION:Comins Lake\, Lake in Nevada\, Ely\, NV\, United States
CATEGORIES:Community,History,Sports
ATTACH;FMTTYPE=image/png:https://elynevada.net/wp-content/uploads/2022/11/Rotary-Club-Ice-Derby-2023.png
ORGANIZER;CN="Ely Rotary Club":MAILTO:elyrotary@gmail.com
END:VEVENT
END:VCALENDAR