BEGIN:VCALENDAR
VERSION:2.0
PRODID:-//Welcome To Ely - ECPv6.15.20//NONSGML v1.0//EN
CALSCALE:GREGORIAN
METHOD:PUBLISH
X-ORIGINAL-URL:https://elynevada.net
X-WR-CALDESC:Events for Welcome To Ely
REFRESH-INTERVAL;VALUE=DURATION:PT1H
X-Robots-Tag:noindex
X-PUBLISHED-TTL:PT1H
BEGIN:VTIMEZONE
TZID:UTC
BEGIN:STANDARD
TZOFFSETFROM:+0000
TZOFFSETTO:+0000
TZNAME:UTC
DTSTART:20230101T000000
END:STANDARD
END:VTIMEZONE
BEGIN:VEVENT
DTSTART;TZID=UTC:20240316T090000
DTEND;TZID=UTC:20240316T140000
DTSTAMP:20260424T195500
CREATED:20240229T060758Z
LAST-MODIFIED:20240229T060759Z
UID:10001442-1710579600-1710597600@elynevada.net
SUMMARY:Book Sale at the Library
DESCRIPTION:Book Sale at the Library
URL:https://elynevada.net/event/book-sale-at-the-library/2024-03-16/
LOCATION:White Pine County Library\, 950 Campton St\, Ely\, NV\, 89301\, United States
CATEGORIES:Community
ATTACH;FMTTYPE=image/jpeg:https://elynevada.net/wp-content/uploads/2024/02/scan0246-scaled.jpg
END:VEVENT
BEGIN:VEVENT
DTSTART;TZID=UTC:20240316T100000
DTEND;TZID=UTC:20240316T120000
DTSTAMP:20260424T195500
CREATED:20200212T052545Z
LAST-MODIFIED:20240119T053112Z
UID:10000235-1710583200-1710590400@elynevada.net
SUMMARY:Turkey Vulture Stretch 5K
DESCRIPTION:Join us for the annual end-of-winter\, welcome-spring\, get-off-the-couch\, Turkey Vulture Stretch 5K! Event is held at Veterans Park Near the duck pond and takes a lap around town. \nOn March 16th\, welcome spring and the turkey vultures return to Ely\, with a 5K run/walk! The event is held at Veterans Park near the duck pond and takes a lap around town.\n\nMedals will be awarded to the top 3 female\, top 3 male\, top 3 kids (10 yrs and younger)\, and top 3 seniors (55+).\n\nTo be eligible for awards you must be chipped timed.\n\nEmail us to get details on group discounts: elyoutdoorenthusiasts@gmail.com\n\nFor event details visit their website at:\nwww.elyoutdoorenthusiasts.org\nAfter the Turkey Vulture Stretch 5K\, look forward to enjoying some of the best dining Ely has to offer!
URL:https://elynevada.net/event/turkey-vulture-stretch-5k-3/
LOCATION:Ely\, NV\, 89301\, United States
CATEGORIES:Community,Races,Sports
ATTACH;FMTTYPE=image/jpeg:https://elynevada.net/wp-content/uploads/2021/02/Turkey-Vultrue-Stretch-5K-2023.jpg
END:VEVENT
BEGIN:VEVENT
DTSTART;TZID=UTC:20240316T100000
DTEND;TZID=UTC:20240316T140000
DTSTAMP:20260424T195500
CREATED:20240229T061911Z
LAST-MODIFIED:20240229T061912Z
UID:10001444-1710583200-1710597600@elynevada.net
SUMMARY:Library Open
DESCRIPTION:Library Open
URL:https://elynevada.net/event/library-open/2024-03-16/
LOCATION:White Pine County Library\, 950 Campton St\, Ely\, NV\, 89301\, United States
CATEGORIES:Community
ATTACH;FMTTYPE=image/jpeg:https://elynevada.net/wp-content/uploads/2024/02/liiiiiiiiiiiiiiiiibbbbbbbbbbbbbbbrrrrrrraaaaaaarrrrrrrrryyyyyyyyyyy.jpg
END:VEVENT
END:VCALENDAR