BEGIN:VCALENDAR
VERSION:2.0
PRODID:-//Welcome To Ely - ECPv6.15.20//NONSGML v1.0//EN
CALSCALE:GREGORIAN
METHOD:PUBLISH
X-WR-CALNAME:Welcome To Ely
X-ORIGINAL-URL:https://elynevada.net
X-WR-CALDESC:Events for Welcome To Ely
REFRESH-INTERVAL;VALUE=DURATION:PT1H
X-Robots-Tag:noindex
X-PUBLISHED-TTL:PT1H
BEGIN:VTIMEZONE
TZID:America/Los_Angeles
BEGIN:DAYLIGHT
TZOFFSETFROM:-0800
TZOFFSETTO:-0700
TZNAME:PDT
DTSTART:20230312T100000
END:DAYLIGHT
BEGIN:STANDARD
TZOFFSETFROM:-0700
TZOFFSETTO:-0800
TZNAME:PST
DTSTART:20231105T090000
END:STANDARD
BEGIN:DAYLIGHT
TZOFFSETFROM:-0800
TZOFFSETTO:-0700
TZNAME:PDT
DTSTART:20240310T100000
END:DAYLIGHT
BEGIN:STANDARD
TZOFFSETFROM:-0700
TZOFFSETTO:-0800
TZNAME:PST
DTSTART:20241103T090000
END:STANDARD
BEGIN:DAYLIGHT
TZOFFSETFROM:-0800
TZOFFSETTO:-0700
TZNAME:PDT
DTSTART:20250309T100000
END:DAYLIGHT
BEGIN:STANDARD
TZOFFSETFROM:-0700
TZOFFSETTO:-0800
TZNAME:PST
DTSTART:20251102T090000
END:STANDARD
END:VTIMEZONE
BEGIN:VEVENT
DTSTART;TZID=America/Los_Angeles:20240409T180000
DTEND;TZID=America/Los_Angeles:20240409T200000
DTSTAMP:20260424T181127
CREATED:20240321T181459Z
LAST-MODIFIED:20240321T181500Z
UID:10002018-1712685600-1712692800@elynevada.net
SUMMARY:Indoor Cornhole League
DESCRIPTION:Boys and Girls Club Indoor Cornhole League\nBoys and Girls Club is hosting an Indoor Cornhole League! Every Tuesday night until April 16th. \n6:00 p.m. \nHosted inside the Bristlecone Convention Center. \nBar Game Nights: Beer\, seltzers & wine. Cash only. \n1st\, 2nd\, & 3rd Prizes \nMore Info: \nTony Enriquez\, tenriquez@dbgctm.org\, (775) 289-4841 Ext. 3110 \nJaime Wood\, High Fitness\, (775) 934-1658 \n  \nStay Up to Date on This Event by Following Us on Facebook!\nInfo on the Eastern Nevada Cornhole Championships HERE!
URL:https://elynevada.net/event/indoor-cornhole-league-2/2024-04-09/
LOCATION:Bristlecone Convention Center\, 150 Sixth Street\, Ely\, NV\, 89301\, United States
CATEGORIES:Community,Sports
ATTACH;FMTTYPE=image/jpeg:https://elynevada.net/wp-content/uploads/2024/01/Boys-and-Girl-Club-Indoor-Cornhole-League.jpg
ORGANIZER;CN="White PIne County Tourism and Recreation":MAILTO:nicole.collard@elynevada.net
END:VEVENT
END:VCALENDAR