BEGIN:VCALENDAR
VERSION:2.0
PRODID:-//Welcome To Ely - ECPv6.15.20//NONSGML v1.0//EN
CALSCALE:GREGORIAN
METHOD:PUBLISH
X-ORIGINAL-URL:https://elynevada.net
X-WR-CALDESC:Events for Welcome To Ely
REFRESH-INTERVAL;VALUE=DURATION:PT1H
X-Robots-Tag:noindex
X-PUBLISHED-TTL:PT1H
BEGIN:VTIMEZONE
TZID:America/Los_Angeles
BEGIN:DAYLIGHT
TZOFFSETFROM:-0800
TZOFFSETTO:-0700
TZNAME:PDT
DTSTART:20230312T100000
END:DAYLIGHT
BEGIN:STANDARD
TZOFFSETFROM:-0700
TZOFFSETTO:-0800
TZNAME:PST
DTSTART:20231105T090000
END:STANDARD
BEGIN:DAYLIGHT
TZOFFSETFROM:-0800
TZOFFSETTO:-0700
TZNAME:PDT
DTSTART:20240310T100000
END:DAYLIGHT
BEGIN:STANDARD
TZOFFSETFROM:-0700
TZOFFSETTO:-0800
TZNAME:PST
DTSTART:20241103T090000
END:STANDARD
BEGIN:DAYLIGHT
TZOFFSETFROM:-0800
TZOFFSETTO:-0700
TZNAME:PDT
DTSTART:20250309T100000
END:DAYLIGHT
BEGIN:STANDARD
TZOFFSETFROM:-0700
TZOFFSETTO:-0800
TZNAME:PST
DTSTART:20251102T090000
END:STANDARD
END:VTIMEZONE
BEGIN:VEVENT
DTSTART;VALUE=DATE:20240629
DTEND;VALUE=DATE:20240630
DTSTAMP:20260424T113725
CREATED:20240523T235710Z
LAST-MODIFIED:20240523T235729Z
UID:10002820-1719619200-1719705599@elynevada.net
SUMMARY:Water for Wildlife
DESCRIPTION:Water for Wildlife Volunteer Guzzler Build\nJoin family and friends on June 29\, 2024 to build a new big game guzzler\, intended to provide water to elk and other big game species. \nThe build site is located in the North Steptoe Chaining area\, 8.2 miles from the Ward Charcoal Ovens State Park (approximately 30 miles from Ely and 210 miles from Elko). \nWork\, Camp\, Eat\, Have Fun! \nCome out for just the build day on the 29th\, or camp with the group the 28th-30th. Meals will be provided at basecamp throughout the weekend. EBU will host a raffle after the build! \nRSVP: nicole.hamblin@ndow.org \n(775) 777-2388 \nNevada.volunteers.kalkomey.com
URL:https://elynevada.net/event/water-for-wildlife/
LOCATION:NV
CATEGORIES:Community
ATTACH;FMTTYPE=image/jpeg:https://elynevada.net/wp-content/uploads/2024/05/2024-ER-VOLUNTEER-GUZZLER-FLYER-3_00001.jpg
END:VEVENT
BEGIN:VEVENT
DTSTART;TZID=America/Los_Angeles:20240629T100000
DTEND;TZID=America/Los_Angeles:20240629T160000
DTSTAMP:20260424T113725
CREATED:20220126T050016Z
LAST-MODIFIED:20240503T214517Z
UID:10002743-1719655200-1719676800@elynevada.net
SUMMARY:Ely Renaissance Village Open
DESCRIPTION:Ely Renaissance Village Open!\nFor the ultimate heritage experience of White Pine County\, the Ely Renaissance Village may top the list.\nTour a total of nine houses\, seven of which have each been themed after a different ethnic background that helped shape our community. The Village is made for vacation planning and is open Fridays and Saturdays in the summer. Check out the 360 video below\, which allows you to click and drag different views as it provides you a feel for the site before visiting it in person: https://bit.ly/3hGMr5d\n\nLearn More Here!\n\nTravel Nevada
URL:https://elynevada.net/event/ely-renaissance-village-open/2024-06-29/
LOCATION:Ely Renaissance Village\, 400\, Ely\, NV\, 89301\, United States
CATEGORIES:Community,History
ATTACH;FMTTYPE=image/jpeg:https://elynevada.net/wp-content/uploads/2022/01/CoopyRenVillage4_SM.jpg
END:VEVENT
END:VCALENDAR