BEGIN:VCALENDAR
VERSION:2.0
PRODID:-//Welcome To Ely - ECPv6.15.20//NONSGML v1.0//EN
CALSCALE:GREGORIAN
METHOD:PUBLISH
X-WR-CALNAME:Welcome To Ely
X-ORIGINAL-URL:https://elynevada.net
X-WR-CALDESC:Events for Welcome To Ely
REFRESH-INTERVAL;VALUE=DURATION:PT1H
X-Robots-Tag:noindex
X-PUBLISHED-TTL:PT1H
BEGIN:VTIMEZONE
TZID:America/Los_Angeles
BEGIN:DAYLIGHT
TZOFFSETFROM:-0800
TZOFFSETTO:-0700
TZNAME:PDT
DTSTART:20230312T100000
END:DAYLIGHT
BEGIN:STANDARD
TZOFFSETFROM:-0700
TZOFFSETTO:-0800
TZNAME:PST
DTSTART:20231105T090000
END:STANDARD
BEGIN:DAYLIGHT
TZOFFSETFROM:-0800
TZOFFSETTO:-0700
TZNAME:PDT
DTSTART:20240310T100000
END:DAYLIGHT
BEGIN:STANDARD
TZOFFSETFROM:-0700
TZOFFSETTO:-0800
TZNAME:PST
DTSTART:20241103T090000
END:STANDARD
BEGIN:DAYLIGHT
TZOFFSETFROM:-0800
TZOFFSETTO:-0700
TZNAME:PDT
DTSTART:20250309T100000
END:DAYLIGHT
BEGIN:STANDARD
TZOFFSETFROM:-0700
TZOFFSETTO:-0800
TZNAME:PST
DTSTART:20251102T090000
END:STANDARD
END:VTIMEZONE
BEGIN:VEVENT
DTSTART;VALUE=DATE:20240830
DTEND;VALUE=DATE:20240902
DTSTAMP:20260424T025022
CREATED:20200710T060533Z
LAST-MODIFIED:20240813T174120Z
UID:10000131-1724976000-1725235199@elynevada.net
SUMMARY:McGill's Annual Labor Day Weekend
DESCRIPTION:McGill’s Annual Labor Day Weekend\nCome join the White Pine Community in McGill to celebrate McGill’s Annual Labor Day weekend. \n \nWe will be kicking off the festivities with a parade on Main Street. Line up for the parade will be behind the McGill grade school at 5:30 p.m. . The parade will start at 4th and Avenue G and go to 4th and Avenue K where the street dance will begin. There will be locals selling food! The McGill volunteer fire department will have a full bar set up for your enjoyment. Please drink responsibly. The street dance will go from 6:30 p.m. to 11 pm. \nSaturday at the McGill Swimming Pool there will be the annual “Big Splash” town barbecue starting at 11 a.m. The McGill town council has provided free hot dogs and hamburgers for the community . We will also have vendor booths\, a bounce house for all kids to enjoy and other activities. Please remember the McGill Swimming Pool is free and they have they’re big splash for the end of summer with all kind of games for children. \nSunday starting at 4:00 p.m. at the McGill baseball park we will have our softball game McGill fire department vs White Pine County Sheriff’s Office. There is a $2 gate fee all proceeds will go to the MRA for the ballpark fund. Fireworks will be provided by Great Basin Pyrotechnics at 9 p.m. at the McGill ballpark. We hope to see you all there! \n \nFind Out What More To Do In White Pine HERE!
URL:https://elynevada.net/event/mcgills-annual-labor-day-weekend/
LOCATION:McGill\, Nevada\, McGill\, NV\, 89318\, United States
CATEGORIES:Arts & Culture,Community,History
ATTACH;FMTTYPE=image/png:https://elynevada.net/wp-content/uploads/2020/07/Copy-of-Untitled-Design-9.png
END:VEVENT
BEGIN:VEVENT
DTSTART;TZID=America/Los_Angeles:20240831T100000
DTEND;TZID=America/Los_Angeles:20240831T160000
DTSTAMP:20260424T025022
CREATED:20220126T050016Z
LAST-MODIFIED:20240503T214517Z
UID:10002761-1725098400-1725120000@elynevada.net
SUMMARY:Ely Renaissance Village Open
DESCRIPTION:Ely Renaissance Village Open!\nFor the ultimate heritage experience of White Pine County\, the Ely Renaissance Village may top the list.\nTour a total of nine houses\, seven of which have each been themed after a different ethnic background that helped shape our community. The Village is made for vacation planning and is open Fridays and Saturdays in the summer. Check out the 360 video below\, which allows you to click and drag different views as it provides you a feel for the site before visiting it in person: https://bit.ly/3hGMr5d\n\nLearn More Here!\n\nTravel Nevada
URL:https://elynevada.net/event/ely-renaissance-village-open/2024-08-31/
LOCATION:Ely Renaissance Village\, 400\, Ely\, NV\, 89301\, United States
CATEGORIES:Community,History
ATTACH;FMTTYPE=image/jpeg:https://elynevada.net/wp-content/uploads/2022/01/CoopyRenVillage4_SM.jpg
END:VEVENT
END:VCALENDAR