BEGIN:VCALENDAR
VERSION:2.0
PRODID:-//Welcome To Ely - ECPv6.15.20//NONSGML v1.0//EN
CALSCALE:GREGORIAN
METHOD:PUBLISH
X-WR-CALNAME:Welcome To Ely
X-ORIGINAL-URL:https://elynevada.net
X-WR-CALDESC:Events for Welcome To Ely
REFRESH-INTERVAL;VALUE=DURATION:PT1H
X-Robots-Tag:noindex
X-PUBLISHED-TTL:PT1H
BEGIN:VTIMEZONE
TZID:America/Los_Angeles
BEGIN:DAYLIGHT
TZOFFSETFROM:-0800
TZOFFSETTO:-0700
TZNAME:PDT
DTSTART:20230312T100000
END:DAYLIGHT
BEGIN:STANDARD
TZOFFSETFROM:-0700
TZOFFSETTO:-0800
TZNAME:PST
DTSTART:20231105T090000
END:STANDARD
BEGIN:DAYLIGHT
TZOFFSETFROM:-0800
TZOFFSETTO:-0700
TZNAME:PDT
DTSTART:20240310T100000
END:DAYLIGHT
BEGIN:STANDARD
TZOFFSETFROM:-0700
TZOFFSETTO:-0800
TZNAME:PST
DTSTART:20241103T090000
END:STANDARD
BEGIN:DAYLIGHT
TZOFFSETFROM:-0800
TZOFFSETTO:-0700
TZNAME:PDT
DTSTART:20250309T100000
END:DAYLIGHT
BEGIN:STANDARD
TZOFFSETFROM:-0700
TZOFFSETTO:-0800
TZNAME:PST
DTSTART:20251102T090000
END:STANDARD
END:VTIMEZONE
BEGIN:VEVENT
DTSTART;TZID=America/Los_Angeles:20241012T180000
DTEND;TZID=America/Los_Angeles:20241012T210000
DTSTAMP:20260423T212438
CREATED:20240913T002450Z
LAST-MODIFIED:20241013T012845Z
UID:10003068-1728756000-1728766800@elynevada.net
SUMMARY:Chase the Bear - FREE Concert
DESCRIPTION:Chase the Bear – FREE Concert\nEnjoy a FREE Concert featuring Canadian rock band Chase the Bear at the Bristlecone Convention Center in Ely\, Nevada! This is Chase the Bear’s first tour of America and they’re making a stop Where the World Met and Became One! \nOur Executive Director\, Kyle Horvath\, has been wanting Chase the Bear to make an Ely appearance for years. Now that the band is on their first country-wide tour of America\, they personally called to let us know and asked to book a concert. Timing is everything! \nWhen: October 12th\, 2024 at 7:30 p.m. Doors will open at 5:30 p.m. \nWhere: Bristlecone Convention Center \nPrice: $FREE.99!!! \nNo concert is complete without the right drink in hand and the bar will be open! \n \nChase The Who?\n\n\n\n\nChase The Bear is a Canadian rock band that’s all about the hooks\, adding a dynamic blend of soul and pop influences to their music. The band has performed over 150 shows\, including a sold-out opening slot for The Trews at Vancouver’s iconic Commodore Ballroom. \nStarted as a busking duo and quickly evolving into a 6-piece band of likeminded people who have bonded as brothers and brought their musical chemistry and infectious energy to crowds all over Canada. \nSigned with Vancouver-based record label Rock Is Dead Records  (604 Records/Warner Music Canada) and releasing their debut album “Honey” in 2023. \n2024 promises to be Chase the Bear’s biggest year yet. \nWebsite: Chase The Bear (chasethebearmusic.com) \nSpotify: Chase the Bear | Spotify \nApple Music: ‎Chase the Bear – Apple Music \nAmazon Music: Chase the Bear on Amazon Music Unlimited \nFacebook: Facebook – Chase the Bear \nInstagram: Chase The Bear (@chasethebearmusic) • Instagram photos and videos \nTwitter/X: Chase the Bear (@ChaseThemBears) / X \nTikTok: Chase The Bear (@chasethebearmusic) | TikTok \n  \nComing in and looking to stay the night? Check out our lodging options HERE!\nDon't worry about dining in Ely. We've got you covered HERE!
URL:https://elynevada.net/event/chase-the-bear-free-concert/
LOCATION:Bristlecone Convention Center\, 150 Sixth Street\, Ely\, NV\, 89301\, United States
CATEGORIES:Arts & Culture,Community,Concert
ATTACH;FMTTYPE=image/png:https://elynevada.net/wp-content/uploads/2024/09/Chase-the-Bear-Concert_Facebook-Cover.png
ORGANIZER;CN="White PIne County Tourism and Recreation":MAILTO:nicole.collard@elynevada.net
END:VEVENT
END:VCALENDAR