BEGIN:VCALENDAR
VERSION:2.0
PRODID:-//Welcome To Ely - ECPv6.15.20//NONSGML v1.0//EN
CALSCALE:GREGORIAN
METHOD:PUBLISH
X-ORIGINAL-URL:https://elynevada.net
X-WR-CALDESC:Events for Welcome To Ely
REFRESH-INTERVAL;VALUE=DURATION:PT1H
X-Robots-Tag:noindex
X-PUBLISHED-TTL:PT1H
BEGIN:VTIMEZONE
TZID:UTC
BEGIN:STANDARD
TZOFFSETFROM:+0000
TZOFFSETTO:+0000
TZNAME:UTC
DTSTART:20230101T000000
END:STANDARD
END:VTIMEZONE
BEGIN:VTIMEZONE
TZID:America/Los_Angeles
BEGIN:DAYLIGHT
TZOFFSETFROM:-0800
TZOFFSETTO:-0700
TZNAME:PDT
DTSTART:20230312T100000
END:DAYLIGHT
BEGIN:STANDARD
TZOFFSETFROM:-0700
TZOFFSETTO:-0800
TZNAME:PST
DTSTART:20231105T090000
END:STANDARD
BEGIN:DAYLIGHT
TZOFFSETFROM:-0800
TZOFFSETTO:-0700
TZNAME:PDT
DTSTART:20240310T100000
END:DAYLIGHT
BEGIN:STANDARD
TZOFFSETFROM:-0700
TZOFFSETTO:-0800
TZNAME:PST
DTSTART:20241103T090000
END:STANDARD
BEGIN:DAYLIGHT
TZOFFSETFROM:-0800
TZOFFSETTO:-0700
TZNAME:PDT
DTSTART:20250309T100000
END:DAYLIGHT
BEGIN:STANDARD
TZOFFSETFROM:-0700
TZOFFSETTO:-0800
TZNAME:PST
DTSTART:20251102T090000
END:STANDARD
END:VTIMEZONE
BEGIN:VEVENT
DTSTART;TZID=UTC:20241205T090000
DTEND;TZID=UTC:20241205T170000
DTSTAMP:20260423T184035
CREATED:20221027T044113Z
LAST-MODIFIED:20240131T064949Z
UID:10000729-1733389200-1733418000@elynevada.net
SUMMARY:Ely Festival of Trees
DESCRIPTION:Ely Festival of Trees – 2024\nFestival of Trees is Ely’s annual holiday event hosted by the Great Basin Service Club. Trees are donated and decorated by organizations and businesses throughout White Pine County. You are welcome to come by the Bristlecone Convention Center during extended business hours from Dec. 2nd through the 5th to vote on your favorite trees. Friday\, December 6th will be the tree auction and banquet to raise money for the Service Clubs mission. The convention center will be decked out in full holiday spirit making it a perfect time to come and take family photos. This is the time to start viewing Ely in the eyes of Christmas and get ready for an exciting month. Contact Bunny Hill for more information at (775) 296 – 0439. \nLearn More About Great Basin Service Club HERE!\nDiscover More Holiday Season Events in White Pine County HERE!
URL:https://elynevada.net/event/ely-festival-of-trees/2024-12-05/
LOCATION:Bristlecone Convention Center\, 150 Sixth Street\, Ely\, NV\, 89301\, United States
CATEGORIES:Community,History
ATTACH;FMTTYPE=image/jpeg:https://elynevada.net/wp-content/uploads/2022/10/Festival-O-Trees-2024.jpg
ORGANIZER;CN="Great Basin Service Club":MAILTO:greatbasinserviceclub@yahoo.com
END:VEVENT
BEGIN:VEVENT
DTSTART;TZID=America/Los_Angeles:20241205T154500
DTEND;TZID=America/Los_Angeles:20241205T164500
DTSTAMP:20260423T184035
CREATED:20240321T181611Z
LAST-MODIFIED:20240321T181612Z
UID:10002143-1733413500-1733417100@elynevada.net
SUMMARY:Atlas Club
DESCRIPTION:Atlas Club\nAges 8-10
URL:https://elynevada.net/event/atlas-club-2/2024-12-05/
LOCATION:White Pine County Library\, 950 Campton St\, Ely\, NV\, 89301\, United States
CATEGORIES:Community
ATTACH;FMTTYPE=image/jpeg:https://elynevada.net/wp-content/uploads/2024/02/liiiiiiiiiiiiiiiiibbbbbbbbbbbbbbbrrrrrrraaaaaaarrrrrrrrryyyyyyyyyyy.jpg
END:VEVENT
BEGIN:VEVENT
DTSTART;TZID=America/Los_Angeles:20241205T180000
DTEND;TZID=America/Los_Angeles:20241205T203000
DTSTAMP:20260423T184035
CREATED:20240405T001511Z
LAST-MODIFIED:20240405T001511Z
UID:10002613-1733421600-1733430600@elynevada.net
SUMMARY:Ely Elks Lodge Bingo
DESCRIPTION:Ely Elks Lodge Bingo\nBingo every first Thursday at the Ely Elks Lodge. Hot dogs and Chili are sold. Great time\, great people\, and BINGO!!!
URL:https://elynevada.net/event/ely-elks-lodge-bingo-2/2024-12-05/
LOCATION:Ely Elks Lodge\, 694 Campton St.\, Ely\, NV\, 89301\, United States
CATEGORIES:Community,Sports
ATTACH;FMTTYPE=image/png:https://elynevada.net/wp-content/uploads/2023/01/Ely-Elks-Lodge-Bingo.png
ORGANIZER;CN="Ely Elks Lodge":MAILTO:elyelks1469@att.net
END:VEVENT
END:VCALENDAR