BEGIN:VCALENDAR
VERSION:2.0
PRODID:-//Welcome To Ely - ECPv6.15.20//NONSGML v1.0//EN
CALSCALE:GREGORIAN
METHOD:PUBLISH
X-WR-CALNAME:Welcome To Ely
X-ORIGINAL-URL:https://elynevada.net
X-WR-CALDESC:Events for Welcome To Ely
REFRESH-INTERVAL;VALUE=DURATION:PT1H
X-Robots-Tag:noindex
X-PUBLISHED-TTL:PT1H
BEGIN:VTIMEZONE
TZID:America/Los_Angeles
BEGIN:DAYLIGHT
TZOFFSETFROM:-0800
TZOFFSETTO:-0700
TZNAME:PDT
DTSTART:20230312T100000
END:DAYLIGHT
BEGIN:STANDARD
TZOFFSETFROM:-0700
TZOFFSETTO:-0800
TZNAME:PST
DTSTART:20231105T090000
END:STANDARD
BEGIN:DAYLIGHT
TZOFFSETFROM:-0800
TZOFFSETTO:-0700
TZNAME:PDT
DTSTART:20240310T100000
END:DAYLIGHT
BEGIN:STANDARD
TZOFFSETFROM:-0700
TZOFFSETTO:-0800
TZNAME:PST
DTSTART:20241103T090000
END:STANDARD
BEGIN:DAYLIGHT
TZOFFSETFROM:-0800
TZOFFSETTO:-0700
TZNAME:PDT
DTSTART:20250309T100000
END:DAYLIGHT
BEGIN:STANDARD
TZOFFSETFROM:-0700
TZOFFSETTO:-0800
TZNAME:PST
DTSTART:20251102T090000
END:STANDARD
END:VTIMEZONE
BEGIN:VEVENT
DTSTART;TZID=America/Los_Angeles:20241213T130000
DTEND;TZID=America/Los_Angeles:20241213T150000
DTSTAMP:20260423T184018
CREATED:20241205T234205Z
LAST-MODIFIED:20241205T234206Z
UID:10003094-1734094800-1734102000@elynevada.net
SUMMARY:Holiday Cookie Crawl
DESCRIPTION:Holiday Cookie Crawl\nJoin the Ely community for the Holiday Cookie Crawl\, where you can enjoy delicious cookies from 27 local businesses and discover all the amazing shops in Ely It’s the perfect way to make sweet memories with your loved ones this holiday season. \nGet ready for a festive adventure through Ely. Start at the Bristlecone Convention Center or Desert Rose Ceramics & Crafts to pick up your cookie bag and a list of stops. Then explore\, collect tasty treats\, and make magical holiday memories along the way! \nThis event is just one of many when it comes to White Pine Main Street’s Hometown Holiday celebrations. \nAll the way through December 23rd\, Ely Hometown Holidays are here. Celebrate the season and shop local this holiday! Visit your favorite stores to find unique gifts wile supporting our community. Participating businesses are offering the United by Our Children collectible ornament at a special price of 2 for $30 – perfect for keepsakes or gifts that embody the spirit of White Pine County. \nLearn all about White Pine Main Street’s Hometown Holiday Celebrations HERE!
URL:https://elynevada.net/event/holiday-cookie-crawl/
LOCATION:Downtown Ely\, Aultman St\, Ely\, NV\, 89301\, United States
CATEGORIES:Community
ATTACH;FMTTYPE=image/jpeg:https://elynevada.net/wp-content/uploads/2024/12/holiday-cookie-crawl-2024.jpg
ORGANIZER;CN="White PIne Main Street":MAILTO:whitepinemainstreet@gmail.com
END:VEVENT
END:VCALENDAR