BEGIN:VCALENDAR
VERSION:2.0
PRODID:-//Welcome To Ely - ECPv6.15.20//NONSGML v1.0//EN
CALSCALE:GREGORIAN
METHOD:PUBLISH
X-WR-CALNAME:Welcome To Ely
X-ORIGINAL-URL:https://elynevada.net
X-WR-CALDESC:Events for Welcome To Ely
REFRESH-INTERVAL;VALUE=DURATION:PT1H
X-Robots-Tag:noindex
X-PUBLISHED-TTL:PT1H
BEGIN:VTIMEZONE
TZID:America/Los_Angeles
BEGIN:DAYLIGHT
TZOFFSETFROM:-0800
TZOFFSETTO:-0700
TZNAME:PDT
DTSTART:20240310T100000
END:DAYLIGHT
BEGIN:STANDARD
TZOFFSETFROM:-0700
TZOFFSETTO:-0800
TZNAME:PST
DTSTART:20241103T090000
END:STANDARD
BEGIN:DAYLIGHT
TZOFFSETFROM:-0800
TZOFFSETTO:-0700
TZNAME:PDT
DTSTART:20250309T100000
END:DAYLIGHT
BEGIN:STANDARD
TZOFFSETFROM:-0700
TZOFFSETTO:-0800
TZNAME:PST
DTSTART:20251102T090000
END:STANDARD
BEGIN:DAYLIGHT
TZOFFSETFROM:-0800
TZOFFSETTO:-0700
TZNAME:PDT
DTSTART:20260308T100000
END:DAYLIGHT
BEGIN:STANDARD
TZOFFSETFROM:-0700
TZOFFSETTO:-0800
TZNAME:PST
DTSTART:20261101T090000
END:STANDARD
END:VTIMEZONE
BEGIN:VEVENT
DTSTART;TZID=America/Los_Angeles:20250222T080000
DTEND;TZID=America/Los_Angeles:20250222T150000
DTSTAMP:20260423T143904
CREATED:20241205T022124Z
LAST-MODIFIED:20250123T000859Z
UID:10003085-1740211200-1740236400@elynevada.net
SUMMARY:Rotary Ice Fishing Derby
DESCRIPTION:Rotary Ice Fishing Derby – 2025\nThe ice fishing event of the year is right here in White Pine on February 22nd! Join the community and others for the 2025 Rotary Club of Ely Ice Fishing Derby at Comins Lake. \nEntry is $45. The VIP entry is $20 extra\, which enters you in a second drawing if you catch a tagged fish. \nRotary Ice Fishing Derby Pre-Registration will be the day before from 4:30pm – 7:30pm at the Bristlecone Convention Center. \nThe Registration Form can be found HERE! \nRules for this year can be found HERE! \nFishing begins at Comins Lake at 8:00 a.m. to 3:00 p.m. on February the 22nd. \nWhen snow has fallen here in the high desert\, Ely’s Winter Season is in full swing. Our backcountry terrain has already become legendary to snowmobilers and skiers\, but did you know that White Pine County is the southernmost point in the state for consistent ice fishing? It also happens to be home to some trout and pike populations. If you’ve never given ice fishing a try\, there’s no better time to get outside and drop a line. \nThere’s Illipah Reservoir\, which covers up to 70 surface acres with a maximum depth of 50 feet. Illipah actually receives the most ice in the area\, even in drier winters. \nOf course\, there’s Comins where this year’s Ice Fishing Derby takes place. At capacity\, it covers 401 surface acres\, has a maximum depth of 14 feet\, and an average depth of about 8 feet. \nDiscover More Ice Fishing Opportunities in White Pine County HERE!
URL:https://elynevada.net/event/rotary-ice-fishing-derby/
LOCATION:Comins Lake\, Lake in Nevada\, Ely\, NV\, United States
CATEGORIES:Community,Sports
ATTACH;FMTTYPE=image/jpeg:https://elynevada.net/wp-content/uploads/2024/12/Rotary-Club-Ice-Fishing-Derby-2025.jpg
ORGANIZER;CN="Ely Rotary Club":MAILTO:elyrotary@gmail.com
END:VEVENT
BEGIN:VEVENT
DTSTART;TZID=America/Los_Angeles:20250222T173000
DTEND;TZID=America/Los_Angeles:20250222T200000
DTSTAMP:20260423T143904
CREATED:20250210T232825Z
LAST-MODIFIED:20250210T232826Z
UID:10003430-1740245400-1740254400@elynevada.net
SUMMARY:MOVIE NIGHT: Wicked -- Sing-Along Version
DESCRIPTION:MOVIE NIGHT: Wicked — Sing-Along Version\nMovie night at the Bristlecone General Store! \nSAT. FEB 22nd. 5:30pm. ‘WICKED’ MOVIE NIGHT Sing-Along Version \nWear pink or green! Movie: Free. UNLIMITED Popcorn $5. \nThis movie is thrillifying and scandalacious! Show your braverism and sing-along or just rejoicify and watch the hoi polloi on the big screen. Everyone deserves a chance to fly!
URL:https://elynevada.net/event/movie-night-wicked-sing-along-version/
LOCATION:Bristlecone General Store\, 115 S. Baker Ave.\, Baker\, NV\, 89311\, United States
CATEGORIES:Arts & Culture,Community
ATTACH;FMTTYPE=image/jpeg:https://elynevada.net/wp-content/uploads/2025/02/Wicked-Movie-Night-in-Baker.jpg
ORGANIZER;CN="Bristlecone General Store":MAILTO:stay@stargazernevada.com
END:VEVENT
END:VCALENDAR